BEGIN:VCALENDAR
VERSION:2.0
PRODID:-//Holy Cross Anglican Church - ECPv6.15.20//NONSGML v1.0//EN
CALSCALE:GREGORIAN
METHOD:PUBLISH
X-WR-CALNAME:Holy Cross Anglican Church
X-ORIGINAL-URL:https://www.csanglican.com
X-WR-CALDESC:Events for Holy Cross Anglican Church
REFRESH-INTERVAL;VALUE=DURATION:PT1H
X-Robots-Tag:noindex
X-PUBLISHED-TTL:PT1H
BEGIN:VTIMEZONE
TZID:America/Denver
BEGIN:DAYLIGHT
TZOFFSETFROM:-0700
TZOFFSETTO:-0600
TZNAME:MDT
DTSTART:20250309T090000
END:DAYLIGHT
BEGIN:STANDARD
TZOFFSETFROM:-0600
TZOFFSETTO:-0700
TZNAME:MST
DTSTART:20251102T080000
END:STANDARD
BEGIN:DAYLIGHT
TZOFFSETFROM:-0700
TZOFFSETTO:-0600
TZNAME:MDT
DTSTART:20260308T090000
END:DAYLIGHT
BEGIN:STANDARD
TZOFFSETFROM:-0600
TZOFFSETTO:-0700
TZNAME:MST
DTSTART:20261101T080000
END:STANDARD
BEGIN:DAYLIGHT
TZOFFSETFROM:-0700
TZOFFSETTO:-0600
TZNAME:MDT
DTSTART:20270314T090000
END:DAYLIGHT
BEGIN:STANDARD
TZOFFSETFROM:-0600
TZOFFSETTO:-0700
TZNAME:MST
DTSTART:20271107T080000
END:STANDARD
END:VTIMEZONE
BEGIN:VEVENT
DTSTART;VALUE=DATE:20260418
DTEND;VALUE=DATE:20260419
DTSTAMP:20260419T092431
CREATED:20260205T213712Z
LAST-MODIFIED:20260205T213712Z
UID:10002585-1776470400-1776556799@www.csanglican.com
SUMMARY:St. Ambrose Bishop 397 (transferred) [white]
DESCRIPTION:
URL:https://www.csanglican.com/calendar/st-ambrose-bishop-397-transferred-white/
CATEGORIES:Ordo Calendar
END:VEVENT
BEGIN:VEVENT
DTSTART;TZID=America/Denver:20260418T090000
DTEND;TZID=America/Denver:20260418T103000
DTSTAMP:20260419T092431
CREATED:20260216T213610Z
LAST-MODIFIED:20260407T230850Z
UID:10002725-1776502800-1776508200@www.csanglican.com
SUMMARY:Men's Bible Study
DESCRIPTION:Our Men’s Breakfast and Bible Study meets at the fellowship hall every other Saturday starting at 9:00am. Please RSVP to Mark Smith – mark.gateway2life@gmail.com or 719-245-8593
URL:https://www.csanglican.com/calendar/mens-bible-study/2026-04-18/
LOCATION:Holy Cross Fellowship Hall\, 2713 W Cucharras St.\, Colorado Springs\, CO\, 80904\, United States
ATTACH;FMTTYPE=image/webp:https://www.csanglican.com/wp-content/uploads/2026/02/mens-bible-study.webp
END:VEVENT
END:VCALENDAR