BEGIN:VCALENDAR
VERSION:2.0
PRODID:-//Holy Cross Anglican Church - ECPv6.15.20//NONSGML v1.0//EN
CALSCALE:GREGORIAN
METHOD:PUBLISH
X-WR-CALNAME:Holy Cross Anglican Church
X-ORIGINAL-URL:https://www.csanglican.com
X-WR-CALDESC:Events for Holy Cross Anglican Church
REFRESH-INTERVAL;VALUE=DURATION:PT1H
X-Robots-Tag:noindex
X-PUBLISHED-TTL:PT1H
BEGIN:VTIMEZONE
TZID:America/Denver
BEGIN:DAYLIGHT
TZOFFSETFROM:-0700
TZOFFSETTO:-0600
TZNAME:MDT
DTSTART:20260308T090000
END:DAYLIGHT
BEGIN:STANDARD
TZOFFSETFROM:-0600
TZOFFSETTO:-0700
TZNAME:MST
DTSTART:20261101T080000
END:STANDARD
BEGIN:DAYLIGHT
TZOFFSETFROM:-0700
TZOFFSETTO:-0600
TZNAME:MDT
DTSTART:20270314T090000
END:DAYLIGHT
BEGIN:STANDARD
TZOFFSETFROM:-0600
TZOFFSETTO:-0700
TZNAME:MST
DTSTART:20271107T080000
END:STANDARD
BEGIN:DAYLIGHT
TZOFFSETFROM:-0700
TZOFFSETTO:-0600
TZNAME:MDT
DTSTART:20280312T090000
END:DAYLIGHT
BEGIN:STANDARD
TZOFFSETFROM:-0600
TZOFFSETTO:-0700
TZNAME:MST
DTSTART:20281105T080000
END:STANDARD
END:VTIMEZONE
BEGIN:VEVENT
DTSTART;VALUE=DATE:20270101
DTEND;VALUE=DATE:20270102
DTSTAMP:20260419T073838
CREATED:20260205T221841Z
LAST-MODIFIED:20260205T221841Z
UID:10002675-1798761600-1798847999@www.csanglican.com
SUMMARY:THE CIRCUMCISION OF CHRIST [white]
DESCRIPTION:
URL:https://www.csanglican.com/calendar/the-circumcision-of-christ-white/
CATEGORIES:Ordo Calendar
END:VEVENT
BEGIN:VEVENT
DTSTART;VALUE=DATE:20270103
DTEND;VALUE=DATE:20270104
DTSTAMP:20260419T073838
CREATED:20260205T221842Z
LAST-MODIFIED:20260205T221842Z
UID:10002676-1798934400-1799020799@www.csanglican.com
SUMMARY:SECOND SUNDAY AFTER CHRISTMAS [white]
DESCRIPTION:
URL:https://www.csanglican.com/calendar/second-sunday-after-christmas-white/
CATEGORIES:Ordo Calendar
END:VEVENT
BEGIN:VEVENT
DTSTART;VALUE=DATE:20270106
DTEND;VALUE=DATE:20270107
DTSTAMP:20260419T073838
CREATED:20260205T222042Z
LAST-MODIFIED:20260205T222042Z
UID:10002677-1799193600-1799279999@www.csanglican.com
SUMMARY:THE EPIPHANY OF OUR LORD JESUS CHRIST [white]
DESCRIPTION:
URL:https://www.csanglican.com/calendar/the-epiphany-of-our-lord-jesus-christ-white/
CATEGORIES:Ordo Calendar
END:VEVENT
BEGIN:VEVENT
DTSTART;VALUE=DATE:20270110
DTEND;VALUE=DATE:20270111
DTSTAMP:20260419T073838
CREATED:20260205T222042Z
LAST-MODIFIED:20260205T222042Z
UID:10002678-1799539200-1799625599@www.csanglican.com
SUMMARY:FIRST SUNDAY AFTER EPIPHANY [white]
DESCRIPTION:
URL:https://www.csanglican.com/calendar/first-sunday-after-epiphany-white/
CATEGORIES:Ordo Calendar
END:VEVENT
BEGIN:VEVENT
DTSTART;VALUE=DATE:20270117
DTEND;VALUE=DATE:20270118
DTSTAMP:20260419T073838
CREATED:20260205T222042Z
LAST-MODIFIED:20260205T222042Z
UID:10002679-1800144000-1800230399@www.csanglican.com
SUMMARY:SECOND SUNDAY AFTER EPIPHANY [green]
DESCRIPTION:
URL:https://www.csanglican.com/calendar/second-sunday-after-epiphany-green/
CATEGORIES:Ordo Calendar
END:VEVENT
BEGIN:VEVENT
DTSTART;VALUE=DATE:20270124
DTEND;VALUE=DATE:20270125
DTSTAMP:20260419T073838
CREATED:20260205T222042Z
LAST-MODIFIED:20260205T222042Z
UID:10002680-1800748800-1800835199@www.csanglican.com
SUMMARY:SEPTUAGESIMA [purple]
DESCRIPTION:
URL:https://www.csanglican.com/calendar/septuagesima-purple-2/
CATEGORIES:Ordo Calendar
END:VEVENT
BEGIN:VEVENT
DTSTART;VALUE=DATE:20270125
DTEND;VALUE=DATE:20270126
DTSTAMP:20260419T073838
CREATED:20260205T222043Z
LAST-MODIFIED:20260205T222043Z
UID:10002681-1800835200-1800921599@www.csanglican.com
SUMMARY:CONVERSION OF ST. PAUL THE APOSTLE [white]
DESCRIPTION:
URL:https://www.csanglican.com/calendar/conversion-of-st-paul-the-apostle-white/
CATEGORIES:Ordo Calendar
END:VEVENT
BEGIN:VEVENT
DTSTART;VALUE=DATE:20270126
DTEND;VALUE=DATE:20270127
DTSTAMP:20260419T073838
CREATED:20260205T222242Z
LAST-MODIFIED:20260205T222242Z
UID:10002682-1800921600-1801007999@www.csanglican.com
SUMMARY:St. Polycarp Bishop and Martyr 156 [red]
DESCRIPTION:
URL:https://www.csanglican.com/calendar/st-polycarp-bishop-and-martyr-156-red/
CATEGORIES:Ordo Calendar
END:VEVENT
BEGIN:VEVENT
DTSTART;VALUE=DATE:20270128
DTEND;VALUE=DATE:20270129
DTSTAMP:20260419T073838
CREATED:20260205T222242Z
LAST-MODIFIED:20260205T222242Z
UID:10002683-1801094400-1801180799@www.csanglican.com
SUMMARY:St. Timothy Bishop and Martyr (transferred) [red]
DESCRIPTION:
URL:https://www.csanglican.com/calendar/st-timothy-bishop-and-martyr-transferred-red/
CATEGORIES:Ordo Calendar
END:VEVENT
BEGIN:VEVENT
DTSTART;VALUE=DATE:20270131
DTEND;VALUE=DATE:20270201
DTSTAMP:20260419T073838
CREATED:20260205T222243Z
LAST-MODIFIED:20260205T222243Z
UID:10002684-1801353600-1801439999@www.csanglican.com
SUMMARY:SEXAGESIMA [purple]
DESCRIPTION:
URL:https://www.csanglican.com/calendar/sexagesima-purple-2/
CATEGORIES:Ordo Calendar
END:VEVENT
END:VCALENDAR