BEGIN:VCALENDAR
VERSION:2.0
PRODID:-//Holy Cross Anglican Church - ECPv6.15.20//NONSGML v1.0//EN
CALSCALE:GREGORIAN
METHOD:PUBLISH
X-ORIGINAL-URL:https://www.csanglican.com
X-WR-CALDESC:Events for Holy Cross Anglican Church
REFRESH-INTERVAL;VALUE=DURATION:PT1H
X-Robots-Tag:noindex
X-PUBLISHED-TTL:PT1H
BEGIN:VTIMEZONE
TZID:America/Denver
BEGIN:DAYLIGHT
TZOFFSETFROM:-0700
TZOFFSETTO:-0600
TZNAME:MDT
DTSTART:20250309T090000
END:DAYLIGHT
BEGIN:STANDARD
TZOFFSETFROM:-0600
TZOFFSETTO:-0700
TZNAME:MST
DTSTART:20251102T080000
END:STANDARD
BEGIN:DAYLIGHT
TZOFFSETFROM:-0700
TZOFFSETTO:-0600
TZNAME:MDT
DTSTART:20260308T090000
END:DAYLIGHT
BEGIN:STANDARD
TZOFFSETFROM:-0600
TZOFFSETTO:-0700
TZNAME:MST
DTSTART:20261101T080000
END:STANDARD
BEGIN:DAYLIGHT
TZOFFSETFROM:-0700
TZOFFSETTO:-0600
TZNAME:MDT
DTSTART:20270314T090000
END:DAYLIGHT
BEGIN:STANDARD
TZOFFSETFROM:-0600
TZOFFSETTO:-0700
TZNAME:MST
DTSTART:20271107T080000
END:STANDARD
BEGIN:DAYLIGHT
TZOFFSETFROM:-0700
TZOFFSETTO:-0600
TZNAME:MDT
DTSTART:20280312T090000
END:DAYLIGHT
BEGIN:STANDARD
TZOFFSETFROM:-0600
TZOFFSETTO:-0700
TZNAME:MST
DTSTART:20281105T080000
END:STANDARD
END:VTIMEZONE
BEGIN:VEVENT
DTSTART;VALUE=DATE:20261025
DTEND;VALUE=DATE:20261026
DTSTAMP:20260421T051835
CREATED:20260205T220409Z
LAST-MODIFIED:20260205T220409Z
UID:10002651-1792886400-1792972799@www.csanglican.com
SUMMARY:TWENTY-FIRST SUNDAY AFTER TRINITY [green]
DESCRIPTION:
URL:https://www.csanglican.com/calendar/twenty-first-sunday-after-trinity-green/
CATEGORIES:Ordo Calendar
END:VEVENT
BEGIN:VEVENT
DTSTART;VALUE=DATE:20261028
DTEND;VALUE=DATE:20261029
DTSTAMP:20260421T051835
CREATED:20260205T221230Z
LAST-MODIFIED:20260205T221230Z
UID:10002652-1793145600-1793231999@www.csanglican.com
SUMMARY:ST. SIMON AND ST. JUDE\, APOSTLES [red]
DESCRIPTION:
URL:https://www.csanglican.com/calendar/st-simon-and-st-jude-apostles-red/
CATEGORIES:Ordo Calendar
END:VEVENT
BEGIN:VEVENT
DTSTART;VALUE=DATE:20261101
DTEND;VALUE=DATE:20261102
DTSTAMP:20260421T051835
CREATED:20260205T221231Z
LAST-MODIFIED:20260205T221231Z
UID:10002653-1793491200-1793577599@www.csanglican.com
SUMMARY:ALL SAINTS [white]
DESCRIPTION:
URL:https://www.csanglican.com/calendar/all-saints-white/
CATEGORIES:Ordo Calendar
END:VEVENT
BEGIN:VEVENT
DTSTART;VALUE=DATE:20261101
DTEND;VALUE=DATE:20261102
DTSTAMP:20260421T051835
CREATED:20260205T221231Z
LAST-MODIFIED:20260205T221231Z
UID:10002654-1793491200-1793577599@www.csanglican.com
SUMMARY:TWENTY-SECOND SUNDAY AFTER TRINITY [white]
DESCRIPTION:
URL:https://www.csanglican.com/calendar/twenty-second-sunday-after-trinity-white/
CATEGORIES:Ordo Calendar
END:VEVENT
BEGIN:VEVENT
DTSTART;VALUE=DATE:20261108
DTEND;VALUE=DATE:20261109
DTSTAMP:20260421T051835
CREATED:20260205T221231Z
LAST-MODIFIED:20260205T221231Z
UID:10002655-1794096000-1794182399@www.csanglican.com
SUMMARY:3rd Sunday before Advent [white]
DESCRIPTION:
URL:https://www.csanglican.com/calendar/3rd-sunday-before-advent-white/
CATEGORIES:Ordo Calendar
END:VEVENT
BEGIN:VEVENT
DTSTART;VALUE=DATE:20261108
DTEND;VALUE=DATE:20261109
DTSTAMP:20260421T051835
CREATED:20260205T221231Z
LAST-MODIFIED:20260205T221231Z
UID:10002656-1794096000-1794182399@www.csanglican.com
SUMMARY:TWENTY-THIRD SUNDAY AFTER TRINITY [white]
DESCRIPTION:
URL:https://www.csanglican.com/calendar/twenty-third-sunday-after-trinity-white/
CATEGORIES:Ordo Calendar
END:VEVENT
BEGIN:VEVENT
DTSTART;VALUE=DATE:20261115
DTEND;VALUE=DATE:20261116
DTSTAMP:20260421T051835
CREATED:20260205T221238Z
LAST-MODIFIED:20260205T221238Z
UID:10002657-1794700800-1794787199@www.csanglican.com
SUMMARY:2nd Sunday before Advent [green]
DESCRIPTION:
URL:https://www.csanglican.com/calendar/2nd-sunday-before-advent-green/
CATEGORIES:Ordo Calendar
END:VEVENT
BEGIN:VEVENT
DTSTART;VALUE=DATE:20261115
DTEND;VALUE=DATE:20261116
DTSTAMP:20260421T051835
CREATED:20260205T221238Z
LAST-MODIFIED:20260205T221238Z
UID:10002658-1794700800-1794787199@www.csanglican.com
SUMMARY:TWENTY-FOURTH SUNDAY AFTER TRINITY [green]
DESCRIPTION:
URL:https://www.csanglican.com/calendar/twenty-fourth-sunday-after-trinity-green/
CATEGORIES:Ordo Calendar
END:VEVENT
BEGIN:VEVENT
DTSTART;VALUE=DATE:20261122
DTEND;VALUE=DATE:20261123
DTSTAMP:20260421T051835
CREATED:20260205T221239Z
LAST-MODIFIED:20260205T221239Z
UID:10002659-1795305600-1795391999@www.csanglican.com
SUMMARY:SUNDAY NEXT BEFORE ADVENT [green]
DESCRIPTION:
URL:https://www.csanglican.com/calendar/sunday-next-before-advent-green/
CATEGORIES:Ordo Calendar
END:VEVENT
BEGIN:VEVENT
DTSTART;VALUE=DATE:20261129
DTEND;VALUE=DATE:20261130
DTSTAMP:20260421T051835
CREATED:20260205T221239Z
LAST-MODIFIED:20260205T221239Z
UID:10002660-1795910400-1795996799@www.csanglican.com
SUMMARY:FIRST SUNDAY IN ADVENT [purple]
DESCRIPTION:
URL:https://www.csanglican.com/calendar/first-sunday-in-advent-purple/
CATEGORIES:Ordo Calendar
END:VEVENT
BEGIN:VEVENT
DTSTART;VALUE=DATE:20261130
DTEND;VALUE=DATE:20261201
DTSTAMP:20260421T051835
CREATED:20260205T221239Z
LAST-MODIFIED:20260205T221239Z
UID:10002661-1795996800-1796083199@www.csanglican.com
SUMMARY:ST. ANDREW THE APOSTLE [red]
DESCRIPTION:
URL:https://www.csanglican.com/calendar/st-andrew-the-apostle-red/
CATEGORIES:Ordo Calendar
END:VEVENT
BEGIN:VEVENT
DTSTART;VALUE=DATE:20261206
DTEND;VALUE=DATE:20261207
DTSTAMP:20260421T051835
CREATED:20260205T221439Z
LAST-MODIFIED:20260205T221439Z
UID:10002662-1796515200-1796601599@www.csanglican.com
SUMMARY:SECOND SUNDAY IN ADVENT [purple]
DESCRIPTION:
URL:https://www.csanglican.com/calendar/second-sunday-in-advent-purple/
CATEGORIES:Ordo Calendar
END:VEVENT
BEGIN:VEVENT
DTSTART;VALUE=DATE:20261207
DTEND;VALUE=DATE:20261208
DTSTAMP:20260421T051835
CREATED:20260205T221439Z
LAST-MODIFIED:20260205T221439Z
UID:10002663-1796601600-1796687999@www.csanglican.com
SUMMARY:St. Nicholas Bishop c. 342 (transferred) [white]
DESCRIPTION:
URL:https://www.csanglican.com/calendar/st-nicholas-bishop-c-342-transferred-white/
CATEGORIES:Ordo Calendar
END:VEVENT
BEGIN:VEVENT
DTSTART;VALUE=DATE:20261213
DTEND;VALUE=DATE:20261214
DTSTAMP:20260421T051835
CREATED:20260205T221439Z
LAST-MODIFIED:20260205T221439Z
UID:10002664-1797120000-1797206399@www.csanglican.com
SUMMARY:THIRD SUNDAY IN ADVENT [rose]
DESCRIPTION:
URL:https://www.csanglican.com/calendar/third-sunday-in-advent-rose/
CATEGORIES:Ordo Calendar
END:VEVENT
BEGIN:VEVENT
DTSTART;VALUE=DATE:20261216
DTEND;VALUE=DATE:20261217
DTSTAMP:20260421T051835
CREATED:20260205T221439Z
LAST-MODIFIED:20260205T221439Z
UID:10002665-1797379200-1797465599@www.csanglican.com
SUMMARY:Ember Day [purple]
DESCRIPTION:
URL:https://www.csanglican.com/calendar/ember-day-purple-7/
CATEGORIES:Ordo Calendar
END:VEVENT
BEGIN:VEVENT
DTSTART;VALUE=DATE:20261218
DTEND;VALUE=DATE:20261219
DTSTAMP:20260421T051835
CREATED:20260205T221440Z
LAST-MODIFIED:20260205T221440Z
UID:10002666-1797552000-1797638399@www.csanglican.com
SUMMARY:Ember Day [purple]
DESCRIPTION:
URL:https://www.csanglican.com/calendar/ember-day-purple-8/
CATEGORIES:Ordo Calendar
END:VEVENT
BEGIN:VEVENT
DTSTART;VALUE=DATE:20261219
DTEND;VALUE=DATE:20261220
DTSTAMP:20260421T051835
CREATED:20260205T221640Z
LAST-MODIFIED:20260205T221640Z
UID:10002667-1797638400-1797724799@www.csanglican.com
SUMMARY:Ember Day [purple]
DESCRIPTION:
URL:https://www.csanglican.com/calendar/ember-day-purple-9/
CATEGORIES:Ordo Calendar
END:VEVENT
BEGIN:VEVENT
DTSTART;VALUE=DATE:20261220
DTEND;VALUE=DATE:20261221
DTSTAMP:20260421T051835
CREATED:20260205T221640Z
LAST-MODIFIED:20260205T221640Z
UID:10002668-1797724800-1797811199@www.csanglican.com
SUMMARY:FOURTH SUNDAY IN ADVENT [purple]
DESCRIPTION:
URL:https://www.csanglican.com/calendar/fourth-sunday-in-advent-purple/
CATEGORIES:Ordo Calendar
END:VEVENT
BEGIN:VEVENT
DTSTART;VALUE=DATE:20261221
DTEND;VALUE=DATE:20261222
DTSTAMP:20260421T051835
CREATED:20260205T221640Z
LAST-MODIFIED:20260205T221640Z
UID:10002669-1797811200-1797897599@www.csanglican.com
SUMMARY:ST. THOMAS THE APOSTLE [red]
DESCRIPTION:
URL:https://www.csanglican.com/calendar/st-thomas-the-apostle-red/
CATEGORIES:Ordo Calendar
END:VEVENT
BEGIN:VEVENT
DTSTART;VALUE=DATE:20261225
DTEND;VALUE=DATE:20261226
DTSTAMP:20260421T051835
CREATED:20260205T221640Z
LAST-MODIFIED:20260205T221640Z
UID:10002670-1798156800-1798243199@www.csanglican.com
SUMMARY:THE NATIVITY OF OUR LORD JESUS CHRIST [white]
DESCRIPTION:
URL:https://www.csanglican.com/calendar/the-nativity-of-our-lord-jesus-christ-white/
CATEGORIES:Ordo Calendar
END:VEVENT
BEGIN:VEVENT
DTSTART;VALUE=DATE:20261226
DTEND;VALUE=DATE:20261227
DTSTAMP:20260421T051835
CREATED:20260205T221641Z
LAST-MODIFIED:20260205T221641Z
UID:10002671-1798243200-1798329599@www.csanglican.com
SUMMARY:ST. STEPHEN DEACON AND MARTYR [red]
DESCRIPTION:
URL:https://www.csanglican.com/calendar/st-stephen-deacon-and-martyr-red/
CATEGORIES:Ordo Calendar
END:VEVENT
BEGIN:VEVENT
DTSTART;VALUE=DATE:20261227
DTEND;VALUE=DATE:20261228
DTSTAMP:20260421T051835
CREATED:20260205T221841Z
LAST-MODIFIED:20260205T221841Z
UID:10002672-1798329600-1798415999@www.csanglican.com
SUMMARY:FIRST SUNDAY AFTER CHRISTMAS [white]
DESCRIPTION:
URL:https://www.csanglican.com/calendar/first-sunday-after-christmas-white/
CATEGORIES:Ordo Calendar
END:VEVENT
BEGIN:VEVENT
DTSTART;VALUE=DATE:20261227
DTEND;VALUE=DATE:20261228
DTSTAMP:20260421T051835
CREATED:20260205T221841Z
LAST-MODIFIED:20260205T221841Z
UID:10002673-1798329600-1798415999@www.csanglican.com
SUMMARY:ST. JOHN APOSTLE AND EVANGELIST [white]
DESCRIPTION:
URL:https://www.csanglican.com/calendar/st-john-apostle-and-evangelist-white/
CATEGORIES:Ordo Calendar
END:VEVENT
BEGIN:VEVENT
DTSTART;VALUE=DATE:20261228
DTEND;VALUE=DATE:20261229
DTSTAMP:20260421T051835
CREATED:20260205T221841Z
LAST-MODIFIED:20260205T221841Z
UID:10002674-1798416000-1798502399@www.csanglican.com
SUMMARY:THE HOLY INNOCENTS [red]
DESCRIPTION:
URL:https://www.csanglican.com/calendar/the-holy-innocents-red/
CATEGORIES:Ordo Calendar
END:VEVENT
BEGIN:VEVENT
DTSTART;VALUE=DATE:20270101
DTEND;VALUE=DATE:20270102
DTSTAMP:20260421T051835
CREATED:20260205T221841Z
LAST-MODIFIED:20260205T221841Z
UID:10002675-1798761600-1798847999@www.csanglican.com
SUMMARY:THE CIRCUMCISION OF CHRIST [white]
DESCRIPTION:
URL:https://www.csanglican.com/calendar/the-circumcision-of-christ-white/
CATEGORIES:Ordo Calendar
END:VEVENT
BEGIN:VEVENT
DTSTART;VALUE=DATE:20270103
DTEND;VALUE=DATE:20270104
DTSTAMP:20260421T051835
CREATED:20260205T221842Z
LAST-MODIFIED:20260205T221842Z
UID:10002676-1798934400-1799020799@www.csanglican.com
SUMMARY:SECOND SUNDAY AFTER CHRISTMAS [white]
DESCRIPTION:
URL:https://www.csanglican.com/calendar/second-sunday-after-christmas-white/
CATEGORIES:Ordo Calendar
END:VEVENT
BEGIN:VEVENT
DTSTART;VALUE=DATE:20270106
DTEND;VALUE=DATE:20270107
DTSTAMP:20260421T051835
CREATED:20260205T222042Z
LAST-MODIFIED:20260205T222042Z
UID:10002677-1799193600-1799279999@www.csanglican.com
SUMMARY:THE EPIPHANY OF OUR LORD JESUS CHRIST [white]
DESCRIPTION:
URL:https://www.csanglican.com/calendar/the-epiphany-of-our-lord-jesus-christ-white/
CATEGORIES:Ordo Calendar
END:VEVENT
BEGIN:VEVENT
DTSTART;VALUE=DATE:20270110
DTEND;VALUE=DATE:20270111
DTSTAMP:20260421T051835
CREATED:20260205T222042Z
LAST-MODIFIED:20260205T222042Z
UID:10002678-1799539200-1799625599@www.csanglican.com
SUMMARY:FIRST SUNDAY AFTER EPIPHANY [white]
DESCRIPTION:
URL:https://www.csanglican.com/calendar/first-sunday-after-epiphany-white/
CATEGORIES:Ordo Calendar
END:VEVENT
BEGIN:VEVENT
DTSTART;VALUE=DATE:20270117
DTEND;VALUE=DATE:20270118
DTSTAMP:20260421T051835
CREATED:20260205T222042Z
LAST-MODIFIED:20260205T222042Z
UID:10002679-1800144000-1800230399@www.csanglican.com
SUMMARY:SECOND SUNDAY AFTER EPIPHANY [green]
DESCRIPTION:
URL:https://www.csanglican.com/calendar/second-sunday-after-epiphany-green/
CATEGORIES:Ordo Calendar
END:VEVENT
BEGIN:VEVENT
DTSTART;VALUE=DATE:20270124
DTEND;VALUE=DATE:20270125
DTSTAMP:20260421T051835
CREATED:20260205T222042Z
LAST-MODIFIED:20260205T222042Z
UID:10002680-1800748800-1800835199@www.csanglican.com
SUMMARY:SEPTUAGESIMA [purple]
DESCRIPTION:
URL:https://www.csanglican.com/calendar/septuagesima-purple-2/
CATEGORIES:Ordo Calendar
END:VEVENT
END:VCALENDAR