BEGIN:VCALENDAR
VERSION:2.0
PRODID:-//Holy Cross Anglican Church - ECPv6.15.20//NONSGML v1.0//EN
CALSCALE:GREGORIAN
METHOD:PUBLISH
X-WR-CALNAME:Holy Cross Anglican Church
X-ORIGINAL-URL:https://www.csanglican.com
X-WR-CALDESC:Events for Holy Cross Anglican Church
REFRESH-INTERVAL;VALUE=DURATION:PT1H
X-Robots-Tag:noindex
X-PUBLISHED-TTL:PT1H
BEGIN:VTIMEZONE
TZID:America/Denver
BEGIN:DAYLIGHT
TZOFFSETFROM:-0700
TZOFFSETTO:-0600
TZNAME:MDT
DTSTART:20280312T090000
END:DAYLIGHT
BEGIN:STANDARD
TZOFFSETFROM:-0600
TZOFFSETTO:-0700
TZNAME:MST
DTSTART:20281105T080000
END:STANDARD
BEGIN:DAYLIGHT
TZOFFSETFROM:-0700
TZOFFSETTO:-0600
TZNAME:MDT
DTSTART:20290311T090000
END:DAYLIGHT
BEGIN:STANDARD
TZOFFSETFROM:-0600
TZOFFSETTO:-0700
TZNAME:MST
DTSTART:20291104T080000
END:STANDARD
BEGIN:DAYLIGHT
TZOFFSETFROM:-0700
TZOFFSETTO:-0600
TZNAME:MDT
DTSTART:20300310T090000
END:DAYLIGHT
BEGIN:STANDARD
TZOFFSETFROM:-0600
TZOFFSETTO:-0700
TZNAME:MST
DTSTART:20301103T080000
END:STANDARD
BEGIN:DAYLIGHT
TZOFFSETFROM:-0700
TZOFFSETTO:-0600
TZNAME:MDT
DTSTART:20310309T090000
END:DAYLIGHT
BEGIN:STANDARD
TZOFFSETFROM:-0600
TZOFFSETTO:-0700
TZNAME:MST
DTSTART:20311102T080000
END:STANDARD
END:VTIMEZONE
BEGIN:VEVENT
DTSTART;TZID=America/Denver:20291107T190000
DTEND;TZID=America/Denver:20291107T210000
DTSTAMP:20260424T082139
CREATED:20260407T230348Z
LAST-MODIFIED:20260407T230425Z
UID:10003057-1888772400-1888779600@www.csanglican.com
SUMMARY:Women's Bible Study
DESCRIPTION:Our Women’s Bible study meets every first and third Wednesday of the month at one of our parishioners homes starting at 7pm. Please reach out for more info.
URL:https://www.csanglican.com/calendar/womens-bible-study-2/2029-11-07/
LOCATION:CO
ATTACH;FMTTYPE=image/webp:https://www.csanglican.com/wp-content/uploads/2026/04/womens-bible-study.webp
END:VEVENT
BEGIN:VEVENT
DTSTART;TZID=America/Denver:20291110T090000
DTEND;TZID=America/Denver:20291110T103000
DTSTAMP:20260424T082139
CREATED:20260216T213610Z
LAST-MODIFIED:20260407T230850Z
UID:10002818-1888995600-1889001000@www.csanglican.com
SUMMARY:Men's Bible Study
DESCRIPTION:Our Men’s Breakfast and Bible Study meets at the fellowship hall every other Saturday starting at 9:00am. Please RSVP to Mark Smith – mark.gateway2life@gmail.com or 719-245-8593
URL:https://www.csanglican.com/calendar/mens-bible-study/2029-11-10/
LOCATION:Holy Cross Fellowship Hall\, 2713 W Cucharras St.\, Colorado Springs\, CO\, 80904\, United States
ATTACH;FMTTYPE=image/webp:https://www.csanglican.com/wp-content/uploads/2026/02/mens-bible-study.webp
END:VEVENT
BEGIN:VEVENT
DTSTART;TZID=America/Denver:20291111T110000
DTEND;TZID=America/Denver:20291111T123000
DTSTAMP:20260424T082139
CREATED:20250306T163405Z
LAST-MODIFIED:20250602T152507Z
UID:10000246-1889089200-1889094600@www.csanglican.com
SUMMARY:Holy Communion
DESCRIPTION:The Anglican Church believes that “the Supper of the Lord (Holy Communion\, Eucharist) is not only a sign of the love that Christians ought to have among themselves one to another; but rather it is a Sacrament of our Redemption by Christ’s death: insomuch that to such as rightly\, worthily\, and with faith\, receive the same\, the Bread which we break is a partaking of the Body of Christ; and likewise the Cup of Blessing is a partaking of the Blood of Christ.”
URL:https://www.csanglican.com/calendar/holy-communion/2029-11-11/
LOCATION:Holy Cross Anglican Church\, 2703 W. Cucharras St.\, Colorado Springs\, CO\, 80904\, United States
ATTACH;FMTTYPE=image/jpeg:https://www.csanglican.com/wp-content/uploads/2025/03/DSC_5626-2-e1773930052251.jpg
END:VEVENT
BEGIN:VEVENT
DTSTART;TZID=America/Denver:20291113T073000
DTEND;TZID=America/Denver:20291113T080000
DTSTAMP:20260424T082139
CREATED:20260101T165343Z
LAST-MODIFIED:20260101T165343Z
UID:10002491-1889249400-1889251200@www.csanglican.com
SUMMARY:Morning Prayer (Matins) at Holy Cross
DESCRIPTION:We pray the service of Morning Prayer (Matins) at Holy Cross every Tuesday morning starting at 7:30am. All are welcome to join us for prayer and the reading of Scripture.
URL:https://www.csanglican.com/calendar/morning-prayer-matins-at-holy-cross/2029-11-13/
LOCATION:CO
END:VEVENT
BEGIN:VEVENT
DTSTART;TZID=America/Denver:20291118T110000
DTEND;TZID=America/Denver:20291118T123000
DTSTAMP:20260424T082139
CREATED:20250306T163405Z
LAST-MODIFIED:20250602T152507Z
UID:10000247-1889694000-1889699400@www.csanglican.com
SUMMARY:Holy Communion
DESCRIPTION:The Anglican Church believes that “the Supper of the Lord (Holy Communion\, Eucharist) is not only a sign of the love that Christians ought to have among themselves one to another; but rather it is a Sacrament of our Redemption by Christ’s death: insomuch that to such as rightly\, worthily\, and with faith\, receive the same\, the Bread which we break is a partaking of the Body of Christ; and likewise the Cup of Blessing is a partaking of the Blood of Christ.”
URL:https://www.csanglican.com/calendar/holy-communion/2029-11-18/
LOCATION:Holy Cross Anglican Church\, 2703 W. Cucharras St.\, Colorado Springs\, CO\, 80904\, United States
ATTACH;FMTTYPE=image/jpeg:https://www.csanglican.com/wp-content/uploads/2025/03/DSC_5626-2-e1773930052251.jpg
END:VEVENT
BEGIN:VEVENT
DTSTART;TZID=America/Denver:20291120T073000
DTEND;TZID=America/Denver:20291120T080000
DTSTAMP:20260424T082139
CREATED:20260101T165343Z
LAST-MODIFIED:20260101T165343Z
UID:10002492-1889854200-1889856000@www.csanglican.com
SUMMARY:Morning Prayer (Matins) at Holy Cross
DESCRIPTION:We pray the service of Morning Prayer (Matins) at Holy Cross every Tuesday morning starting at 7:30am. All are welcome to join us for prayer and the reading of Scripture.
URL:https://www.csanglican.com/calendar/morning-prayer-matins-at-holy-cross/2029-11-20/
LOCATION:CO
END:VEVENT
BEGIN:VEVENT
DTSTART;TZID=America/Denver:20291121T190000
DTEND;TZID=America/Denver:20291121T210000
DTSTAMP:20260424T082139
CREATED:20260407T230313Z
LAST-MODIFIED:20260407T230313Z
UID:10002938-1889982000-1889989200@www.csanglican.com
SUMMARY:Women's Bible Study
DESCRIPTION:Our Women’s Bible study meets every first and third Wednesday of the month at one of our parishioners homes starting at 7pm. Please reach out for more info.
URL:https://www.csanglican.com/calendar/womens-bible-study/2029-11-21/
LOCATION:CO
ATTACH;FMTTYPE=image/webp:https://www.csanglican.com/wp-content/uploads/2026/04/womens-bible-study.webp
END:VEVENT
BEGIN:VEVENT
DTSTART;TZID=America/Denver:20291124T090000
DTEND;TZID=America/Denver:20291124T103000
DTSTAMP:20260424T082139
CREATED:20260216T213610Z
LAST-MODIFIED:20260407T230850Z
UID:10002819-1890205200-1890210600@www.csanglican.com
SUMMARY:Men's Bible Study
DESCRIPTION:Our Men’s Breakfast and Bible Study meets at the fellowship hall every other Saturday starting at 9:00am. Please RSVP to Mark Smith – mark.gateway2life@gmail.com or 719-245-8593
URL:https://www.csanglican.com/calendar/mens-bible-study/2029-11-24/
LOCATION:Holy Cross Fellowship Hall\, 2713 W Cucharras St.\, Colorado Springs\, CO\, 80904\, United States
ATTACH;FMTTYPE=image/webp:https://www.csanglican.com/wp-content/uploads/2026/02/mens-bible-study.webp
END:VEVENT
BEGIN:VEVENT
DTSTART;TZID=America/Denver:20291125T110000
DTEND;TZID=America/Denver:20291125T123000
DTSTAMP:20260424T082139
CREATED:20250306T163405Z
LAST-MODIFIED:20250602T152507Z
UID:10000248-1890298800-1890304200@www.csanglican.com
SUMMARY:Holy Communion
DESCRIPTION:The Anglican Church believes that “the Supper of the Lord (Holy Communion\, Eucharist) is not only a sign of the love that Christians ought to have among themselves one to another; but rather it is a Sacrament of our Redemption by Christ’s death: insomuch that to such as rightly\, worthily\, and with faith\, receive the same\, the Bread which we break is a partaking of the Body of Christ; and likewise the Cup of Blessing is a partaking of the Blood of Christ.”
URL:https://www.csanglican.com/calendar/holy-communion/2029-11-25/
LOCATION:Holy Cross Anglican Church\, 2703 W. Cucharras St.\, Colorado Springs\, CO\, 80904\, United States
ATTACH;FMTTYPE=image/jpeg:https://www.csanglican.com/wp-content/uploads/2025/03/DSC_5626-2-e1773930052251.jpg
END:VEVENT
BEGIN:VEVENT
DTSTART;TZID=America/Denver:20291127T073000
DTEND;TZID=America/Denver:20291127T080000
DTSTAMP:20260424T082139
CREATED:20260101T165343Z
LAST-MODIFIED:20260101T165343Z
UID:10002493-1890459000-1890460800@www.csanglican.com
SUMMARY:Morning Prayer (Matins) at Holy Cross
DESCRIPTION:We pray the service of Morning Prayer (Matins) at Holy Cross every Tuesday morning starting at 7:30am. All are welcome to join us for prayer and the reading of Scripture.
URL:https://www.csanglican.com/calendar/morning-prayer-matins-at-holy-cross/2029-11-27/
LOCATION:CO
END:VEVENT
BEGIN:VEVENT
DTSTART;TZID=America/Denver:20291130T190000
DTEND;TZID=America/Denver:20291130T220000
DTSTAMP:20260424T082139
CREATED:20260410T144649Z
LAST-MODIFIED:20260410T144649Z
UID:10003119-1890759600-1890770400@www.csanglican.com
SUMMARY:Men's Casual Fellowship around the Fire
DESCRIPTION:We have a monthly casual men’s fellowship around the fire on the last Friday of the month starting at 7pm. Bring a pipe and a drink to share with the group.
URL:https://www.csanglican.com/calendar/mens-casual-fellowship-around-the-fire/2029-11-30/
LOCATION:CO
ATTACH;FMTTYPE=image/jpeg:https://www.csanglican.com/wp-content/uploads/2026/03/jim-chesek-iqH-MGgYFLg-unsplash-2-scaled.jpg
END:VEVENT
BEGIN:VEVENT
DTSTART;TZID=America/Denver:20291202T110000
DTEND;TZID=America/Denver:20291202T123000
DTSTAMP:20260424T082139
CREATED:20250306T163405Z
LAST-MODIFIED:20250602T152507Z
UID:10000249-1890903600-1890909000@www.csanglican.com
SUMMARY:Holy Communion
DESCRIPTION:The Anglican Church believes that “the Supper of the Lord (Holy Communion\, Eucharist) is not only a sign of the love that Christians ought to have among themselves one to another; but rather it is a Sacrament of our Redemption by Christ’s death: insomuch that to such as rightly\, worthily\, and with faith\, receive the same\, the Bread which we break is a partaking of the Body of Christ; and likewise the Cup of Blessing is a partaking of the Blood of Christ.”
URL:https://www.csanglican.com/calendar/holy-communion/2029-12-02/
LOCATION:Holy Cross Anglican Church\, 2703 W. Cucharras St.\, Colorado Springs\, CO\, 80904\, United States
ATTACH;FMTTYPE=image/jpeg:https://www.csanglican.com/wp-content/uploads/2025/03/DSC_5626-2-e1773930052251.jpg
END:VEVENT
BEGIN:VEVENT
DTSTART;TZID=America/Denver:20291204T073000
DTEND;TZID=America/Denver:20291204T080000
DTSTAMP:20260424T082139
CREATED:20260101T165343Z
LAST-MODIFIED:20260101T165343Z
UID:10002494-1891063800-1891065600@www.csanglican.com
SUMMARY:Morning Prayer (Matins) at Holy Cross
DESCRIPTION:We pray the service of Morning Prayer (Matins) at Holy Cross every Tuesday morning starting at 7:30am. All are welcome to join us for prayer and the reading of Scripture.
URL:https://www.csanglican.com/calendar/morning-prayer-matins-at-holy-cross/2029-12-04/
LOCATION:CO
END:VEVENT
BEGIN:VEVENT
DTSTART;TZID=America/Denver:20291205T190000
DTEND;TZID=America/Denver:20291205T210000
DTSTAMP:20260424T082139
CREATED:20260407T230348Z
LAST-MODIFIED:20260407T230425Z
UID:10003058-1891191600-1891198800@www.csanglican.com
SUMMARY:Women's Bible Study
DESCRIPTION:Our Women’s Bible study meets every first and third Wednesday of the month at one of our parishioners homes starting at 7pm. Please reach out for more info.
URL:https://www.csanglican.com/calendar/womens-bible-study-2/2029-12-05/
LOCATION:CO
ATTACH;FMTTYPE=image/webp:https://www.csanglican.com/wp-content/uploads/2026/04/womens-bible-study.webp
END:VEVENT
BEGIN:VEVENT
DTSTART;TZID=America/Denver:20291208T090000
DTEND;TZID=America/Denver:20291208T103000
DTSTAMP:20260424T082139
CREATED:20260216T213610Z
LAST-MODIFIED:20260407T230850Z
UID:10002820-1891414800-1891420200@www.csanglican.com
SUMMARY:Men's Bible Study
DESCRIPTION:Our Men’s Breakfast and Bible Study meets at the fellowship hall every other Saturday starting at 9:00am. Please RSVP to Mark Smith – mark.gateway2life@gmail.com or 719-245-8593
URL:https://www.csanglican.com/calendar/mens-bible-study/2029-12-08/
LOCATION:Holy Cross Fellowship Hall\, 2713 W Cucharras St.\, Colorado Springs\, CO\, 80904\, United States
ATTACH;FMTTYPE=image/webp:https://www.csanglican.com/wp-content/uploads/2026/02/mens-bible-study.webp
END:VEVENT
BEGIN:VEVENT
DTSTART;TZID=America/Denver:20291209T110000
DTEND;TZID=America/Denver:20291209T123000
DTSTAMP:20260424T082139
CREATED:20250306T163405Z
LAST-MODIFIED:20250602T152507Z
UID:10000250-1891508400-1891513800@www.csanglican.com
SUMMARY:Holy Communion
DESCRIPTION:The Anglican Church believes that “the Supper of the Lord (Holy Communion\, Eucharist) is not only a sign of the love that Christians ought to have among themselves one to another; but rather it is a Sacrament of our Redemption by Christ’s death: insomuch that to such as rightly\, worthily\, and with faith\, receive the same\, the Bread which we break is a partaking of the Body of Christ; and likewise the Cup of Blessing is a partaking of the Blood of Christ.”
URL:https://www.csanglican.com/calendar/holy-communion/2029-12-09/
LOCATION:Holy Cross Anglican Church\, 2703 W. Cucharras St.\, Colorado Springs\, CO\, 80904\, United States
ATTACH;FMTTYPE=image/jpeg:https://www.csanglican.com/wp-content/uploads/2025/03/DSC_5626-2-e1773930052251.jpg
END:VEVENT
BEGIN:VEVENT
DTSTART;TZID=America/Denver:20291211T073000
DTEND;TZID=America/Denver:20291211T080000
DTSTAMP:20260424T082139
CREATED:20260101T165343Z
LAST-MODIFIED:20260101T165343Z
UID:10002495-1891668600-1891670400@www.csanglican.com
SUMMARY:Morning Prayer (Matins) at Holy Cross
DESCRIPTION:We pray the service of Morning Prayer (Matins) at Holy Cross every Tuesday morning starting at 7:30am. All are welcome to join us for prayer and the reading of Scripture.
URL:https://www.csanglican.com/calendar/morning-prayer-matins-at-holy-cross/2029-12-11/
LOCATION:CO
END:VEVENT
BEGIN:VEVENT
DTSTART;TZID=America/Denver:20291216T110000
DTEND;TZID=America/Denver:20291216T123000
DTSTAMP:20260424T082139
CREATED:20250306T163405Z
LAST-MODIFIED:20250602T152507Z
UID:10000251-1892113200-1892118600@www.csanglican.com
SUMMARY:Holy Communion
DESCRIPTION:The Anglican Church believes that “the Supper of the Lord (Holy Communion\, Eucharist) is not only a sign of the love that Christians ought to have among themselves one to another; but rather it is a Sacrament of our Redemption by Christ’s death: insomuch that to such as rightly\, worthily\, and with faith\, receive the same\, the Bread which we break is a partaking of the Body of Christ; and likewise the Cup of Blessing is a partaking of the Blood of Christ.”
URL:https://www.csanglican.com/calendar/holy-communion/2029-12-16/
LOCATION:Holy Cross Anglican Church\, 2703 W. Cucharras St.\, Colorado Springs\, CO\, 80904\, United States
ATTACH;FMTTYPE=image/jpeg:https://www.csanglican.com/wp-content/uploads/2025/03/DSC_5626-2-e1773930052251.jpg
END:VEVENT
BEGIN:VEVENT
DTSTART;TZID=America/Denver:20291218T073000
DTEND;TZID=America/Denver:20291218T080000
DTSTAMP:20260424T082139
CREATED:20260101T165343Z
LAST-MODIFIED:20260101T165343Z
UID:10002496-1892273400-1892275200@www.csanglican.com
SUMMARY:Morning Prayer (Matins) at Holy Cross
DESCRIPTION:We pray the service of Morning Prayer (Matins) at Holy Cross every Tuesday morning starting at 7:30am. All are welcome to join us for prayer and the reading of Scripture.
URL:https://www.csanglican.com/calendar/morning-prayer-matins-at-holy-cross/2029-12-18/
LOCATION:CO
END:VEVENT
BEGIN:VEVENT
DTSTART;TZID=America/Denver:20291219T190000
DTEND;TZID=America/Denver:20291219T210000
DTSTAMP:20260424T082139
CREATED:20260407T230313Z
LAST-MODIFIED:20260407T230313Z
UID:10002939-1892401200-1892408400@www.csanglican.com
SUMMARY:Women's Bible Study
DESCRIPTION:Our Women’s Bible study meets every first and third Wednesday of the month at one of our parishioners homes starting at 7pm. Please reach out for more info.
URL:https://www.csanglican.com/calendar/womens-bible-study/2029-12-19/
LOCATION:CO
ATTACH;FMTTYPE=image/webp:https://www.csanglican.com/wp-content/uploads/2026/04/womens-bible-study.webp
END:VEVENT
BEGIN:VEVENT
DTSTART;TZID=America/Denver:20291222T090000
DTEND;TZID=America/Denver:20291222T103000
DTSTAMP:20260424T082139
CREATED:20260216T213610Z
LAST-MODIFIED:20260407T230850Z
UID:10002821-1892624400-1892629800@www.csanglican.com
SUMMARY:Men's Bible Study
DESCRIPTION:Our Men’s Breakfast and Bible Study meets at the fellowship hall every other Saturday starting at 9:00am. Please RSVP to Mark Smith – mark.gateway2life@gmail.com or 719-245-8593
URL:https://www.csanglican.com/calendar/mens-bible-study/2029-12-22/
LOCATION:Holy Cross Fellowship Hall\, 2713 W Cucharras St.\, Colorado Springs\, CO\, 80904\, United States
ATTACH;FMTTYPE=image/webp:https://www.csanglican.com/wp-content/uploads/2026/02/mens-bible-study.webp
END:VEVENT
BEGIN:VEVENT
DTSTART;TZID=America/Denver:20291223T110000
DTEND;TZID=America/Denver:20291223T123000
DTSTAMP:20260424T082139
CREATED:20250306T163405Z
LAST-MODIFIED:20250602T152507Z
UID:10000252-1892718000-1892723400@www.csanglican.com
SUMMARY:Holy Communion
DESCRIPTION:The Anglican Church believes that “the Supper of the Lord (Holy Communion\, Eucharist) is not only a sign of the love that Christians ought to have among themselves one to another; but rather it is a Sacrament of our Redemption by Christ’s death: insomuch that to such as rightly\, worthily\, and with faith\, receive the same\, the Bread which we break is a partaking of the Body of Christ; and likewise the Cup of Blessing is a partaking of the Blood of Christ.”
URL:https://www.csanglican.com/calendar/holy-communion/2029-12-23/
LOCATION:Holy Cross Anglican Church\, 2703 W. Cucharras St.\, Colorado Springs\, CO\, 80904\, United States
ATTACH;FMTTYPE=image/jpeg:https://www.csanglican.com/wp-content/uploads/2025/03/DSC_5626-2-e1773930052251.jpg
END:VEVENT
BEGIN:VEVENT
DTSTART;TZID=America/Denver:20291225T073000
DTEND;TZID=America/Denver:20291225T080000
DTSTAMP:20260424T082139
CREATED:20260101T165343Z
LAST-MODIFIED:20260101T165343Z
UID:10002497-1892878200-1892880000@www.csanglican.com
SUMMARY:Morning Prayer (Matins) at Holy Cross
DESCRIPTION:We pray the service of Morning Prayer (Matins) at Holy Cross every Tuesday morning starting at 7:30am. All are welcome to join us for prayer and the reading of Scripture.
URL:https://www.csanglican.com/calendar/morning-prayer-matins-at-holy-cross/2029-12-25/
LOCATION:CO
END:VEVENT
BEGIN:VEVENT
DTSTART;TZID=America/Denver:20291226T100000
DTEND;TZID=America/Denver:20291226T103000
DTSTAMP:20260424T082139
CREATED:20251202T163234Z
LAST-MODIFIED:20251202T163234Z
UID:10001490-1892973600-1892975400@www.csanglican.com
SUMMARY:Feast Day of St. Stephen\, Deacon and Martyr
DESCRIPTION:We will celebrate the Prayer Book Feast Day of St. Stephen at Christ Church Anglican with a service of Holy Communion starting at 10am.
URL:https://www.csanglican.com/calendar/feast-day-of-st-stephen-deacon-and-martyr/2029-12-26/
LOCATION:CO
ATTACH;FMTTYPE=image/jpeg:https://www.csanglican.com/wp-content/uploads/2025/12/st.-stephen.jpg
END:VEVENT
BEGIN:VEVENT
DTSTART;TZID=America/Denver:20291227T100000
DTEND;TZID=America/Denver:20291227T103000
DTSTAMP:20260424T082139
CREATED:20251202T163534Z
LAST-MODIFIED:20251202T163534Z
UID:10001495-1893060000-1893061800@www.csanglican.com
SUMMARY:Feast Day of St. John\, Apostle and Evangelist
DESCRIPTION:We will celebrate the Prayer Book Feast Day of St. John at Christ Church Anglican with a service of Holy Communion starting at 10am.
URL:https://www.csanglican.com/calendar/feast-day-of-st-john-apostle-and-evangelist/2029-12-27/
LOCATION:CO
ATTACH;FMTTYPE=image/jpeg:https://www.csanglican.com/wp-content/uploads/2025/12/st.-john.jpg
END:VEVENT
BEGIN:VEVENT
DTSTART;TZID=America/Denver:20291228T110000
DTEND;TZID=America/Denver:20291228T120000
DTSTAMP:20260424T082139
CREATED:20251202T163929Z
LAST-MODIFIED:20251202T164004Z
UID:10001501-1893150000-1893153600@www.csanglican.com
SUMMARY:Feast of The Holy Innocents
DESCRIPTION:We will celebrate the Prayer Book Feast Day of the Holy Innocents during our service of Holy Communion on Sunday morning at our regular time of 11am.
URL:https://www.csanglican.com/calendar/feast-of-the-holy-innocents/2029-12-28/
LOCATION:CO
ATTACH;FMTTYPE=image/jpeg:https://www.csanglican.com/wp-content/uploads/2025/12/holy-innocense.jpeg
END:VEVENT
BEGIN:VEVENT
DTSTART;TZID=America/Denver:20291228T190000
DTEND;TZID=America/Denver:20291228T220000
DTSTAMP:20260424T082139
CREATED:20260410T144649Z
LAST-MODIFIED:20260410T144649Z
UID:10003120-1893178800-1893189600@www.csanglican.com
SUMMARY:Men's Casual Fellowship around the Fire
DESCRIPTION:We have a monthly casual men’s fellowship around the fire on the last Friday of the month starting at 7pm. Bring a pipe and a drink to share with the group.
URL:https://www.csanglican.com/calendar/mens-casual-fellowship-around-the-fire/2029-12-28/
LOCATION:CO
ATTACH;FMTTYPE=image/jpeg:https://www.csanglican.com/wp-content/uploads/2026/03/jim-chesek-iqH-MGgYFLg-unsplash-2-scaled.jpg
END:VEVENT
BEGIN:VEVENT
DTSTART;TZID=America/Denver:20291230T110000
DTEND;TZID=America/Denver:20291230T123000
DTSTAMP:20260424T082139
CREATED:20250306T163405Z
LAST-MODIFIED:20250602T152507Z
UID:10000253-1893322800-1893328200@www.csanglican.com
SUMMARY:Holy Communion
DESCRIPTION:The Anglican Church believes that “the Supper of the Lord (Holy Communion\, Eucharist) is not only a sign of the love that Christians ought to have among themselves one to another; but rather it is a Sacrament of our Redemption by Christ’s death: insomuch that to such as rightly\, worthily\, and with faith\, receive the same\, the Bread which we break is a partaking of the Body of Christ; and likewise the Cup of Blessing is a partaking of the Blood of Christ.”
URL:https://www.csanglican.com/calendar/holy-communion/2029-12-30/
LOCATION:Holy Cross Anglican Church\, 2703 W. Cucharras St.\, Colorado Springs\, CO\, 80904\, United States
ATTACH;FMTTYPE=image/jpeg:https://www.csanglican.com/wp-content/uploads/2025/03/DSC_5626-2-e1773930052251.jpg
END:VEVENT
BEGIN:VEVENT
DTSTART;TZID=America/Denver:20300101T073000
DTEND;TZID=America/Denver:20300101T080000
DTSTAMP:20260424T082139
CREATED:20260101T165343Z
LAST-MODIFIED:20260101T165343Z
UID:10002498-1893483000-1893484800@www.csanglican.com
SUMMARY:Morning Prayer (Matins) at Holy Cross
DESCRIPTION:We pray the service of Morning Prayer (Matins) at Holy Cross every Tuesday morning starting at 7:30am. All are welcome to join us for prayer and the reading of Scripture.
URL:https://www.csanglican.com/calendar/morning-prayer-matins-at-holy-cross/2030-01-01/
LOCATION:CO
END:VEVENT
BEGIN:VEVENT
DTSTART;TZID=America/Denver:20300101T180000
DTEND;TZID=America/Denver:20300101T183000
DTSTAMP:20260424T082139
CREATED:20251202T170311Z
LAST-MODIFIED:20251202T170311Z
UID:10001506-1893520800-1893522600@www.csanglican.com
SUMMARY:Feast Day of the Circumcision of Christ
DESCRIPTION:We will celebrate the Prayer Book Feast Day of the Circumcision of Christ at Holy Cross with a service of Holy Communion starting at 6:00pm.
URL:https://www.csanglican.com/calendar/feast-day-of-the-circumcision-of-christ/2030-01-01/
LOCATION:CO
ATTACH;FMTTYPE=image/jpeg:https://www.csanglican.com/wp-content/uploads/2025/12/cicumcision-of-christ.jpeg
END:VEVENT
END:VCALENDAR