BEGIN:VCALENDAR
VERSION:2.0
PRODID:-//Holy Cross Anglican Church - ECPv6.15.20//NONSGML v1.0//EN
CALSCALE:GREGORIAN
METHOD:PUBLISH
X-WR-CALNAME:Holy Cross Anglican Church
X-ORIGINAL-URL:https://www.csanglican.com
X-WR-CALDESC:Events for Holy Cross Anglican Church
REFRESH-INTERVAL;VALUE=DURATION:PT1H
X-Robots-Tag:noindex
X-PUBLISHED-TTL:PT1H
BEGIN:VTIMEZONE
TZID:America/Denver
BEGIN:DAYLIGHT
TZOFFSETFROM:-0700
TZOFFSETTO:-0600
TZNAME:MDT
DTSTART:20290311T090000
END:DAYLIGHT
BEGIN:STANDARD
TZOFFSETFROM:-0600
TZOFFSETTO:-0700
TZNAME:MST
DTSTART:20291104T080000
END:STANDARD
BEGIN:DAYLIGHT
TZOFFSETFROM:-0700
TZOFFSETTO:-0600
TZNAME:MDT
DTSTART:20300310T090000
END:DAYLIGHT
BEGIN:STANDARD
TZOFFSETFROM:-0600
TZOFFSETTO:-0700
TZNAME:MST
DTSTART:20301103T080000
END:STANDARD
BEGIN:DAYLIGHT
TZOFFSETFROM:-0700
TZOFFSETTO:-0600
TZNAME:MDT
DTSTART:20310309T090000
END:DAYLIGHT
BEGIN:STANDARD
TZOFFSETFROM:-0600
TZOFFSETTO:-0700
TZNAME:MST
DTSTART:20311102T080000
END:STANDARD
END:VTIMEZONE
BEGIN:VEVENT
DTSTART;TZID=America/Denver:20300106T110000
DTEND;TZID=America/Denver:20300106T123000
DTSTAMP:20260424T142508
CREATED:20250306T163405Z
LAST-MODIFIED:20250602T152507Z
UID:10000254-1893927600-1893933000@www.csanglican.com
SUMMARY:Holy Communion
DESCRIPTION:The Anglican Church believes that “the Supper of the Lord (Holy Communion\, Eucharist) is not only a sign of the love that Christians ought to have among themselves one to another; but rather it is a Sacrament of our Redemption by Christ’s death: insomuch that to such as rightly\, worthily\, and with faith\, receive the same\, the Bread which we break is a partaking of the Body of Christ; and likewise the Cup of Blessing is a partaking of the Blood of Christ.”
URL:https://www.csanglican.com/calendar/holy-communion/2030-01-06/
LOCATION:Holy Cross Anglican Church\, 2703 W. Cucharras St.\, Colorado Springs\, CO\, 80904\, United States
ATTACH;FMTTYPE=image/jpeg:https://www.csanglican.com/wp-content/uploads/2025/03/DSC_5626-2-e1773930052251.jpg
END:VEVENT
BEGIN:VEVENT
DTSTART;TZID=America/Denver:20300108T073000
DTEND;TZID=America/Denver:20300108T080000
DTSTAMP:20260424T142508
CREATED:20260101T165343Z
LAST-MODIFIED:20260101T165343Z
UID:10002499-1894087800-1894089600@www.csanglican.com
SUMMARY:Morning Prayer (Matins) at Holy Cross
DESCRIPTION:We pray the service of Morning Prayer (Matins) at Holy Cross every Tuesday morning starting at 7:30am. All are welcome to join us for prayer and the reading of Scripture.
URL:https://www.csanglican.com/calendar/morning-prayer-matins-at-holy-cross/2030-01-08/
LOCATION:CO
END:VEVENT
BEGIN:VEVENT
DTSTART;TZID=America/Denver:20300113T110000
DTEND;TZID=America/Denver:20300113T123000
DTSTAMP:20260424T142508
CREATED:20250306T163405Z
LAST-MODIFIED:20250602T152507Z
UID:10000255-1894532400-1894537800@www.csanglican.com
SUMMARY:Holy Communion
DESCRIPTION:The Anglican Church believes that “the Supper of the Lord (Holy Communion\, Eucharist) is not only a sign of the love that Christians ought to have among themselves one to another; but rather it is a Sacrament of our Redemption by Christ’s death: insomuch that to such as rightly\, worthily\, and with faith\, receive the same\, the Bread which we break is a partaking of the Body of Christ; and likewise the Cup of Blessing is a partaking of the Blood of Christ.”
URL:https://www.csanglican.com/calendar/holy-communion/2030-01-13/
LOCATION:Holy Cross Anglican Church\, 2703 W. Cucharras St.\, Colorado Springs\, CO\, 80904\, United States
ATTACH;FMTTYPE=image/jpeg:https://www.csanglican.com/wp-content/uploads/2025/03/DSC_5626-2-e1773930052251.jpg
END:VEVENT
BEGIN:VEVENT
DTSTART;TZID=America/Denver:20300115T073000
DTEND;TZID=America/Denver:20300115T080000
DTSTAMP:20260424T142508
CREATED:20260101T165343Z
LAST-MODIFIED:20260101T165343Z
UID:10002500-1894692600-1894694400@www.csanglican.com
SUMMARY:Morning Prayer (Matins) at Holy Cross
DESCRIPTION:We pray the service of Morning Prayer (Matins) at Holy Cross every Tuesday morning starting at 7:30am. All are welcome to join us for prayer and the reading of Scripture.
URL:https://www.csanglican.com/calendar/morning-prayer-matins-at-holy-cross/2030-01-15/
LOCATION:CO
END:VEVENT
BEGIN:VEVENT
DTSTART;TZID=America/Denver:20300116T190000
DTEND;TZID=America/Denver:20300116T210000
DTSTAMP:20260424T142508
CREATED:20260407T230313Z
LAST-MODIFIED:20260407T230313Z
UID:10002940-1894820400-1894827600@www.csanglican.com
SUMMARY:Women's Bible Study
DESCRIPTION:Our Women’s Bible study meets every first and third Wednesday of the month at one of our parishioners homes starting at 7pm. Please reach out for more info.
URL:https://www.csanglican.com/calendar/womens-bible-study/2030-01-16/
LOCATION:CO
ATTACH;FMTTYPE=image/webp:https://www.csanglican.com/wp-content/uploads/2026/04/womens-bible-study.webp
END:VEVENT
BEGIN:VEVENT
DTSTART;TZID=America/Denver:20300119T090000
DTEND;TZID=America/Denver:20300119T103000
DTSTAMP:20260424T142508
CREATED:20260216T213610Z
LAST-MODIFIED:20260407T230850Z
UID:10002823-1895043600-1895049000@www.csanglican.com
SUMMARY:Men's Bible Study
DESCRIPTION:Our Men’s Breakfast and Bible Study meets at the fellowship hall every other Saturday starting at 9:00am. Please RSVP to Mark Smith – mark.gateway2life@gmail.com or 719-245-8593
URL:https://www.csanglican.com/calendar/mens-bible-study/2030-01-19/
LOCATION:Holy Cross Fellowship Hall\, 2713 W Cucharras St.\, Colorado Springs\, CO\, 80904\, United States
ATTACH;FMTTYPE=image/webp:https://www.csanglican.com/wp-content/uploads/2026/02/mens-bible-study.webp
END:VEVENT
BEGIN:VEVENT
DTSTART;TZID=America/Denver:20300120T110000
DTEND;TZID=America/Denver:20300120T123000
DTSTAMP:20260424T142508
CREATED:20250306T163405Z
LAST-MODIFIED:20250602T152507Z
UID:10000256-1895137200-1895142600@www.csanglican.com
SUMMARY:Holy Communion
DESCRIPTION:The Anglican Church believes that “the Supper of the Lord (Holy Communion\, Eucharist) is not only a sign of the love that Christians ought to have among themselves one to another; but rather it is a Sacrament of our Redemption by Christ’s death: insomuch that to such as rightly\, worthily\, and with faith\, receive the same\, the Bread which we break is a partaking of the Body of Christ; and likewise the Cup of Blessing is a partaking of the Blood of Christ.”
URL:https://www.csanglican.com/calendar/holy-communion/2030-01-20/
LOCATION:Holy Cross Anglican Church\, 2703 W. Cucharras St.\, Colorado Springs\, CO\, 80904\, United States
ATTACH;FMTTYPE=image/jpeg:https://www.csanglican.com/wp-content/uploads/2025/03/DSC_5626-2-e1773930052251.jpg
END:VEVENT
BEGIN:VEVENT
DTSTART;TZID=America/Denver:20300122T073000
DTEND;TZID=America/Denver:20300122T080000
DTSTAMP:20260424T142508
CREATED:20260101T165343Z
LAST-MODIFIED:20260101T165343Z
UID:10002501-1895297400-1895299200@www.csanglican.com
SUMMARY:Morning Prayer (Matins) at Holy Cross
DESCRIPTION:We pray the service of Morning Prayer (Matins) at Holy Cross every Tuesday morning starting at 7:30am. All are welcome to join us for prayer and the reading of Scripture.
URL:https://www.csanglican.com/calendar/morning-prayer-matins-at-holy-cross/2030-01-22/
LOCATION:CO
END:VEVENT
BEGIN:VEVENT
DTSTART;TZID=America/Denver:20300125T190000
DTEND;TZID=America/Denver:20300125T220000
DTSTAMP:20260424T142508
CREATED:20260410T144649Z
LAST-MODIFIED:20260410T144649Z
UID:10003121-1895598000-1895608800@www.csanglican.com
SUMMARY:Men's Casual Fellowship around the Fire
DESCRIPTION:We have a monthly casual men’s fellowship around the fire on the last Friday of the month starting at 7pm. Bring a pipe and a drink to share with the group.
URL:https://www.csanglican.com/calendar/mens-casual-fellowship-around-the-fire/2030-01-25/
LOCATION:CO
ATTACH;FMTTYPE=image/jpeg:https://www.csanglican.com/wp-content/uploads/2026/03/jim-chesek-iqH-MGgYFLg-unsplash-2-scaled.jpg
END:VEVENT
BEGIN:VEVENT
DTSTART;TZID=America/Denver:20300127T110000
DTEND;TZID=America/Denver:20300127T123000
DTSTAMP:20260424T142508
CREATED:20250306T163405Z
LAST-MODIFIED:20250602T152507Z
UID:10000257-1895742000-1895747400@www.csanglican.com
SUMMARY:Holy Communion
DESCRIPTION:The Anglican Church believes that “the Supper of the Lord (Holy Communion\, Eucharist) is not only a sign of the love that Christians ought to have among themselves one to another; but rather it is a Sacrament of our Redemption by Christ’s death: insomuch that to such as rightly\, worthily\, and with faith\, receive the same\, the Bread which we break is a partaking of the Body of Christ; and likewise the Cup of Blessing is a partaking of the Blood of Christ.”
URL:https://www.csanglican.com/calendar/holy-communion/2030-01-27/
LOCATION:Holy Cross Anglican Church\, 2703 W. Cucharras St.\, Colorado Springs\, CO\, 80904\, United States
ATTACH;FMTTYPE=image/jpeg:https://www.csanglican.com/wp-content/uploads/2025/03/DSC_5626-2-e1773930052251.jpg
END:VEVENT
BEGIN:VEVENT
DTSTART;TZID=America/Denver:20300129T073000
DTEND;TZID=America/Denver:20300129T080000
DTSTAMP:20260424T142508
CREATED:20260101T165343Z
LAST-MODIFIED:20260101T165343Z
UID:10002502-1895902200-1895904000@www.csanglican.com
SUMMARY:Morning Prayer (Matins) at Holy Cross
DESCRIPTION:We pray the service of Morning Prayer (Matins) at Holy Cross every Tuesday morning starting at 7:30am. All are welcome to join us for prayer and the reading of Scripture.
URL:https://www.csanglican.com/calendar/morning-prayer-matins-at-holy-cross/2030-01-29/
LOCATION:CO
END:VEVENT
BEGIN:VEVENT
DTSTART;TZID=America/Denver:20300202T090000
DTEND;TZID=America/Denver:20300202T103000
DTSTAMP:20260424T142508
CREATED:20260216T213610Z
LAST-MODIFIED:20260407T230850Z
UID:10002824-1896253200-1896258600@www.csanglican.com
SUMMARY:Men's Bible Study
DESCRIPTION:Our Men’s Breakfast and Bible Study meets at the fellowship hall every other Saturday starting at 9:00am. Please RSVP to Mark Smith – mark.gateway2life@gmail.com or 719-245-8593
URL:https://www.csanglican.com/calendar/mens-bible-study/2030-02-02/
LOCATION:Holy Cross Fellowship Hall\, 2713 W Cucharras St.\, Colorado Springs\, CO\, 80904\, United States
ATTACH;FMTTYPE=image/webp:https://www.csanglican.com/wp-content/uploads/2026/02/mens-bible-study.webp
END:VEVENT
BEGIN:VEVENT
DTSTART;TZID=America/Denver:20300202T183000
DTEND;TZID=America/Denver:20300202T190000
DTSTAMP:20260424T142508
CREATED:20260128T170346Z
LAST-MODIFIED:20260128T170506Z
UID:10002556-1896287400-1896289200@www.csanglican.com
SUMMARY:Feast Day of the Presentation of Christ in the Temple
DESCRIPTION:Join us at Holy Cross as we celebrate the Prayer Book feast day of the Presentation of Christ at the Temple (commonly called the Purification of St. Mary the Virgin). We will have a service of Holy Communion at 6:30pm followed by drinks and fellowship.
URL:https://www.csanglican.com/calendar/feast-day-of-the-presentation-of-christ-in-the-temple/2030-02-02/
LOCATION:CO
ATTACH;FMTTYPE=image/jpeg:https://www.csanglican.com/wp-content/uploads/2026/01/presentation-of-christ-.jpg
END:VEVENT
BEGIN:VEVENT
DTSTART;TZID=America/Denver:20300203T110000
DTEND;TZID=America/Denver:20300203T123000
DTSTAMP:20260424T142508
CREATED:20250306T163405Z
LAST-MODIFIED:20250602T152507Z
UID:10000258-1896346800-1896352200@www.csanglican.com
SUMMARY:Holy Communion
DESCRIPTION:The Anglican Church believes that “the Supper of the Lord (Holy Communion\, Eucharist) is not only a sign of the love that Christians ought to have among themselves one to another; but rather it is a Sacrament of our Redemption by Christ’s death: insomuch that to such as rightly\, worthily\, and with faith\, receive the same\, the Bread which we break is a partaking of the Body of Christ; and likewise the Cup of Blessing is a partaking of the Blood of Christ.”
URL:https://www.csanglican.com/calendar/holy-communion/2030-02-03/
LOCATION:Holy Cross Anglican Church\, 2703 W. Cucharras St.\, Colorado Springs\, CO\, 80904\, United States
ATTACH;FMTTYPE=image/jpeg:https://www.csanglican.com/wp-content/uploads/2025/03/DSC_5626-2-e1773930052251.jpg
END:VEVENT
BEGIN:VEVENT
DTSTART;TZID=America/Denver:20300205T073000
DTEND;TZID=America/Denver:20300205T080000
DTSTAMP:20260424T142508
CREATED:20260101T165343Z
LAST-MODIFIED:20260101T165343Z
UID:10002503-1896507000-1896508800@www.csanglican.com
SUMMARY:Morning Prayer (Matins) at Holy Cross
DESCRIPTION:We pray the service of Morning Prayer (Matins) at Holy Cross every Tuesday morning starting at 7:30am. All are welcome to join us for prayer and the reading of Scripture.
URL:https://www.csanglican.com/calendar/morning-prayer-matins-at-holy-cross/2030-02-05/
LOCATION:CO
END:VEVENT
BEGIN:VEVENT
DTSTART;TZID=America/Denver:20300206T190000
DTEND;TZID=America/Denver:20300206T210000
DTSTAMP:20260424T142508
CREATED:20260407T230348Z
LAST-MODIFIED:20260407T230425Z
UID:10003060-1896634800-1896642000@www.csanglican.com
SUMMARY:Women's Bible Study
DESCRIPTION:Our Women’s Bible study meets every first and third Wednesday of the month at one of our parishioners homes starting at 7pm. Please reach out for more info.
URL:https://www.csanglican.com/calendar/womens-bible-study-2/2030-02-06/
LOCATION:CO
ATTACH;FMTTYPE=image/webp:https://www.csanglican.com/wp-content/uploads/2026/04/womens-bible-study.webp
END:VEVENT
BEGIN:VEVENT
DTSTART;TZID=America/Denver:20300210T110000
DTEND;TZID=America/Denver:20300210T123000
DTSTAMP:20260424T142508
CREATED:20250306T163405Z
LAST-MODIFIED:20250602T152507Z
UID:10000259-1896951600-1896957000@www.csanglican.com
SUMMARY:Holy Communion
DESCRIPTION:The Anglican Church believes that “the Supper of the Lord (Holy Communion\, Eucharist) is not only a sign of the love that Christians ought to have among themselves one to another; but rather it is a Sacrament of our Redemption by Christ’s death: insomuch that to such as rightly\, worthily\, and with faith\, receive the same\, the Bread which we break is a partaking of the Body of Christ; and likewise the Cup of Blessing is a partaking of the Blood of Christ.”
URL:https://www.csanglican.com/calendar/holy-communion/2030-02-10/
LOCATION:Holy Cross Anglican Church\, 2703 W. Cucharras St.\, Colorado Springs\, CO\, 80904\, United States
ATTACH;FMTTYPE=image/jpeg:https://www.csanglican.com/wp-content/uploads/2025/03/DSC_5626-2-e1773930052251.jpg
END:VEVENT
BEGIN:VEVENT
DTSTART;TZID=America/Denver:20300212T073000
DTEND;TZID=America/Denver:20300212T080000
DTSTAMP:20260424T142508
CREATED:20260101T165343Z
LAST-MODIFIED:20260101T165343Z
UID:10002504-1897111800-1897113600@www.csanglican.com
SUMMARY:Morning Prayer (Matins) at Holy Cross
DESCRIPTION:We pray the service of Morning Prayer (Matins) at Holy Cross every Tuesday morning starting at 7:30am. All are welcome to join us for prayer and the reading of Scripture.
URL:https://www.csanglican.com/calendar/morning-prayer-matins-at-holy-cross/2030-02-12/
LOCATION:CO
END:VEVENT
BEGIN:VEVENT
DTSTART;TZID=America/Denver:20300216T090000
DTEND;TZID=America/Denver:20300216T103000
DTSTAMP:20260424T142508
CREATED:20260216T213610Z
LAST-MODIFIED:20260407T230850Z
UID:10002825-1897462800-1897468200@www.csanglican.com
SUMMARY:Men's Bible Study
DESCRIPTION:Our Men’s Breakfast and Bible Study meets at the fellowship hall every other Saturday starting at 9:00am. Please RSVP to Mark Smith – mark.gateway2life@gmail.com or 719-245-8593
URL:https://www.csanglican.com/calendar/mens-bible-study/2030-02-16/
LOCATION:Holy Cross Fellowship Hall\, 2713 W Cucharras St.\, Colorado Springs\, CO\, 80904\, United States
ATTACH;FMTTYPE=image/webp:https://www.csanglican.com/wp-content/uploads/2026/02/mens-bible-study.webp
END:VEVENT
BEGIN:VEVENT
DTSTART;TZID=America/Denver:20300217T110000
DTEND;TZID=America/Denver:20300217T123000
DTSTAMP:20260424T142508
CREATED:20250306T163405Z
LAST-MODIFIED:20250602T152507Z
UID:10000260-1897556400-1897561800@www.csanglican.com
SUMMARY:Holy Communion
DESCRIPTION:The Anglican Church believes that “the Supper of the Lord (Holy Communion\, Eucharist) is not only a sign of the love that Christians ought to have among themselves one to another; but rather it is a Sacrament of our Redemption by Christ’s death: insomuch that to such as rightly\, worthily\, and with faith\, receive the same\, the Bread which we break is a partaking of the Body of Christ; and likewise the Cup of Blessing is a partaking of the Blood of Christ.”
URL:https://www.csanglican.com/calendar/holy-communion/2030-02-17/
LOCATION:Holy Cross Anglican Church\, 2703 W. Cucharras St.\, Colorado Springs\, CO\, 80904\, United States
ATTACH;FMTTYPE=image/jpeg:https://www.csanglican.com/wp-content/uploads/2025/03/DSC_5626-2-e1773930052251.jpg
END:VEVENT
BEGIN:VEVENT
DTSTART;TZID=America/Denver:20300219T073000
DTEND;TZID=America/Denver:20300219T080000
DTSTAMP:20260424T142508
CREATED:20260101T165343Z
LAST-MODIFIED:20260101T165343Z
UID:10002505-1897716600-1897718400@www.csanglican.com
SUMMARY:Morning Prayer (Matins) at Holy Cross
DESCRIPTION:We pray the service of Morning Prayer (Matins) at Holy Cross every Tuesday morning starting at 7:30am. All are welcome to join us for prayer and the reading of Scripture.
URL:https://www.csanglican.com/calendar/morning-prayer-matins-at-holy-cross/2030-02-19/
LOCATION:CO
END:VEVENT
BEGIN:VEVENT
DTSTART;TZID=America/Denver:20300220T190000
DTEND;TZID=America/Denver:20300220T210000
DTSTAMP:20260424T142508
CREATED:20260407T230313Z
LAST-MODIFIED:20260407T230313Z
UID:10002941-1897844400-1897851600@www.csanglican.com
SUMMARY:Women's Bible Study
DESCRIPTION:Our Women’s Bible study meets every first and third Wednesday of the month at one of our parishioners homes starting at 7pm. Please reach out for more info.
URL:https://www.csanglican.com/calendar/womens-bible-study/2030-02-20/
LOCATION:CO
ATTACH;FMTTYPE=image/webp:https://www.csanglican.com/wp-content/uploads/2026/04/womens-bible-study.webp
END:VEVENT
BEGIN:VEVENT
DTSTART;TZID=America/Denver:20300222T190000
DTEND;TZID=America/Denver:20300222T220000
DTSTAMP:20260424T142508
CREATED:20260410T144649Z
LAST-MODIFIED:20260410T144649Z
UID:10003122-1898017200-1898028000@www.csanglican.com
SUMMARY:Men's Casual Fellowship around the Fire
DESCRIPTION:We have a monthly casual men’s fellowship around the fire on the last Friday of the month starting at 7pm. Bring a pipe and a drink to share with the group.
URL:https://www.csanglican.com/calendar/mens-casual-fellowship-around-the-fire/2030-02-22/
LOCATION:CO
ATTACH;FMTTYPE=image/jpeg:https://www.csanglican.com/wp-content/uploads/2026/03/jim-chesek-iqH-MGgYFLg-unsplash-2-scaled.jpg
END:VEVENT
BEGIN:VEVENT
DTSTART;TZID=America/Denver:20300224T110000
DTEND;TZID=America/Denver:20300224T123000
DTSTAMP:20260424T142508
CREATED:20250306T163405Z
LAST-MODIFIED:20250602T152507Z
UID:10000261-1898161200-1898166600@www.csanglican.com
SUMMARY:Holy Communion
DESCRIPTION:The Anglican Church believes that “the Supper of the Lord (Holy Communion\, Eucharist) is not only a sign of the love that Christians ought to have among themselves one to another; but rather it is a Sacrament of our Redemption by Christ’s death: insomuch that to such as rightly\, worthily\, and with faith\, receive the same\, the Bread which we break is a partaking of the Body of Christ; and likewise the Cup of Blessing is a partaking of the Blood of Christ.”
URL:https://www.csanglican.com/calendar/holy-communion/2030-02-24/
LOCATION:Holy Cross Anglican Church\, 2703 W. Cucharras St.\, Colorado Springs\, CO\, 80904\, United States
ATTACH;FMTTYPE=image/jpeg:https://www.csanglican.com/wp-content/uploads/2025/03/DSC_5626-2-e1773930052251.jpg
END:VEVENT
BEGIN:VEVENT
DTSTART;TZID=America/Denver:20300226T073000
DTEND;TZID=America/Denver:20300226T080000
DTSTAMP:20260424T142508
CREATED:20260101T165343Z
LAST-MODIFIED:20260101T165343Z
UID:10002506-1898321400-1898323200@www.csanglican.com
SUMMARY:Morning Prayer (Matins) at Holy Cross
DESCRIPTION:We pray the service of Morning Prayer (Matins) at Holy Cross every Tuesday morning starting at 7:30am. All are welcome to join us for prayer and the reading of Scripture.
URL:https://www.csanglican.com/calendar/morning-prayer-matins-at-holy-cross/2030-02-26/
LOCATION:CO
END:VEVENT
BEGIN:VEVENT
DTSTART;TZID=America/Denver:20300226T183000
DTEND;TZID=America/Denver:20300226T193000
DTSTAMP:20260424T142508
CREATED:20260216T153421Z
LAST-MODIFIED:20260216T153421Z
UID:10002720-1898361000-1898364600@www.csanglican.com
SUMMARY:Feast Day of St. Matthias the Apostle
DESCRIPTION:Holy Cross will host a service of Holy Communion for the Prayer Book Feast day of St. Matthias the Apostle. The service will start at 6:30pm and will be followed by a short time of fellowship.
URL:https://www.csanglican.com/calendar/feast-day-of-st-matthias-the-apostle/2030-02-26/
LOCATION:CO
ATTACH;FMTTYPE=image/jpeg:https://www.csanglican.com/wp-content/uploads/2026/02/st.-matthias.jpg
END:VEVENT
BEGIN:VEVENT
DTSTART;TZID=America/Denver:20300302T090000
DTEND;TZID=America/Denver:20300302T103000
DTSTAMP:20260424T142508
CREATED:20260216T213610Z
LAST-MODIFIED:20260407T230850Z
UID:10002826-1898672400-1898677800@www.csanglican.com
SUMMARY:Men's Bible Study
DESCRIPTION:Our Men’s Breakfast and Bible Study meets at the fellowship hall every other Saturday starting at 9:00am. Please RSVP to Mark Smith – mark.gateway2life@gmail.com or 719-245-8593
URL:https://www.csanglican.com/calendar/mens-bible-study/2030-03-02/
LOCATION:Holy Cross Fellowship Hall\, 2713 W Cucharras St.\, Colorado Springs\, CO\, 80904\, United States
ATTACH;FMTTYPE=image/webp:https://www.csanglican.com/wp-content/uploads/2026/02/mens-bible-study.webp
END:VEVENT
BEGIN:VEVENT
DTSTART;TZID=America/Denver:20300303T110000
DTEND;TZID=America/Denver:20300303T123000
DTSTAMP:20260424T142508
CREATED:20250306T163405Z
LAST-MODIFIED:20250602T152507Z
UID:10000262-1898766000-1898771400@www.csanglican.com
SUMMARY:Holy Communion
DESCRIPTION:The Anglican Church believes that “the Supper of the Lord (Holy Communion\, Eucharist) is not only a sign of the love that Christians ought to have among themselves one to another; but rather it is a Sacrament of our Redemption by Christ’s death: insomuch that to such as rightly\, worthily\, and with faith\, receive the same\, the Bread which we break is a partaking of the Body of Christ; and likewise the Cup of Blessing is a partaking of the Blood of Christ.”
URL:https://www.csanglican.com/calendar/holy-communion/2030-03-03/
LOCATION:Holy Cross Anglican Church\, 2703 W. Cucharras St.\, Colorado Springs\, CO\, 80904\, United States
ATTACH;FMTTYPE=image/jpeg:https://www.csanglican.com/wp-content/uploads/2025/03/DSC_5626-2-e1773930052251.jpg
END:VEVENT
BEGIN:VEVENT
DTSTART;TZID=America/Denver:20300305T073000
DTEND;TZID=America/Denver:20300305T080000
DTSTAMP:20260424T142508
CREATED:20260101T165343Z
LAST-MODIFIED:20260101T165343Z
UID:10002507-1898926200-1898928000@www.csanglican.com
SUMMARY:Morning Prayer (Matins) at Holy Cross
DESCRIPTION:We pray the service of Morning Prayer (Matins) at Holy Cross every Tuesday morning starting at 7:30am. All are welcome to join us for prayer and the reading of Scripture.
URL:https://www.csanglican.com/calendar/morning-prayer-matins-at-holy-cross/2030-03-05/
LOCATION:CO
END:VEVENT
BEGIN:VEVENT
DTSTART;TZID=America/Denver:20300306T190000
DTEND;TZID=America/Denver:20300306T210000
DTSTAMP:20260424T142508
CREATED:20260407T230348Z
LAST-MODIFIED:20260407T230425Z
UID:10003061-1899054000-1899061200@www.csanglican.com
SUMMARY:Women's Bible Study
DESCRIPTION:Our Women’s Bible study meets every first and third Wednesday of the month at one of our parishioners homes starting at 7pm. Please reach out for more info.
URL:https://www.csanglican.com/calendar/womens-bible-study-2/2030-03-06/
LOCATION:CO
ATTACH;FMTTYPE=image/webp:https://www.csanglican.com/wp-content/uploads/2026/04/womens-bible-study.webp
END:VEVENT
END:VCALENDAR