BEGIN:VCALENDAR
VERSION:2.0
PRODID:-//Holy Cross Anglican Church - ECPv6.15.20//NONSGML v1.0//EN
CALSCALE:GREGORIAN
METHOD:PUBLISH
X-WR-CALNAME:Holy Cross Anglican Church
X-ORIGINAL-URL:https://www.csanglican.com
X-WR-CALDESC:Events for Holy Cross Anglican Church
REFRESH-INTERVAL;VALUE=DURATION:PT1H
X-Robots-Tag:noindex
X-PUBLISHED-TTL:PT1H
BEGIN:VTIMEZONE
TZID:America/Denver
BEGIN:DAYLIGHT
TZOFFSETFROM:-0700
TZOFFSETTO:-0600
TZNAME:MDT
DTSTART:20280312T090000
END:DAYLIGHT
BEGIN:STANDARD
TZOFFSETFROM:-0600
TZOFFSETTO:-0700
TZNAME:MST
DTSTART:20281105T080000
END:STANDARD
BEGIN:DAYLIGHT
TZOFFSETFROM:-0700
TZOFFSETTO:-0600
TZNAME:MDT
DTSTART:20290311T090000
END:DAYLIGHT
BEGIN:STANDARD
TZOFFSETFROM:-0600
TZOFFSETTO:-0700
TZNAME:MST
DTSTART:20291104T080000
END:STANDARD
BEGIN:DAYLIGHT
TZOFFSETFROM:-0700
TZOFFSETTO:-0600
TZNAME:MDT
DTSTART:20300310T090000
END:DAYLIGHT
BEGIN:STANDARD
TZOFFSETFROM:-0600
TZOFFSETTO:-0700
TZNAME:MST
DTSTART:20301103T080000
END:STANDARD
END:VTIMEZONE
BEGIN:VEVENT
DTSTART;TZID=America/Denver:20290202T183000
DTEND;TZID=America/Denver:20290202T190000
DTSTAMP:20260421T035211
CREATED:20260128T170346Z
LAST-MODIFIED:20260128T170506Z
UID:10002555-1864751400-1864753200@www.csanglican.com
SUMMARY:Feast Day of the Presentation of Christ in the Temple
DESCRIPTION:Join us at Holy Cross as we celebrate the Prayer Book feast day of the Presentation of Christ at the Temple (commonly called the Purification of St. Mary the Virgin). We will have a service of Holy Communion at 6:30pm followed by drinks and fellowship.
URL:https://www.csanglican.com/calendar/feast-day-of-the-presentation-of-christ-in-the-temple/2029-02-02/
ATTACH;FMTTYPE=image/jpeg:https://www.csanglican.com/wp-content/uploads/2026/01/presentation-of-christ-.jpg
END:VEVENT
BEGIN:VEVENT
DTSTART;TZID=America/Denver:20290203T090000
DTEND;TZID=America/Denver:20290203T103000
DTSTAMP:20260421T035211
CREATED:20260216T213610Z
LAST-MODIFIED:20260407T230850Z
UID:10002798-1864803600-1864809000@www.csanglican.com
SUMMARY:Men's Bible Study
DESCRIPTION:Our Men’s Breakfast and Bible Study meets at the fellowship hall every other Saturday starting at 9:00am. Please RSVP to Mark Smith – mark.gateway2life@gmail.com or 719-245-8593
URL:https://www.csanglican.com/calendar/mens-bible-study/2029-02-03/
LOCATION:Holy Cross Fellowship Hall\, 2713 W Cucharras St.\, Colorado Springs\, CO\, 80904\, United States
ATTACH;FMTTYPE=image/webp:https://www.csanglican.com/wp-content/uploads/2026/02/mens-bible-study.webp
END:VEVENT
BEGIN:VEVENT
DTSTART;TZID=America/Denver:20290204T110000
DTEND;TZID=America/Denver:20290204T123000
DTSTAMP:20260421T035211
CREATED:20250306T163405Z
LAST-MODIFIED:20250602T152507Z
UID:10000206-1864897200-1864902600@www.csanglican.com
SUMMARY:Holy Communion
DESCRIPTION:The Anglican Church believes that “the Supper of the Lord (Holy Communion\, Eucharist) is not only a sign of the love that Christians ought to have among themselves one to another; but rather it is a Sacrament of our Redemption by Christ’s death: insomuch that to such as rightly\, worthily\, and with faith\, receive the same\, the Bread which we break is a partaking of the Body of Christ; and likewise the Cup of Blessing is a partaking of the Blood of Christ.”
URL:https://www.csanglican.com/calendar/holy-communion/2029-02-04/
LOCATION:Holy Cross Anglican Church\, 2703 W. Cucharras St.\, Colorado Springs\, CO\, 80904\, United States
ATTACH;FMTTYPE=image/jpeg:https://www.csanglican.com/wp-content/uploads/2025/03/DSC_5626-2-e1773930052251.jpg
END:VEVENT
BEGIN:VEVENT
DTSTART;TZID=America/Denver:20290206T073000
DTEND;TZID=America/Denver:20290206T080000
DTSTAMP:20260421T035211
CREATED:20260101T165343Z
LAST-MODIFIED:20260101T165343Z
UID:10002451-1865057400-1865059200@www.csanglican.com
SUMMARY:Morning Prayer (Matins) at Holy Cross
DESCRIPTION:We pray the service of Morning Prayer (Matins) at Holy Cross every Tuesday morning starting at 7:30am. All are welcome to join us for prayer and the reading of Scripture.
URL:https://www.csanglican.com/calendar/morning-prayer-matins-at-holy-cross/2029-02-06/
END:VEVENT
BEGIN:VEVENT
DTSTART;TZID=America/Denver:20290207T190000
DTEND;TZID=America/Denver:20290207T210000
DTSTAMP:20260421T035211
CREATED:20260407T230348Z
LAST-MODIFIED:20260407T230425Z
UID:10003048-1865185200-1865192400@www.csanglican.com
SUMMARY:Women's Bible Study
DESCRIPTION:Our Women’s Bible study meets every first and third Wednesday of the month at one of our parishioners homes starting at 7pm. Please reach out for more info.
URL:https://www.csanglican.com/calendar/womens-bible-study-2/2029-02-07/
ATTACH;FMTTYPE=image/webp:https://www.csanglican.com/wp-content/uploads/2026/04/womens-bible-study.webp
END:VEVENT
BEGIN:VEVENT
DTSTART;TZID=America/Denver:20290211T110000
DTEND;TZID=America/Denver:20290211T123000
DTSTAMP:20260421T035211
CREATED:20250306T163405Z
LAST-MODIFIED:20250602T152507Z
UID:10000207-1865502000-1865507400@www.csanglican.com
SUMMARY:Holy Communion
DESCRIPTION:The Anglican Church believes that “the Supper of the Lord (Holy Communion\, Eucharist) is not only a sign of the love that Christians ought to have among themselves one to another; but rather it is a Sacrament of our Redemption by Christ’s death: insomuch that to such as rightly\, worthily\, and with faith\, receive the same\, the Bread which we break is a partaking of the Body of Christ; and likewise the Cup of Blessing is a partaking of the Blood of Christ.”
URL:https://www.csanglican.com/calendar/holy-communion/2029-02-11/
LOCATION:Holy Cross Anglican Church\, 2703 W. Cucharras St.\, Colorado Springs\, CO\, 80904\, United States
ATTACH;FMTTYPE=image/jpeg:https://www.csanglican.com/wp-content/uploads/2025/03/DSC_5626-2-e1773930052251.jpg
END:VEVENT
BEGIN:VEVENT
DTSTART;TZID=America/Denver:20290213T073000
DTEND;TZID=America/Denver:20290213T080000
DTSTAMP:20260421T035211
CREATED:20260101T165343Z
LAST-MODIFIED:20260101T165343Z
UID:10002452-1865662200-1865664000@www.csanglican.com
SUMMARY:Morning Prayer (Matins) at Holy Cross
DESCRIPTION:We pray the service of Morning Prayer (Matins) at Holy Cross every Tuesday morning starting at 7:30am. All are welcome to join us for prayer and the reading of Scripture.
URL:https://www.csanglican.com/calendar/morning-prayer-matins-at-holy-cross/2029-02-13/
END:VEVENT
BEGIN:VEVENT
DTSTART;TZID=America/Denver:20290217T090000
DTEND;TZID=America/Denver:20290217T103000
DTSTAMP:20260421T035211
CREATED:20260216T213610Z
LAST-MODIFIED:20260407T230850Z
UID:10002799-1866013200-1866018600@www.csanglican.com
SUMMARY:Men's Bible Study
DESCRIPTION:Our Men’s Breakfast and Bible Study meets at the fellowship hall every other Saturday starting at 9:00am. Please RSVP to Mark Smith – mark.gateway2life@gmail.com or 719-245-8593
URL:https://www.csanglican.com/calendar/mens-bible-study/2029-02-17/
LOCATION:Holy Cross Fellowship Hall\, 2713 W Cucharras St.\, Colorado Springs\, CO\, 80904\, United States
ATTACH;FMTTYPE=image/webp:https://www.csanglican.com/wp-content/uploads/2026/02/mens-bible-study.webp
END:VEVENT
BEGIN:VEVENT
DTSTART;TZID=America/Denver:20290218T110000
DTEND;TZID=America/Denver:20290218T123000
DTSTAMP:20260421T035211
CREATED:20250306T163405Z
LAST-MODIFIED:20250602T152507Z
UID:10000208-1866106800-1866112200@www.csanglican.com
SUMMARY:Holy Communion
DESCRIPTION:The Anglican Church believes that “the Supper of the Lord (Holy Communion\, Eucharist) is not only a sign of the love that Christians ought to have among themselves one to another; but rather it is a Sacrament of our Redemption by Christ’s death: insomuch that to such as rightly\, worthily\, and with faith\, receive the same\, the Bread which we break is a partaking of the Body of Christ; and likewise the Cup of Blessing is a partaking of the Blood of Christ.”
URL:https://www.csanglican.com/calendar/holy-communion/2029-02-18/
LOCATION:Holy Cross Anglican Church\, 2703 W. Cucharras St.\, Colorado Springs\, CO\, 80904\, United States
ATTACH;FMTTYPE=image/jpeg:https://www.csanglican.com/wp-content/uploads/2025/03/DSC_5626-2-e1773930052251.jpg
END:VEVENT
BEGIN:VEVENT
DTSTART;TZID=America/Denver:20290220T073000
DTEND;TZID=America/Denver:20290220T080000
DTSTAMP:20260421T035211
CREATED:20260101T165343Z
LAST-MODIFIED:20260101T165343Z
UID:10002453-1866267000-1866268800@www.csanglican.com
SUMMARY:Morning Prayer (Matins) at Holy Cross
DESCRIPTION:We pray the service of Morning Prayer (Matins) at Holy Cross every Tuesday morning starting at 7:30am. All are welcome to join us for prayer and the reading of Scripture.
URL:https://www.csanglican.com/calendar/morning-prayer-matins-at-holy-cross/2029-02-20/
END:VEVENT
BEGIN:VEVENT
DTSTART;TZID=America/Denver:20290221T190000
DTEND;TZID=America/Denver:20290221T210000
DTSTAMP:20260421T035211
CREATED:20260407T230313Z
LAST-MODIFIED:20260407T230313Z
UID:10002929-1866394800-1866402000@www.csanglican.com
SUMMARY:Women's Bible Study
DESCRIPTION:Our Women’s Bible study meets every first and third Wednesday of the month at one of our parishioners homes starting at 7pm. Please reach out for more info.
URL:https://www.csanglican.com/calendar/womens-bible-study/2029-02-21/
ATTACH;FMTTYPE=image/webp:https://www.csanglican.com/wp-content/uploads/2026/04/womens-bible-study.webp
END:VEVENT
BEGIN:VEVENT
DTSTART;TZID=America/Denver:20290223T190000
DTEND;TZID=America/Denver:20290223T220000
DTSTAMP:20260421T035211
CREATED:20260410T144649Z
LAST-MODIFIED:20260410T144649Z
UID:10003110-1866567600-1866578400@www.csanglican.com
SUMMARY:Men's Casual Fellowship around the Fire
DESCRIPTION:We have a monthly casual men’s fellowship around the fire on the last Friday of the month starting at 7pm. Bring a pipe and a drink to share with the group.
URL:https://www.csanglican.com/calendar/mens-casual-fellowship-around-the-fire/2029-02-23/
ATTACH;FMTTYPE=image/jpeg:https://www.csanglican.com/wp-content/uploads/2026/03/jim-chesek-iqH-MGgYFLg-unsplash-2-scaled.jpg
END:VEVENT
BEGIN:VEVENT
DTSTART;TZID=America/Denver:20290225T110000
DTEND;TZID=America/Denver:20290225T123000
DTSTAMP:20260421T035211
CREATED:20250306T163405Z
LAST-MODIFIED:20250602T152507Z
UID:10000209-1866711600-1866717000@www.csanglican.com
SUMMARY:Holy Communion
DESCRIPTION:The Anglican Church believes that “the Supper of the Lord (Holy Communion\, Eucharist) is not only a sign of the love that Christians ought to have among themselves one to another; but rather it is a Sacrament of our Redemption by Christ’s death: insomuch that to such as rightly\, worthily\, and with faith\, receive the same\, the Bread which we break is a partaking of the Body of Christ; and likewise the Cup of Blessing is a partaking of the Blood of Christ.”
URL:https://www.csanglican.com/calendar/holy-communion/2029-02-25/
LOCATION:Holy Cross Anglican Church\, 2703 W. Cucharras St.\, Colorado Springs\, CO\, 80904\, United States
ATTACH;FMTTYPE=image/jpeg:https://www.csanglican.com/wp-content/uploads/2025/03/DSC_5626-2-e1773930052251.jpg
END:VEVENT
BEGIN:VEVENT
DTSTART;TZID=America/Denver:20290227T073000
DTEND;TZID=America/Denver:20290227T080000
DTSTAMP:20260421T035211
CREATED:20260101T165343Z
LAST-MODIFIED:20260101T165343Z
UID:10002454-1866871800-1866873600@www.csanglican.com
SUMMARY:Morning Prayer (Matins) at Holy Cross
DESCRIPTION:We pray the service of Morning Prayer (Matins) at Holy Cross every Tuesday morning starting at 7:30am. All are welcome to join us for prayer and the reading of Scripture.
URL:https://www.csanglican.com/calendar/morning-prayer-matins-at-holy-cross/2029-02-27/
END:VEVENT
BEGIN:VEVENT
DTSTART;TZID=America/Denver:20290227T183000
DTEND;TZID=America/Denver:20290227T193000
DTSTAMP:20260421T035211
CREATED:20260216T153421Z
LAST-MODIFIED:20260216T153421Z
UID:10002719-1866911400-1866915000@www.csanglican.com
SUMMARY:Feast Day of St. Matthias the Apostle
DESCRIPTION:Holy Cross will host a service of Holy Communion for the Prayer Book Feast day of St. Matthias the Apostle. The service will start at 6:30pm and will be followed by a short time of fellowship.
URL:https://www.csanglican.com/calendar/feast-day-of-st-matthias-the-apostle/2029-02-27/
ATTACH;FMTTYPE=image/jpeg:https://www.csanglican.com/wp-content/uploads/2026/02/st.-matthias.jpg
END:VEVENT
BEGIN:VEVENT
DTSTART;TZID=America/Denver:20290303T090000
DTEND;TZID=America/Denver:20290303T103000
DTSTAMP:20260421T035211
CREATED:20260216T213610Z
LAST-MODIFIED:20260407T230850Z
UID:10002800-1867222800-1867228200@www.csanglican.com
SUMMARY:Men's Bible Study
DESCRIPTION:Our Men’s Breakfast and Bible Study meets at the fellowship hall every other Saturday starting at 9:00am. Please RSVP to Mark Smith – mark.gateway2life@gmail.com or 719-245-8593
URL:https://www.csanglican.com/calendar/mens-bible-study/2029-03-03/
LOCATION:Holy Cross Fellowship Hall\, 2713 W Cucharras St.\, Colorado Springs\, CO\, 80904\, United States
ATTACH;FMTTYPE=image/webp:https://www.csanglican.com/wp-content/uploads/2026/02/mens-bible-study.webp
END:VEVENT
BEGIN:VEVENT
DTSTART;TZID=America/Denver:20290304T110000
DTEND;TZID=America/Denver:20290304T123000
DTSTAMP:20260421T035211
CREATED:20250306T163405Z
LAST-MODIFIED:20250602T152507Z
UID:10000210-1867316400-1867321800@www.csanglican.com
SUMMARY:Holy Communion
DESCRIPTION:The Anglican Church believes that “the Supper of the Lord (Holy Communion\, Eucharist) is not only a sign of the love that Christians ought to have among themselves one to another; but rather it is a Sacrament of our Redemption by Christ’s death: insomuch that to such as rightly\, worthily\, and with faith\, receive the same\, the Bread which we break is a partaking of the Body of Christ; and likewise the Cup of Blessing is a partaking of the Blood of Christ.”
URL:https://www.csanglican.com/calendar/holy-communion/2029-03-04/
LOCATION:Holy Cross Anglican Church\, 2703 W. Cucharras St.\, Colorado Springs\, CO\, 80904\, United States
ATTACH;FMTTYPE=image/jpeg:https://www.csanglican.com/wp-content/uploads/2025/03/DSC_5626-2-e1773930052251.jpg
END:VEVENT
BEGIN:VEVENT
DTSTART;TZID=America/Denver:20290306T073000
DTEND;TZID=America/Denver:20290306T080000
DTSTAMP:20260421T035211
CREATED:20260101T165343Z
LAST-MODIFIED:20260101T165343Z
UID:10002455-1867476600-1867478400@www.csanglican.com
SUMMARY:Morning Prayer (Matins) at Holy Cross
DESCRIPTION:We pray the service of Morning Prayer (Matins) at Holy Cross every Tuesday morning starting at 7:30am. All are welcome to join us for prayer and the reading of Scripture.
URL:https://www.csanglican.com/calendar/morning-prayer-matins-at-holy-cross/2029-03-06/
END:VEVENT
BEGIN:VEVENT
DTSTART;TZID=America/Denver:20290307T190000
DTEND;TZID=America/Denver:20290307T210000
DTSTAMP:20260421T035211
CREATED:20260407T230348Z
LAST-MODIFIED:20260407T230425Z
UID:10003049-1867604400-1867611600@www.csanglican.com
SUMMARY:Women's Bible Study
DESCRIPTION:Our Women’s Bible study meets every first and third Wednesday of the month at one of our parishioners homes starting at 7pm. Please reach out for more info.
URL:https://www.csanglican.com/calendar/womens-bible-study-2/2029-03-07/
ATTACH;FMTTYPE=image/webp:https://www.csanglican.com/wp-content/uploads/2026/04/womens-bible-study.webp
END:VEVENT
BEGIN:VEVENT
DTSTART;TZID=America/Denver:20290311T110000
DTEND;TZID=America/Denver:20290311T123000
DTSTAMP:20260421T035211
CREATED:20250306T163405Z
LAST-MODIFIED:20250602T152507Z
UID:10000211-1867921200-1867926600@www.csanglican.com
SUMMARY:Holy Communion
DESCRIPTION:The Anglican Church believes that “the Supper of the Lord (Holy Communion\, Eucharist) is not only a sign of the love that Christians ought to have among themselves one to another; but rather it is a Sacrament of our Redemption by Christ’s death: insomuch that to such as rightly\, worthily\, and with faith\, receive the same\, the Bread which we break is a partaking of the Body of Christ; and likewise the Cup of Blessing is a partaking of the Blood of Christ.”
URL:https://www.csanglican.com/calendar/holy-communion/2029-03-11/
LOCATION:Holy Cross Anglican Church\, 2703 W. Cucharras St.\, Colorado Springs\, CO\, 80904\, United States
ATTACH;FMTTYPE=image/jpeg:https://www.csanglican.com/wp-content/uploads/2025/03/DSC_5626-2-e1773930052251.jpg
END:VEVENT
BEGIN:VEVENT
DTSTART;TZID=America/Denver:20290313T073000
DTEND;TZID=America/Denver:20290313T080000
DTSTAMP:20260421T035211
CREATED:20260101T165343Z
LAST-MODIFIED:20260101T165343Z
UID:10002456-1868081400-1868083200@www.csanglican.com
SUMMARY:Morning Prayer (Matins) at Holy Cross
DESCRIPTION:We pray the service of Morning Prayer (Matins) at Holy Cross every Tuesday morning starting at 7:30am. All are welcome to join us for prayer and the reading of Scripture.
URL:https://www.csanglican.com/calendar/morning-prayer-matins-at-holy-cross/2029-03-13/
END:VEVENT
BEGIN:VEVENT
DTSTART;TZID=America/Denver:20290317T090000
DTEND;TZID=America/Denver:20290317T103000
DTSTAMP:20260421T035211
CREATED:20260216T213610Z
LAST-MODIFIED:20260407T230850Z
UID:10002801-1868432400-1868437800@www.csanglican.com
SUMMARY:Men's Bible Study
DESCRIPTION:Our Men’s Breakfast and Bible Study meets at the fellowship hall every other Saturday starting at 9:00am. Please RSVP to Mark Smith – mark.gateway2life@gmail.com or 719-245-8593
URL:https://www.csanglican.com/calendar/mens-bible-study/2029-03-17/
LOCATION:Holy Cross Fellowship Hall\, 2713 W Cucharras St.\, Colorado Springs\, CO\, 80904\, United States
ATTACH;FMTTYPE=image/webp:https://www.csanglican.com/wp-content/uploads/2026/02/mens-bible-study.webp
END:VEVENT
BEGIN:VEVENT
DTSTART;TZID=America/Denver:20290318T110000
DTEND;TZID=America/Denver:20290318T123000
DTSTAMP:20260421T035211
CREATED:20250306T163405Z
LAST-MODIFIED:20250602T152507Z
UID:10000212-1868526000-1868531400@www.csanglican.com
SUMMARY:Holy Communion
DESCRIPTION:The Anglican Church believes that “the Supper of the Lord (Holy Communion\, Eucharist) is not only a sign of the love that Christians ought to have among themselves one to another; but rather it is a Sacrament of our Redemption by Christ’s death: insomuch that to such as rightly\, worthily\, and with faith\, receive the same\, the Bread which we break is a partaking of the Body of Christ; and likewise the Cup of Blessing is a partaking of the Blood of Christ.”
URL:https://www.csanglican.com/calendar/holy-communion/2029-03-18/
LOCATION:Holy Cross Anglican Church\, 2703 W. Cucharras St.\, Colorado Springs\, CO\, 80904\, United States
ATTACH;FMTTYPE=image/jpeg:https://www.csanglican.com/wp-content/uploads/2025/03/DSC_5626-2-e1773930052251.jpg
END:VEVENT
BEGIN:VEVENT
DTSTART;TZID=America/Denver:20290320T073000
DTEND;TZID=America/Denver:20290320T080000
DTSTAMP:20260421T035211
CREATED:20260101T165343Z
LAST-MODIFIED:20260101T165343Z
UID:10002457-1868686200-1868688000@www.csanglican.com
SUMMARY:Morning Prayer (Matins) at Holy Cross
DESCRIPTION:We pray the service of Morning Prayer (Matins) at Holy Cross every Tuesday morning starting at 7:30am. All are welcome to join us for prayer and the reading of Scripture.
URL:https://www.csanglican.com/calendar/morning-prayer-matins-at-holy-cross/2029-03-20/
END:VEVENT
BEGIN:VEVENT
DTSTART;TZID=America/Denver:20290321T190000
DTEND;TZID=America/Denver:20290321T210000
DTSTAMP:20260421T035211
CREATED:20260407T230313Z
LAST-MODIFIED:20260407T230313Z
UID:10002930-1868814000-1868821200@www.csanglican.com
SUMMARY:Women's Bible Study
DESCRIPTION:Our Women’s Bible study meets every first and third Wednesday of the month at one of our parishioners homes starting at 7pm. Please reach out for more info.
URL:https://www.csanglican.com/calendar/womens-bible-study/2029-03-21/
ATTACH;FMTTYPE=image/webp:https://www.csanglican.com/wp-content/uploads/2026/04/womens-bible-study.webp
END:VEVENT
BEGIN:VEVENT
DTSTART;TZID=America/Denver:20290325T110000
DTEND;TZID=America/Denver:20290325T123000
DTSTAMP:20260421T035211
CREATED:20250306T163405Z
LAST-MODIFIED:20250602T152507Z
UID:10000213-1869130800-1869136200@www.csanglican.com
SUMMARY:Holy Communion
DESCRIPTION:The Anglican Church believes that “the Supper of the Lord (Holy Communion\, Eucharist) is not only a sign of the love that Christians ought to have among themselves one to another; but rather it is a Sacrament of our Redemption by Christ’s death: insomuch that to such as rightly\, worthily\, and with faith\, receive the same\, the Bread which we break is a partaking of the Body of Christ; and likewise the Cup of Blessing is a partaking of the Blood of Christ.”
URL:https://www.csanglican.com/calendar/holy-communion/2029-03-25/
LOCATION:Holy Cross Anglican Church\, 2703 W. Cucharras St.\, Colorado Springs\, CO\, 80904\, United States
ATTACH;FMTTYPE=image/jpeg:https://www.csanglican.com/wp-content/uploads/2025/03/DSC_5626-2-e1773930052251.jpg
END:VEVENT
BEGIN:VEVENT
DTSTART;TZID=America/Denver:20290325T183000
DTEND;TZID=America/Denver:20290325T193000
DTSTAMP:20260421T035211
CREATED:20260224T230500Z
LAST-MODIFIED:20260224T230605Z
UID:10002865-1869157800-1869161400@www.csanglican.com
SUMMARY:Prayer Book Feast Day of the Annunciation of the Blessed Virgin Mary
DESCRIPTION:Christ Church will be hosting a service of Holy Communion for this prayer book feast day starting at 6:30pm.
URL:https://www.csanglican.com/calendar/prayer-book-feast-day-of-the-annunciation-of-the-blessed-virgin-mary/2029-03-25/
ATTACH;FMTTYPE=image/webp:https://www.csanglican.com/wp-content/uploads/2026/02/annunciation.webp
END:VEVENT
BEGIN:VEVENT
DTSTART;TZID=America/Denver:20290327T073000
DTEND;TZID=America/Denver:20290327T080000
DTSTAMP:20260421T035211
CREATED:20260101T165343Z
LAST-MODIFIED:20260101T165343Z
UID:10002458-1869291000-1869292800@www.csanglican.com
SUMMARY:Morning Prayer (Matins) at Holy Cross
DESCRIPTION:We pray the service of Morning Prayer (Matins) at Holy Cross every Tuesday morning starting at 7:30am. All are welcome to join us for prayer and the reading of Scripture.
URL:https://www.csanglican.com/calendar/morning-prayer-matins-at-holy-cross/2029-03-27/
END:VEVENT
BEGIN:VEVENT
DTSTART;TZID=America/Denver:20290330T190000
DTEND;TZID=America/Denver:20290330T220000
DTSTAMP:20260421T035211
CREATED:20260410T144649Z
LAST-MODIFIED:20260410T144649Z
UID:10003111-1869591600-1869602400@www.csanglican.com
SUMMARY:Men's Casual Fellowship around the Fire
DESCRIPTION:We have a monthly casual men’s fellowship around the fire on the last Friday of the month starting at 7pm. Bring a pipe and a drink to share with the group.
URL:https://www.csanglican.com/calendar/mens-casual-fellowship-around-the-fire/2029-03-30/
ATTACH;FMTTYPE=image/jpeg:https://www.csanglican.com/wp-content/uploads/2026/03/jim-chesek-iqH-MGgYFLg-unsplash-2-scaled.jpg
END:VEVENT
BEGIN:VEVENT
DTSTART;TZID=America/Denver:20290331T090000
DTEND;TZID=America/Denver:20290331T103000
DTSTAMP:20260421T035211
CREATED:20260216T213610Z
LAST-MODIFIED:20260407T230850Z
UID:10002802-1869642000-1869647400@www.csanglican.com
SUMMARY:Men's Bible Study
DESCRIPTION:Our Men’s Breakfast and Bible Study meets at the fellowship hall every other Saturday starting at 9:00am. Please RSVP to Mark Smith – mark.gateway2life@gmail.com or 719-245-8593
URL:https://www.csanglican.com/calendar/mens-bible-study/2029-03-31/
LOCATION:Holy Cross Fellowship Hall\, 2713 W Cucharras St.\, Colorado Springs\, CO\, 80904\, United States
ATTACH;FMTTYPE=image/webp:https://www.csanglican.com/wp-content/uploads/2026/02/mens-bible-study.webp
END:VEVENT
END:VCALENDAR