BEGIN:VCALENDAR
VERSION:2.0
PRODID:-//Holy Cross Anglican Church - ECPv6.15.20//NONSGML v1.0//EN
CALSCALE:GREGORIAN
METHOD:PUBLISH
X-WR-CALNAME:Holy Cross Anglican Church
X-ORIGINAL-URL:https://www.csanglican.com
X-WR-CALDESC:Events for Holy Cross Anglican Church
REFRESH-INTERVAL;VALUE=DURATION:PT1H
X-Robots-Tag:noindex
X-PUBLISHED-TTL:PT1H
BEGIN:VTIMEZONE
TZID:America/Denver
BEGIN:DAYLIGHT
TZOFFSETFROM:-0700
TZOFFSETTO:-0600
TZNAME:MDT
DTSTART:20280312T090000
END:DAYLIGHT
BEGIN:STANDARD
TZOFFSETFROM:-0600
TZOFFSETTO:-0700
TZNAME:MST
DTSTART:20281105T080000
END:STANDARD
BEGIN:DAYLIGHT
TZOFFSETFROM:-0700
TZOFFSETTO:-0600
TZNAME:MDT
DTSTART:20290311T090000
END:DAYLIGHT
BEGIN:STANDARD
TZOFFSETFROM:-0600
TZOFFSETTO:-0700
TZNAME:MST
DTSTART:20291104T080000
END:STANDARD
BEGIN:DAYLIGHT
TZOFFSETFROM:-0700
TZOFFSETTO:-0600
TZNAME:MDT
DTSTART:20300310T090000
END:DAYLIGHT
BEGIN:STANDARD
TZOFFSETFROM:-0600
TZOFFSETTO:-0700
TZNAME:MST
DTSTART:20301103T080000
END:STANDARD
END:VTIMEZONE
BEGIN:VEVENT
DTSTART;TZID=America/Denver:20290424T073000
DTEND;TZID=America/Denver:20290424T080000
DTSTAMP:20260423T122747
CREATED:20260101T165343Z
LAST-MODIFIED:20260101T165343Z
UID:10002462-1871710200-1871712000@www.csanglican.com
SUMMARY:Morning Prayer (Matins) at Holy Cross
DESCRIPTION:We pray the service of Morning Prayer (Matins) at Holy Cross every Tuesday morning starting at 7:30am. All are welcome to join us for prayer and the reading of Scripture.
URL:https://www.csanglican.com/calendar/morning-prayer-matins-at-holy-cross/2029-04-24/
END:VEVENT
BEGIN:VEVENT
DTSTART;TZID=America/Denver:20290427T190000
DTEND;TZID=America/Denver:20290427T220000
DTSTAMP:20260423T122747
CREATED:20260410T144649Z
LAST-MODIFIED:20260410T144649Z
UID:10003112-1872010800-1872021600@www.csanglican.com
SUMMARY:Men's Casual Fellowship around the Fire
DESCRIPTION:We have a monthly casual men’s fellowship around the fire on the last Friday of the month starting at 7pm. Bring a pipe and a drink to share with the group.
URL:https://www.csanglican.com/calendar/mens-casual-fellowship-around-the-fire/2029-04-27/
ATTACH;FMTTYPE=image/jpeg:https://www.csanglican.com/wp-content/uploads/2026/03/jim-chesek-iqH-MGgYFLg-unsplash-2-scaled.jpg
END:VEVENT
BEGIN:VEVENT
DTSTART;TZID=America/Denver:20290428T090000
DTEND;TZID=America/Denver:20290428T103000
DTSTAMP:20260423T122747
CREATED:20260216T213610Z
LAST-MODIFIED:20260407T230850Z
UID:10002804-1872061200-1872066600@www.csanglican.com
SUMMARY:Men's Bible Study
DESCRIPTION:Our Men’s Breakfast and Bible Study meets at the fellowship hall every other Saturday starting at 9:00am. Please RSVP to Mark Smith – mark.gateway2life@gmail.com or 719-245-8593
URL:https://www.csanglican.com/calendar/mens-bible-study/2029-04-28/
LOCATION:Holy Cross Fellowship Hall\, 2713 W Cucharras St.\, Colorado Springs\, CO\, 80904\, United States
ATTACH;FMTTYPE=image/webp:https://www.csanglican.com/wp-content/uploads/2026/02/mens-bible-study.webp
END:VEVENT
BEGIN:VEVENT
DTSTART;TZID=America/Denver:20290429T110000
DTEND;TZID=America/Denver:20290429T123000
DTSTAMP:20260423T122747
CREATED:20250306T163405Z
LAST-MODIFIED:20250602T152507Z
UID:10000218-1872154800-1872160200@www.csanglican.com
SUMMARY:Holy Communion
DESCRIPTION:The Anglican Church believes that “the Supper of the Lord (Holy Communion\, Eucharist) is not only a sign of the love that Christians ought to have among themselves one to another; but rather it is a Sacrament of our Redemption by Christ’s death: insomuch that to such as rightly\, worthily\, and with faith\, receive the same\, the Bread which we break is a partaking of the Body of Christ; and likewise the Cup of Blessing is a partaking of the Blood of Christ.”
URL:https://www.csanglican.com/calendar/holy-communion/2029-04-29/
LOCATION:Holy Cross Anglican Church\, 2703 W. Cucharras St.\, Colorado Springs\, CO\, 80904\, United States
ATTACH;FMTTYPE=image/jpeg:https://www.csanglican.com/wp-content/uploads/2025/03/DSC_5626-2-e1773930052251.jpg
END:VEVENT
BEGIN:VEVENT
DTSTART;TZID=America/Denver:20290501T073000
DTEND;TZID=America/Denver:20290501T080000
DTSTAMP:20260423T122747
CREATED:20260101T165343Z
LAST-MODIFIED:20260101T165343Z
UID:10002463-1872315000-1872316800@www.csanglican.com
SUMMARY:Morning Prayer (Matins) at Holy Cross
DESCRIPTION:We pray the service of Morning Prayer (Matins) at Holy Cross every Tuesday morning starting at 7:30am. All are welcome to join us for prayer and the reading of Scripture.
URL:https://www.csanglican.com/calendar/morning-prayer-matins-at-holy-cross/2029-05-01/
END:VEVENT
BEGIN:VEVENT
DTSTART;TZID=America/Denver:20290502T190000
DTEND;TZID=America/Denver:20290502T210000
DTSTAMP:20260423T122747
CREATED:20260407T230348Z
LAST-MODIFIED:20260407T230425Z
UID:10003051-1872442800-1872450000@www.csanglican.com
SUMMARY:Women's Bible Study
DESCRIPTION:Our Women’s Bible study meets every first and third Wednesday of the month at one of our parishioners homes starting at 7pm. Please reach out for more info.
URL:https://www.csanglican.com/calendar/womens-bible-study-2/2029-05-02/
ATTACH;FMTTYPE=image/webp:https://www.csanglican.com/wp-content/uploads/2026/04/womens-bible-study.webp
END:VEVENT
BEGIN:VEVENT
DTSTART;TZID=America/Denver:20290506T110000
DTEND;TZID=America/Denver:20290506T123000
DTSTAMP:20260423T122747
CREATED:20250306T163405Z
LAST-MODIFIED:20250602T152507Z
UID:10000219-1872759600-1872765000@www.csanglican.com
SUMMARY:Holy Communion
DESCRIPTION:The Anglican Church believes that “the Supper of the Lord (Holy Communion\, Eucharist) is not only a sign of the love that Christians ought to have among themselves one to another; but rather it is a Sacrament of our Redemption by Christ’s death: insomuch that to such as rightly\, worthily\, and with faith\, receive the same\, the Bread which we break is a partaking of the Body of Christ; and likewise the Cup of Blessing is a partaking of the Blood of Christ.”
URL:https://www.csanglican.com/calendar/holy-communion/2029-05-06/
LOCATION:Holy Cross Anglican Church\, 2703 W. Cucharras St.\, Colorado Springs\, CO\, 80904\, United States
ATTACH;FMTTYPE=image/jpeg:https://www.csanglican.com/wp-content/uploads/2025/03/DSC_5626-2-e1773930052251.jpg
END:VEVENT
BEGIN:VEVENT
DTSTART;TZID=America/Denver:20290508T073000
DTEND;TZID=America/Denver:20290508T080000
DTSTAMP:20260423T122747
CREATED:20260101T165343Z
LAST-MODIFIED:20260101T165343Z
UID:10002464-1872919800-1872921600@www.csanglican.com
SUMMARY:Morning Prayer (Matins) at Holy Cross
DESCRIPTION:We pray the service of Morning Prayer (Matins) at Holy Cross every Tuesday morning starting at 7:30am. All are welcome to join us for prayer and the reading of Scripture.
URL:https://www.csanglican.com/calendar/morning-prayer-matins-at-holy-cross/2029-05-08/
END:VEVENT
BEGIN:VEVENT
DTSTART;TZID=America/Denver:20290512T090000
DTEND;TZID=America/Denver:20290512T103000
DTSTAMP:20260423T122747
CREATED:20260216T213610Z
LAST-MODIFIED:20260407T230850Z
UID:10002805-1873270800-1873276200@www.csanglican.com
SUMMARY:Men's Bible Study
DESCRIPTION:Our Men’s Breakfast and Bible Study meets at the fellowship hall every other Saturday starting at 9:00am. Please RSVP to Mark Smith – mark.gateway2life@gmail.com or 719-245-8593
URL:https://www.csanglican.com/calendar/mens-bible-study/2029-05-12/
LOCATION:Holy Cross Fellowship Hall\, 2713 W Cucharras St.\, Colorado Springs\, CO\, 80904\, United States
ATTACH;FMTTYPE=image/webp:https://www.csanglican.com/wp-content/uploads/2026/02/mens-bible-study.webp
END:VEVENT
BEGIN:VEVENT
DTSTART;TZID=America/Denver:20290513T110000
DTEND;TZID=America/Denver:20290513T123000
DTSTAMP:20260423T122747
CREATED:20250306T163405Z
LAST-MODIFIED:20250602T152507Z
UID:10000220-1873364400-1873369800@www.csanglican.com
SUMMARY:Holy Communion
DESCRIPTION:The Anglican Church believes that “the Supper of the Lord (Holy Communion\, Eucharist) is not only a sign of the love that Christians ought to have among themselves one to another; but rather it is a Sacrament of our Redemption by Christ’s death: insomuch that to such as rightly\, worthily\, and with faith\, receive the same\, the Bread which we break is a partaking of the Body of Christ; and likewise the Cup of Blessing is a partaking of the Blood of Christ.”
URL:https://www.csanglican.com/calendar/holy-communion/2029-05-13/
LOCATION:Holy Cross Anglican Church\, 2703 W. Cucharras St.\, Colorado Springs\, CO\, 80904\, United States
ATTACH;FMTTYPE=image/jpeg:https://www.csanglican.com/wp-content/uploads/2025/03/DSC_5626-2-e1773930052251.jpg
END:VEVENT
BEGIN:VEVENT
DTSTART;TZID=America/Denver:20290515T073000
DTEND;TZID=America/Denver:20290515T080000
DTSTAMP:20260423T122747
CREATED:20260101T165343Z
LAST-MODIFIED:20260101T165343Z
UID:10002465-1873524600-1873526400@www.csanglican.com
SUMMARY:Morning Prayer (Matins) at Holy Cross
DESCRIPTION:We pray the service of Morning Prayer (Matins) at Holy Cross every Tuesday morning starting at 7:30am. All are welcome to join us for prayer and the reading of Scripture.
URL:https://www.csanglican.com/calendar/morning-prayer-matins-at-holy-cross/2029-05-15/
END:VEVENT
BEGIN:VEVENT
DTSTART;TZID=America/Denver:20290516T190000
DTEND;TZID=America/Denver:20290516T210000
DTSTAMP:20260423T122747
CREATED:20260407T230313Z
LAST-MODIFIED:20260407T230313Z
UID:10002932-1873652400-1873659600@www.csanglican.com
SUMMARY:Women's Bible Study
DESCRIPTION:Our Women’s Bible study meets every first and third Wednesday of the month at one of our parishioners homes starting at 7pm. Please reach out for more info.
URL:https://www.csanglican.com/calendar/womens-bible-study/2029-05-16/
ATTACH;FMTTYPE=image/webp:https://www.csanglican.com/wp-content/uploads/2026/04/womens-bible-study.webp
END:VEVENT
BEGIN:VEVENT
DTSTART;TZID=America/Denver:20290520T110000
DTEND;TZID=America/Denver:20290520T123000
DTSTAMP:20260423T122747
CREATED:20250306T163405Z
LAST-MODIFIED:20250602T152507Z
UID:10000221-1873969200-1873974600@www.csanglican.com
SUMMARY:Holy Communion
DESCRIPTION:The Anglican Church believes that “the Supper of the Lord (Holy Communion\, Eucharist) is not only a sign of the love that Christians ought to have among themselves one to another; but rather it is a Sacrament of our Redemption by Christ’s death: insomuch that to such as rightly\, worthily\, and with faith\, receive the same\, the Bread which we break is a partaking of the Body of Christ; and likewise the Cup of Blessing is a partaking of the Blood of Christ.”
URL:https://www.csanglican.com/calendar/holy-communion/2029-05-20/
LOCATION:Holy Cross Anglican Church\, 2703 W. Cucharras St.\, Colorado Springs\, CO\, 80904\, United States
ATTACH;FMTTYPE=image/jpeg:https://www.csanglican.com/wp-content/uploads/2025/03/DSC_5626-2-e1773930052251.jpg
END:VEVENT
BEGIN:VEVENT
DTSTART;TZID=America/Denver:20290522T073000
DTEND;TZID=America/Denver:20290522T080000
DTSTAMP:20260423T122747
CREATED:20260101T165343Z
LAST-MODIFIED:20260101T165343Z
UID:10002466-1874129400-1874131200@www.csanglican.com
SUMMARY:Morning Prayer (Matins) at Holy Cross
DESCRIPTION:We pray the service of Morning Prayer (Matins) at Holy Cross every Tuesday morning starting at 7:30am. All are welcome to join us for prayer and the reading of Scripture.
URL:https://www.csanglican.com/calendar/morning-prayer-matins-at-holy-cross/2029-05-22/
END:VEVENT
BEGIN:VEVENT
DTSTART;TZID=America/Denver:20290525T190000
DTEND;TZID=America/Denver:20290525T220000
DTSTAMP:20260423T122747
CREATED:20260410T144649Z
LAST-MODIFIED:20260410T144649Z
UID:10003113-1874430000-1874440800@www.csanglican.com
SUMMARY:Men's Casual Fellowship around the Fire
DESCRIPTION:We have a monthly casual men’s fellowship around the fire on the last Friday of the month starting at 7pm. Bring a pipe and a drink to share with the group.
URL:https://www.csanglican.com/calendar/mens-casual-fellowship-around-the-fire/2029-05-25/
ATTACH;FMTTYPE=image/jpeg:https://www.csanglican.com/wp-content/uploads/2026/03/jim-chesek-iqH-MGgYFLg-unsplash-2-scaled.jpg
END:VEVENT
BEGIN:VEVENT
DTSTART;TZID=America/Denver:20290526T090000
DTEND;TZID=America/Denver:20290526T103000
DTSTAMP:20260423T122747
CREATED:20260216T213610Z
LAST-MODIFIED:20260407T230850Z
UID:10002806-1874480400-1874485800@www.csanglican.com
SUMMARY:Men's Bible Study
DESCRIPTION:Our Men’s Breakfast and Bible Study meets at the fellowship hall every other Saturday starting at 9:00am. Please RSVP to Mark Smith – mark.gateway2life@gmail.com or 719-245-8593
URL:https://www.csanglican.com/calendar/mens-bible-study/2029-05-26/
LOCATION:Holy Cross Fellowship Hall\, 2713 W Cucharras St.\, Colorado Springs\, CO\, 80904\, United States
ATTACH;FMTTYPE=image/webp:https://www.csanglican.com/wp-content/uploads/2026/02/mens-bible-study.webp
END:VEVENT
BEGIN:VEVENT
DTSTART;TZID=America/Denver:20290527T110000
DTEND;TZID=America/Denver:20290527T123000
DTSTAMP:20260423T122747
CREATED:20250306T163405Z
LAST-MODIFIED:20250602T152507Z
UID:10000222-1874574000-1874579400@www.csanglican.com
SUMMARY:Holy Communion
DESCRIPTION:The Anglican Church believes that “the Supper of the Lord (Holy Communion\, Eucharist) is not only a sign of the love that Christians ought to have among themselves one to another; but rather it is a Sacrament of our Redemption by Christ’s death: insomuch that to such as rightly\, worthily\, and with faith\, receive the same\, the Bread which we break is a partaking of the Body of Christ; and likewise the Cup of Blessing is a partaking of the Blood of Christ.”
URL:https://www.csanglican.com/calendar/holy-communion/2029-05-27/
LOCATION:Holy Cross Anglican Church\, 2703 W. Cucharras St.\, Colorado Springs\, CO\, 80904\, United States
ATTACH;FMTTYPE=image/jpeg:https://www.csanglican.com/wp-content/uploads/2025/03/DSC_5626-2-e1773930052251.jpg
END:VEVENT
BEGIN:VEVENT
DTSTART;TZID=America/Denver:20290529T073000
DTEND;TZID=America/Denver:20290529T080000
DTSTAMP:20260423T122747
CREATED:20260101T165343Z
LAST-MODIFIED:20260101T165343Z
UID:10002467-1874734200-1874736000@www.csanglican.com
SUMMARY:Morning Prayer (Matins) at Holy Cross
DESCRIPTION:We pray the service of Morning Prayer (Matins) at Holy Cross every Tuesday morning starting at 7:30am. All are welcome to join us for prayer and the reading of Scripture.
URL:https://www.csanglican.com/calendar/morning-prayer-matins-at-holy-cross/2029-05-29/
END:VEVENT
BEGIN:VEVENT
DTSTART;TZID=America/Denver:20290603T110000
DTEND;TZID=America/Denver:20290603T123000
DTSTAMP:20260423T122747
CREATED:20250306T163405Z
LAST-MODIFIED:20250602T152507Z
UID:10000223-1875178800-1875184200@www.csanglican.com
SUMMARY:Holy Communion
DESCRIPTION:The Anglican Church believes that “the Supper of the Lord (Holy Communion\, Eucharist) is not only a sign of the love that Christians ought to have among themselves one to another; but rather it is a Sacrament of our Redemption by Christ’s death: insomuch that to such as rightly\, worthily\, and with faith\, receive the same\, the Bread which we break is a partaking of the Body of Christ; and likewise the Cup of Blessing is a partaking of the Blood of Christ.”
URL:https://www.csanglican.com/calendar/holy-communion/2029-06-03/
LOCATION:Holy Cross Anglican Church\, 2703 W. Cucharras St.\, Colorado Springs\, CO\, 80904\, United States
ATTACH;FMTTYPE=image/jpeg:https://www.csanglican.com/wp-content/uploads/2025/03/DSC_5626-2-e1773930052251.jpg
END:VEVENT
BEGIN:VEVENT
DTSTART;TZID=America/Denver:20290605T073000
DTEND;TZID=America/Denver:20290605T080000
DTSTAMP:20260423T122747
CREATED:20260101T165343Z
LAST-MODIFIED:20260101T165343Z
UID:10002468-1875339000-1875340800@www.csanglican.com
SUMMARY:Morning Prayer (Matins) at Holy Cross
DESCRIPTION:We pray the service of Morning Prayer (Matins) at Holy Cross every Tuesday morning starting at 7:30am. All are welcome to join us for prayer and the reading of Scripture.
URL:https://www.csanglican.com/calendar/morning-prayer-matins-at-holy-cross/2029-06-05/
END:VEVENT
BEGIN:VEVENT
DTSTART;TZID=America/Denver:20290606T190000
DTEND;TZID=America/Denver:20290606T210000
DTSTAMP:20260423T122747
CREATED:20260407T230348Z
LAST-MODIFIED:20260407T230425Z
UID:10003052-1875466800-1875474000@www.csanglican.com
SUMMARY:Women's Bible Study
DESCRIPTION:Our Women’s Bible study meets every first and third Wednesday of the month at one of our parishioners homes starting at 7pm. Please reach out for more info.
URL:https://www.csanglican.com/calendar/womens-bible-study-2/2029-06-06/
ATTACH;FMTTYPE=image/webp:https://www.csanglican.com/wp-content/uploads/2026/04/womens-bible-study.webp
END:VEVENT
BEGIN:VEVENT
DTSTART;TZID=America/Denver:20290609T090000
DTEND;TZID=America/Denver:20290609T103000
DTSTAMP:20260423T122747
CREATED:20260216T213610Z
LAST-MODIFIED:20260407T230850Z
UID:10002807-1875690000-1875695400@www.csanglican.com
SUMMARY:Men's Bible Study
DESCRIPTION:Our Men’s Breakfast and Bible Study meets at the fellowship hall every other Saturday starting at 9:00am. Please RSVP to Mark Smith – mark.gateway2life@gmail.com or 719-245-8593
URL:https://www.csanglican.com/calendar/mens-bible-study/2029-06-09/
LOCATION:Holy Cross Fellowship Hall\, 2713 W Cucharras St.\, Colorado Springs\, CO\, 80904\, United States
ATTACH;FMTTYPE=image/webp:https://www.csanglican.com/wp-content/uploads/2026/02/mens-bible-study.webp
END:VEVENT
BEGIN:VEVENT
DTSTART;TZID=America/Denver:20290610T110000
DTEND;TZID=America/Denver:20290610T123000
DTSTAMP:20260423T122747
CREATED:20250306T163405Z
LAST-MODIFIED:20250602T152507Z
UID:10000224-1875783600-1875789000@www.csanglican.com
SUMMARY:Holy Communion
DESCRIPTION:The Anglican Church believes that “the Supper of the Lord (Holy Communion\, Eucharist) is not only a sign of the love that Christians ought to have among themselves one to another; but rather it is a Sacrament of our Redemption by Christ’s death: insomuch that to such as rightly\, worthily\, and with faith\, receive the same\, the Bread which we break is a partaking of the Body of Christ; and likewise the Cup of Blessing is a partaking of the Blood of Christ.”
URL:https://www.csanglican.com/calendar/holy-communion/2029-06-10/
LOCATION:Holy Cross Anglican Church\, 2703 W. Cucharras St.\, Colorado Springs\, CO\, 80904\, United States
ATTACH;FMTTYPE=image/jpeg:https://www.csanglican.com/wp-content/uploads/2025/03/DSC_5626-2-e1773930052251.jpg
END:VEVENT
BEGIN:VEVENT
DTSTART;TZID=America/Denver:20290612T073000
DTEND;TZID=America/Denver:20290612T080000
DTSTAMP:20260423T122747
CREATED:20260101T165343Z
LAST-MODIFIED:20260101T165343Z
UID:10002469-1875943800-1875945600@www.csanglican.com
SUMMARY:Morning Prayer (Matins) at Holy Cross
DESCRIPTION:We pray the service of Morning Prayer (Matins) at Holy Cross every Tuesday morning starting at 7:30am. All are welcome to join us for prayer and the reading of Scripture.
URL:https://www.csanglican.com/calendar/morning-prayer-matins-at-holy-cross/2029-06-12/
END:VEVENT
BEGIN:VEVENT
DTSTART;TZID=America/Denver:20290617T110000
DTEND;TZID=America/Denver:20290617T123000
DTSTAMP:20260423T122747
CREATED:20250306T163405Z
LAST-MODIFIED:20250602T152507Z
UID:10000225-1876388400-1876393800@www.csanglican.com
SUMMARY:Holy Communion
DESCRIPTION:The Anglican Church believes that “the Supper of the Lord (Holy Communion\, Eucharist) is not only a sign of the love that Christians ought to have among themselves one to another; but rather it is a Sacrament of our Redemption by Christ’s death: insomuch that to such as rightly\, worthily\, and with faith\, receive the same\, the Bread which we break is a partaking of the Body of Christ; and likewise the Cup of Blessing is a partaking of the Blood of Christ.”
URL:https://www.csanglican.com/calendar/holy-communion/2029-06-17/
LOCATION:Holy Cross Anglican Church\, 2703 W. Cucharras St.\, Colorado Springs\, CO\, 80904\, United States
ATTACH;FMTTYPE=image/jpeg:https://www.csanglican.com/wp-content/uploads/2025/03/DSC_5626-2-e1773930052251.jpg
END:VEVENT
BEGIN:VEVENT
DTSTART;TZID=America/Denver:20290619T073000
DTEND;TZID=America/Denver:20290619T080000
DTSTAMP:20260423T122747
CREATED:20260101T165343Z
LAST-MODIFIED:20260101T165343Z
UID:10002470-1876548600-1876550400@www.csanglican.com
SUMMARY:Morning Prayer (Matins) at Holy Cross
DESCRIPTION:We pray the service of Morning Prayer (Matins) at Holy Cross every Tuesday morning starting at 7:30am. All are welcome to join us for prayer and the reading of Scripture.
URL:https://www.csanglican.com/calendar/morning-prayer-matins-at-holy-cross/2029-06-19/
END:VEVENT
BEGIN:VEVENT
DTSTART;TZID=America/Denver:20290620T190000
DTEND;TZID=America/Denver:20290620T210000
DTSTAMP:20260423T122747
CREATED:20260407T230313Z
LAST-MODIFIED:20260407T230313Z
UID:10002933-1876676400-1876683600@www.csanglican.com
SUMMARY:Women's Bible Study
DESCRIPTION:Our Women’s Bible study meets every first and third Wednesday of the month at one of our parishioners homes starting at 7pm. Please reach out for more info.
URL:https://www.csanglican.com/calendar/womens-bible-study/2029-06-20/
ATTACH;FMTTYPE=image/webp:https://www.csanglican.com/wp-content/uploads/2026/04/womens-bible-study.webp
END:VEVENT
BEGIN:VEVENT
DTSTART;TZID=America/Denver:20290623T090000
DTEND;TZID=America/Denver:20290623T103000
DTSTAMP:20260423T122747
CREATED:20260216T213610Z
LAST-MODIFIED:20260407T230850Z
UID:10002808-1876899600-1876905000@www.csanglican.com
SUMMARY:Men's Bible Study
DESCRIPTION:Our Men’s Breakfast and Bible Study meets at the fellowship hall every other Saturday starting at 9:00am. Please RSVP to Mark Smith – mark.gateway2life@gmail.com or 719-245-8593
URL:https://www.csanglican.com/calendar/mens-bible-study/2029-06-23/
LOCATION:Holy Cross Fellowship Hall\, 2713 W Cucharras St.\, Colorado Springs\, CO\, 80904\, United States
ATTACH;FMTTYPE=image/webp:https://www.csanglican.com/wp-content/uploads/2026/02/mens-bible-study.webp
END:VEVENT
BEGIN:VEVENT
DTSTART;TZID=America/Denver:20290624T110000
DTEND;TZID=America/Denver:20290624T123000
DTSTAMP:20260423T122747
CREATED:20250306T163405Z
LAST-MODIFIED:20250602T152507Z
UID:10000226-1876993200-1876998600@www.csanglican.com
SUMMARY:Holy Communion
DESCRIPTION:The Anglican Church believes that “the Supper of the Lord (Holy Communion\, Eucharist) is not only a sign of the love that Christians ought to have among themselves one to another; but rather it is a Sacrament of our Redemption by Christ’s death: insomuch that to such as rightly\, worthily\, and with faith\, receive the same\, the Bread which we break is a partaking of the Body of Christ; and likewise the Cup of Blessing is a partaking of the Blood of Christ.”
URL:https://www.csanglican.com/calendar/holy-communion/2029-06-24/
LOCATION:Holy Cross Anglican Church\, 2703 W. Cucharras St.\, Colorado Springs\, CO\, 80904\, United States
ATTACH;FMTTYPE=image/jpeg:https://www.csanglican.com/wp-content/uploads/2025/03/DSC_5626-2-e1773930052251.jpg
END:VEVENT
BEGIN:VEVENT
DTSTART;TZID=America/Denver:20290626T073000
DTEND;TZID=America/Denver:20290626T080000
DTSTAMP:20260423T122747
CREATED:20260101T165343Z
LAST-MODIFIED:20260101T165343Z
UID:10002471-1877153400-1877155200@www.csanglican.com
SUMMARY:Morning Prayer (Matins) at Holy Cross
DESCRIPTION:We pray the service of Morning Prayer (Matins) at Holy Cross every Tuesday morning starting at 7:30am. All are welcome to join us for prayer and the reading of Scripture.
URL:https://www.csanglican.com/calendar/morning-prayer-matins-at-holy-cross/2029-06-26/
END:VEVENT
END:VCALENDAR