BEGIN:VCALENDAR
VERSION:2.0
PRODID:-//Holy Cross Anglican Church - ECPv6.15.20//NONSGML v1.0//EN
CALSCALE:GREGORIAN
METHOD:PUBLISH
X-ORIGINAL-URL:https://www.csanglican.com
X-WR-CALDESC:Events for Holy Cross Anglican Church
REFRESH-INTERVAL;VALUE=DURATION:PT1H
X-Robots-Tag:noindex
X-PUBLISHED-TTL:PT1H
BEGIN:VTIMEZONE
TZID:America/Denver
BEGIN:DAYLIGHT
TZOFFSETFROM:-0700
TZOFFSETTO:-0600
TZNAME:MDT
DTSTART:20270314T090000
END:DAYLIGHT
BEGIN:STANDARD
TZOFFSETFROM:-0600
TZOFFSETTO:-0700
TZNAME:MST
DTSTART:20271107T080000
END:STANDARD
BEGIN:DAYLIGHT
TZOFFSETFROM:-0700
TZOFFSETTO:-0600
TZNAME:MDT
DTSTART:20280312T090000
END:DAYLIGHT
BEGIN:STANDARD
TZOFFSETFROM:-0600
TZOFFSETTO:-0700
TZNAME:MST
DTSTART:20281105T080000
END:STANDARD
BEGIN:DAYLIGHT
TZOFFSETFROM:-0700
TZOFFSETTO:-0600
TZNAME:MDT
DTSTART:20290311T090000
END:DAYLIGHT
BEGIN:STANDARD
TZOFFSETFROM:-0600
TZOFFSETTO:-0700
TZNAME:MST
DTSTART:20291104T080000
END:STANDARD
END:VTIMEZONE
BEGIN:VEVENT
DTSTART;TZID=America/Denver:20280101T180000
DTEND;TZID=America/Denver:20280101T183000
DTSTAMP:20260423T082858
CREATED:20251202T170311Z
LAST-MODIFIED:20251202T170311Z
UID:10001504-1830362400-1830364200@www.csanglican.com
SUMMARY:Feast Day of the Circumcision of Christ
DESCRIPTION:We will celebrate the Prayer Book Feast Day of the Circumcision of Christ at Holy Cross with a service of Holy Communion starting at 6:00pm.
URL:https://www.csanglican.com/calendar/feast-day-of-the-circumcision-of-christ/2028-01-01/
ATTACH;FMTTYPE=image/jpeg:https://www.csanglican.com/wp-content/uploads/2025/12/cicumcision-of-christ.jpeg
END:VEVENT
BEGIN:VEVENT
DTSTART;TZID=America/Denver:20280102T110000
DTEND;TZID=America/Denver:20280102T123000
DTSTAMP:20260423T082858
CREATED:20250306T163405Z
LAST-MODIFIED:20250602T152507Z
UID:10000149-1830423600-1830429000@www.csanglican.com
SUMMARY:Holy Communion
DESCRIPTION:The Anglican Church believes that “the Supper of the Lord (Holy Communion\, Eucharist) is not only a sign of the love that Christians ought to have among themselves one to another; but rather it is a Sacrament of our Redemption by Christ’s death: insomuch that to such as rightly\, worthily\, and with faith\, receive the same\, the Bread which we break is a partaking of the Body of Christ; and likewise the Cup of Blessing is a partaking of the Blood of Christ.”
URL:https://www.csanglican.com/calendar/holy-communion/2028-01-02/
LOCATION:Holy Cross Anglican Church\, 2703 W. Cucharras St.\, Colorado Springs\, CO\, 80904\, United States
ATTACH;FMTTYPE=image/jpeg:https://www.csanglican.com/wp-content/uploads/2025/03/DSC_5626-2-e1773930052251.jpg
END:VEVENT
BEGIN:VEVENT
DTSTART;TZID=America/Denver:20280104T073000
DTEND;TZID=America/Denver:20280104T080000
DTSTAMP:20260423T082858
CREATED:20260101T165343Z
LAST-MODIFIED:20260101T165343Z
UID:10002394-1830583800-1830585600@www.csanglican.com
SUMMARY:Morning Prayer (Matins) at Holy Cross
DESCRIPTION:We pray the service of Morning Prayer (Matins) at Holy Cross every Tuesday morning starting at 7:30am. All are welcome to join us for prayer and the reading of Scripture.
URL:https://www.csanglican.com/calendar/morning-prayer-matins-at-holy-cross/2028-01-04/
END:VEVENT
BEGIN:VEVENT
DTSTART;TZID=America/Denver:20280105T190000
DTEND;TZID=America/Denver:20280105T210000
DTSTAMP:20260423T082858
CREATED:20260407T230348Z
LAST-MODIFIED:20260407T230425Z
UID:10003035-1830711600-1830718800@www.csanglican.com
SUMMARY:Women's Bible Study
DESCRIPTION:Our Women’s Bible study meets every first and third Wednesday of the month at one of our parishioners homes starting at 7pm. Please reach out for more info.
URL:https://www.csanglican.com/calendar/womens-bible-study-2/2028-01-05/
ATTACH;FMTTYPE=image/webp:https://www.csanglican.com/wp-content/uploads/2026/04/womens-bible-study.webp
END:VEVENT
BEGIN:VEVENT
DTSTART;TZID=America/Denver:20280108T090000
DTEND;TZID=America/Denver:20280108T103000
DTSTAMP:20260423T082858
CREATED:20260216T213610Z
LAST-MODIFIED:20260407T230850Z
UID:10002770-1830934800-1830940200@www.csanglican.com
SUMMARY:Men's Bible Study
DESCRIPTION:Our Men’s Breakfast and Bible Study meets at the fellowship hall every other Saturday starting at 9:00am. Please RSVP to Mark Smith – mark.gateway2life@gmail.com or 719-245-8593
URL:https://www.csanglican.com/calendar/mens-bible-study/2028-01-08/
LOCATION:Holy Cross Fellowship Hall\, 2713 W Cucharras St.\, Colorado Springs\, CO\, 80904\, United States
ATTACH;FMTTYPE=image/webp:https://www.csanglican.com/wp-content/uploads/2026/02/mens-bible-study.webp
END:VEVENT
BEGIN:VEVENT
DTSTART;TZID=America/Denver:20280109T110000
DTEND;TZID=America/Denver:20280109T123000
DTSTAMP:20260423T082858
CREATED:20250306T163405Z
LAST-MODIFIED:20250602T152507Z
UID:10000150-1831028400-1831033800@www.csanglican.com
SUMMARY:Holy Communion
DESCRIPTION:The Anglican Church believes that “the Supper of the Lord (Holy Communion\, Eucharist) is not only a sign of the love that Christians ought to have among themselves one to another; but rather it is a Sacrament of our Redemption by Christ’s death: insomuch that to such as rightly\, worthily\, and with faith\, receive the same\, the Bread which we break is a partaking of the Body of Christ; and likewise the Cup of Blessing is a partaking of the Blood of Christ.”
URL:https://www.csanglican.com/calendar/holy-communion/2028-01-09/
LOCATION:Holy Cross Anglican Church\, 2703 W. Cucharras St.\, Colorado Springs\, CO\, 80904\, United States
ATTACH;FMTTYPE=image/jpeg:https://www.csanglican.com/wp-content/uploads/2025/03/DSC_5626-2-e1773930052251.jpg
END:VEVENT
BEGIN:VEVENT
DTSTART;TZID=America/Denver:20280111T073000
DTEND;TZID=America/Denver:20280111T080000
DTSTAMP:20260423T082858
CREATED:20260101T165343Z
LAST-MODIFIED:20260101T165343Z
UID:10002395-1831188600-1831190400@www.csanglican.com
SUMMARY:Morning Prayer (Matins) at Holy Cross
DESCRIPTION:We pray the service of Morning Prayer (Matins) at Holy Cross every Tuesday morning starting at 7:30am. All are welcome to join us for prayer and the reading of Scripture.
URL:https://www.csanglican.com/calendar/morning-prayer-matins-at-holy-cross/2028-01-11/
END:VEVENT
BEGIN:VEVENT
DTSTART;TZID=America/Denver:20280116T110000
DTEND;TZID=America/Denver:20280116T123000
DTSTAMP:20260423T082858
CREATED:20250306T163405Z
LAST-MODIFIED:20250602T152507Z
UID:10000151-1831633200-1831638600@www.csanglican.com
SUMMARY:Holy Communion
DESCRIPTION:The Anglican Church believes that “the Supper of the Lord (Holy Communion\, Eucharist) is not only a sign of the love that Christians ought to have among themselves one to another; but rather it is a Sacrament of our Redemption by Christ’s death: insomuch that to such as rightly\, worthily\, and with faith\, receive the same\, the Bread which we break is a partaking of the Body of Christ; and likewise the Cup of Blessing is a partaking of the Blood of Christ.”
URL:https://www.csanglican.com/calendar/holy-communion/2028-01-16/
LOCATION:Holy Cross Anglican Church\, 2703 W. Cucharras St.\, Colorado Springs\, CO\, 80904\, United States
ATTACH;FMTTYPE=image/jpeg:https://www.csanglican.com/wp-content/uploads/2025/03/DSC_5626-2-e1773930052251.jpg
END:VEVENT
BEGIN:VEVENT
DTSTART;TZID=America/Denver:20280118T073000
DTEND;TZID=America/Denver:20280118T080000
DTSTAMP:20260423T082858
CREATED:20260101T165343Z
LAST-MODIFIED:20260101T165343Z
UID:10002396-1831793400-1831795200@www.csanglican.com
SUMMARY:Morning Prayer (Matins) at Holy Cross
DESCRIPTION:We pray the service of Morning Prayer (Matins) at Holy Cross every Tuesday morning starting at 7:30am. All are welcome to join us for prayer and the reading of Scripture.
URL:https://www.csanglican.com/calendar/morning-prayer-matins-at-holy-cross/2028-01-18/
END:VEVENT
BEGIN:VEVENT
DTSTART;TZID=America/Denver:20280119T190000
DTEND;TZID=America/Denver:20280119T210000
DTSTAMP:20260423T082858
CREATED:20260407T230313Z
LAST-MODIFIED:20260407T230313Z
UID:10002916-1831921200-1831928400@www.csanglican.com
SUMMARY:Women's Bible Study
DESCRIPTION:Our Women’s Bible study meets every first and third Wednesday of the month at one of our parishioners homes starting at 7pm. Please reach out for more info.
URL:https://www.csanglican.com/calendar/womens-bible-study/2028-01-19/
ATTACH;FMTTYPE=image/webp:https://www.csanglican.com/wp-content/uploads/2026/04/womens-bible-study.webp
END:VEVENT
BEGIN:VEVENT
DTSTART;TZID=America/Denver:20280122T090000
DTEND;TZID=America/Denver:20280122T103000
DTSTAMP:20260423T082858
CREATED:20260216T213610Z
LAST-MODIFIED:20260407T230850Z
UID:10002771-1832144400-1832149800@www.csanglican.com
SUMMARY:Men's Bible Study
DESCRIPTION:Our Men’s Breakfast and Bible Study meets at the fellowship hall every other Saturday starting at 9:00am. Please RSVP to Mark Smith – mark.gateway2life@gmail.com or 719-245-8593
URL:https://www.csanglican.com/calendar/mens-bible-study/2028-01-22/
LOCATION:Holy Cross Fellowship Hall\, 2713 W Cucharras St.\, Colorado Springs\, CO\, 80904\, United States
ATTACH;FMTTYPE=image/webp:https://www.csanglican.com/wp-content/uploads/2026/02/mens-bible-study.webp
END:VEVENT
BEGIN:VEVENT
DTSTART;TZID=America/Denver:20280123T110000
DTEND;TZID=America/Denver:20280123T123000
DTSTAMP:20260423T082858
CREATED:20250306T163405Z
LAST-MODIFIED:20250602T152507Z
UID:10000152-1832238000-1832243400@www.csanglican.com
SUMMARY:Holy Communion
DESCRIPTION:The Anglican Church believes that “the Supper of the Lord (Holy Communion\, Eucharist) is not only a sign of the love that Christians ought to have among themselves one to another; but rather it is a Sacrament of our Redemption by Christ’s death: insomuch that to such as rightly\, worthily\, and with faith\, receive the same\, the Bread which we break is a partaking of the Body of Christ; and likewise the Cup of Blessing is a partaking of the Blood of Christ.”
URL:https://www.csanglican.com/calendar/holy-communion/2028-01-23/
LOCATION:Holy Cross Anglican Church\, 2703 W. Cucharras St.\, Colorado Springs\, CO\, 80904\, United States
ATTACH;FMTTYPE=image/jpeg:https://www.csanglican.com/wp-content/uploads/2025/03/DSC_5626-2-e1773930052251.jpg
END:VEVENT
BEGIN:VEVENT
DTSTART;TZID=America/Denver:20280125T073000
DTEND;TZID=America/Denver:20280125T080000
DTSTAMP:20260423T082858
CREATED:20260101T165343Z
LAST-MODIFIED:20260101T165343Z
UID:10002397-1832398200-1832400000@www.csanglican.com
SUMMARY:Morning Prayer (Matins) at Holy Cross
DESCRIPTION:We pray the service of Morning Prayer (Matins) at Holy Cross every Tuesday morning starting at 7:30am. All are welcome to join us for prayer and the reading of Scripture.
URL:https://www.csanglican.com/calendar/morning-prayer-matins-at-holy-cross/2028-01-25/
END:VEVENT
BEGIN:VEVENT
DTSTART;TZID=America/Denver:20280128T190000
DTEND;TZID=America/Denver:20280128T220000
DTSTAMP:20260423T082858
CREATED:20260410T144649Z
LAST-MODIFIED:20260410T144649Z
UID:10003097-1832698800-1832709600@www.csanglican.com
SUMMARY:Men's Casual Fellowship around the Fire
DESCRIPTION:We have a monthly casual men’s fellowship around the fire on the last Friday of the month starting at 7pm. Bring a pipe and a drink to share with the group.
URL:https://www.csanglican.com/calendar/mens-casual-fellowship-around-the-fire/2028-01-28/
ATTACH;FMTTYPE=image/jpeg:https://www.csanglican.com/wp-content/uploads/2026/03/jim-chesek-iqH-MGgYFLg-unsplash-2-scaled.jpg
END:VEVENT
BEGIN:VEVENT
DTSTART;TZID=America/Denver:20280130T110000
DTEND;TZID=America/Denver:20280130T123000
DTSTAMP:20260423T082858
CREATED:20250306T163405Z
LAST-MODIFIED:20250602T152507Z
UID:10000153-1832842800-1832848200@www.csanglican.com
SUMMARY:Holy Communion
DESCRIPTION:The Anglican Church believes that “the Supper of the Lord (Holy Communion\, Eucharist) is not only a sign of the love that Christians ought to have among themselves one to another; but rather it is a Sacrament of our Redemption by Christ’s death: insomuch that to such as rightly\, worthily\, and with faith\, receive the same\, the Bread which we break is a partaking of the Body of Christ; and likewise the Cup of Blessing is a partaking of the Blood of Christ.”
URL:https://www.csanglican.com/calendar/holy-communion/2028-01-30/
LOCATION:Holy Cross Anglican Church\, 2703 W. Cucharras St.\, Colorado Springs\, CO\, 80904\, United States
ATTACH;FMTTYPE=image/jpeg:https://www.csanglican.com/wp-content/uploads/2025/03/DSC_5626-2-e1773930052251.jpg
END:VEVENT
END:VCALENDAR