BEGIN:VCALENDAR
VERSION:2.0
PRODID:-//Holy Cross Anglican Church - ECPv6.15.20//NONSGML v1.0//EN
CALSCALE:GREGORIAN
METHOD:PUBLISH
X-WR-CALNAME:Holy Cross Anglican Church
X-ORIGINAL-URL:https://www.csanglican.com
X-WR-CALDESC:Events for Holy Cross Anglican Church
REFRESH-INTERVAL;VALUE=DURATION:PT1H
X-Robots-Tag:noindex
X-PUBLISHED-TTL:PT1H
BEGIN:VTIMEZONE
TZID:America/Denver
BEGIN:DAYLIGHT
TZOFFSETFROM:-0700
TZOFFSETTO:-0600
TZNAME:MDT
DTSTART:20260308T090000
END:DAYLIGHT
BEGIN:STANDARD
TZOFFSETFROM:-0600
TZOFFSETTO:-0700
TZNAME:MST
DTSTART:20261101T080000
END:STANDARD
BEGIN:DAYLIGHT
TZOFFSETFROM:-0700
TZOFFSETTO:-0600
TZNAME:MDT
DTSTART:20270314T090000
END:DAYLIGHT
BEGIN:STANDARD
TZOFFSETFROM:-0600
TZOFFSETTO:-0700
TZNAME:MST
DTSTART:20271107T080000
END:STANDARD
BEGIN:DAYLIGHT
TZOFFSETFROM:-0700
TZOFFSETTO:-0600
TZNAME:MDT
DTSTART:20280312T090000
END:DAYLIGHT
BEGIN:STANDARD
TZOFFSETFROM:-0600
TZOFFSETTO:-0700
TZNAME:MST
DTSTART:20281105T080000
END:STANDARD
BEGIN:DAYLIGHT
TZOFFSETFROM:-0700
TZOFFSETTO:-0600
TZNAME:MDT
DTSTART:20290311T090000
END:DAYLIGHT
BEGIN:STANDARD
TZOFFSETFROM:-0600
TZOFFSETTO:-0700
TZNAME:MST
DTSTART:20291104T080000
END:STANDARD
BEGIN:DAYLIGHT
TZOFFSETFROM:-0700
TZOFFSETTO:-0600
TZNAME:MDT
DTSTART:20300310T090000
END:DAYLIGHT
BEGIN:STANDARD
TZOFFSETFROM:-0600
TZOFFSETTO:-0700
TZNAME:MST
DTSTART:20301103T080000
END:STANDARD
BEGIN:DAYLIGHT
TZOFFSETFROM:-0700
TZOFFSETTO:-0600
TZNAME:MDT
DTSTART:20310309T090000
END:DAYLIGHT
BEGIN:STANDARD
TZOFFSETFROM:-0600
TZOFFSETTO:-0700
TZNAME:MST
DTSTART:20311102T080000
END:STANDARD
END:VTIMEZONE
BEGIN:VEVENT
DTSTART;TZID=America/Denver:20270325T183000
DTEND;TZID=America/Denver:20270325T193000
DTSTAMP:20260423T022335
CREATED:20260224T230500Z
LAST-MODIFIED:20260224T230605Z
UID:10002863-1805999400-1806003000@www.csanglican.com
SUMMARY:Prayer Book Feast Day of the Annunciation of the Blessed Virgin Mary
DESCRIPTION:Christ Church will be hosting a service of Holy Communion for this prayer book feast day starting at 6:30pm.
URL:https://www.csanglican.com/calendar/prayer-book-feast-day-of-the-annunciation-of-the-blessed-virgin-mary/2027-03-25/
ATTACH;FMTTYPE=image/webp:https://www.csanglican.com/wp-content/uploads/2026/02/annunciation.webp
END:VEVENT
BEGIN:VEVENT
DTSTART;TZID=America/Denver:20280325T183000
DTEND;TZID=America/Denver:20280325T193000
DTSTAMP:20260423T022335
CREATED:20260224T230500Z
LAST-MODIFIED:20260224T230605Z
UID:10002864-1837621800-1837625400@www.csanglican.com
SUMMARY:Prayer Book Feast Day of the Annunciation of the Blessed Virgin Mary
DESCRIPTION:Christ Church will be hosting a service of Holy Communion for this prayer book feast day starting at 6:30pm.
URL:https://www.csanglican.com/calendar/prayer-book-feast-day-of-the-annunciation-of-the-blessed-virgin-mary/2028-03-25/
ATTACH;FMTTYPE=image/webp:https://www.csanglican.com/wp-content/uploads/2026/02/annunciation.webp
END:VEVENT
BEGIN:VEVENT
DTSTART;TZID=America/Denver:20290325T183000
DTEND;TZID=America/Denver:20290325T193000
DTSTAMP:20260423T022335
CREATED:20260224T230500Z
LAST-MODIFIED:20260224T230605Z
UID:10002865-1869157800-1869161400@www.csanglican.com
SUMMARY:Prayer Book Feast Day of the Annunciation of the Blessed Virgin Mary
DESCRIPTION:Christ Church will be hosting a service of Holy Communion for this prayer book feast day starting at 6:30pm.
URL:https://www.csanglican.com/calendar/prayer-book-feast-day-of-the-annunciation-of-the-blessed-virgin-mary/2029-03-25/
ATTACH;FMTTYPE=image/webp:https://www.csanglican.com/wp-content/uploads/2026/02/annunciation.webp
END:VEVENT
BEGIN:VEVENT
DTSTART;TZID=America/Denver:20300325T183000
DTEND;TZID=America/Denver:20300325T193000
DTSTAMP:20260423T022335
CREATED:20260224T230500Z
LAST-MODIFIED:20260224T230605Z
UID:10002866-1900693800-1900697400@www.csanglican.com
SUMMARY:Prayer Book Feast Day of the Annunciation of the Blessed Virgin Mary
DESCRIPTION:Christ Church will be hosting a service of Holy Communion for this prayer book feast day starting at 6:30pm.
URL:https://www.csanglican.com/calendar/prayer-book-feast-day-of-the-annunciation-of-the-blessed-virgin-mary/2030-03-25/
ATTACH;FMTTYPE=image/webp:https://www.csanglican.com/wp-content/uploads/2026/02/annunciation.webp
END:VEVENT
END:VCALENDAR