BEGIN:VCALENDAR
VERSION:2.0
PRODID:-//Holy Cross Anglican Church - ECPv6.15.20//NONSGML v1.0//EN
CALSCALE:GREGORIAN
METHOD:PUBLISH
X-WR-CALNAME:Holy Cross Anglican Church
X-ORIGINAL-URL:https://www.csanglican.com
X-WR-CALDESC:Events for Holy Cross Anglican Church
REFRESH-INTERVAL;VALUE=DURATION:PT1H
X-Robots-Tag:noindex
X-PUBLISHED-TTL:PT1H
BEGIN:VTIMEZONE
TZID:America/Denver
BEGIN:DAYLIGHT
TZOFFSETFROM:-0700
TZOFFSETTO:-0600
TZNAME:MDT
DTSTART:20280312T090000
END:DAYLIGHT
BEGIN:STANDARD
TZOFFSETFROM:-0600
TZOFFSETTO:-0700
TZNAME:MST
DTSTART:20281105T080000
END:STANDARD
BEGIN:DAYLIGHT
TZOFFSETFROM:-0700
TZOFFSETTO:-0600
TZNAME:MDT
DTSTART:20290311T090000
END:DAYLIGHT
BEGIN:STANDARD
TZOFFSETFROM:-0600
TZOFFSETTO:-0700
TZNAME:MST
DTSTART:20291104T080000
END:STANDARD
BEGIN:DAYLIGHT
TZOFFSETFROM:-0700
TZOFFSETTO:-0600
TZNAME:MDT
DTSTART:20300310T090000
END:DAYLIGHT
BEGIN:STANDARD
TZOFFSETFROM:-0600
TZOFFSETTO:-0700
TZNAME:MST
DTSTART:20301103T080000
END:STANDARD
BEGIN:DAYLIGHT
TZOFFSETFROM:-0700
TZOFFSETTO:-0600
TZNAME:MDT
DTSTART:20310309T090000
END:DAYLIGHT
BEGIN:STANDARD
TZOFFSETFROM:-0600
TZOFFSETTO:-0700
TZNAME:MST
DTSTART:20311102T080000
END:STANDARD
END:VTIMEZONE
BEGIN:VEVENT
DTSTART;TZID=America/Denver:20290526T090000
DTEND;TZID=America/Denver:20290526T103000
DTSTAMP:20260419T155334
CREATED:20260216T213610Z
LAST-MODIFIED:20260407T230850Z
UID:10002806-1874480400-1874485800@www.csanglican.com
SUMMARY:Men's Bible Study
DESCRIPTION:Our Men’s Breakfast and Bible Study meets at the fellowship hall every other Saturday starting at 9:00am. Please RSVP to Mark Smith – mark.gateway2life@gmail.com or 719-245-8593
URL:https://www.csanglican.com/calendar/mens-bible-study/2029-05-26/
LOCATION:Holy Cross Fellowship Hall\, 2713 W Cucharras St.\, Colorado Springs\, CO\, 80904\, United States
ATTACH;FMTTYPE=image/webp:https://www.csanglican.com/wp-content/uploads/2026/02/mens-bible-study.webp
END:VEVENT
BEGIN:VEVENT
DTSTART;TZID=America/Denver:20290609T090000
DTEND;TZID=America/Denver:20290609T103000
DTSTAMP:20260419T155334
CREATED:20260216T213610Z
LAST-MODIFIED:20260407T230850Z
UID:10002807-1875690000-1875695400@www.csanglican.com
SUMMARY:Men's Bible Study
DESCRIPTION:Our Men’s Breakfast and Bible Study meets at the fellowship hall every other Saturday starting at 9:00am. Please RSVP to Mark Smith – mark.gateway2life@gmail.com or 719-245-8593
URL:https://www.csanglican.com/calendar/mens-bible-study/2029-06-09/
LOCATION:Holy Cross Fellowship Hall\, 2713 W Cucharras St.\, Colorado Springs\, CO\, 80904\, United States
ATTACH;FMTTYPE=image/webp:https://www.csanglican.com/wp-content/uploads/2026/02/mens-bible-study.webp
END:VEVENT
BEGIN:VEVENT
DTSTART;TZID=America/Denver:20290623T090000
DTEND;TZID=America/Denver:20290623T103000
DTSTAMP:20260419T155334
CREATED:20260216T213610Z
LAST-MODIFIED:20260407T230850Z
UID:10002808-1876899600-1876905000@www.csanglican.com
SUMMARY:Men's Bible Study
DESCRIPTION:Our Men’s Breakfast and Bible Study meets at the fellowship hall every other Saturday starting at 9:00am. Please RSVP to Mark Smith – mark.gateway2life@gmail.com or 719-245-8593
URL:https://www.csanglican.com/calendar/mens-bible-study/2029-06-23/
LOCATION:Holy Cross Fellowship Hall\, 2713 W Cucharras St.\, Colorado Springs\, CO\, 80904\, United States
ATTACH;FMTTYPE=image/webp:https://www.csanglican.com/wp-content/uploads/2026/02/mens-bible-study.webp
END:VEVENT
BEGIN:VEVENT
DTSTART;TZID=America/Denver:20290707T090000
DTEND;TZID=America/Denver:20290707T103000
DTSTAMP:20260419T155334
CREATED:20260216T213610Z
LAST-MODIFIED:20260407T230850Z
UID:10002809-1878109200-1878114600@www.csanglican.com
SUMMARY:Men's Bible Study
DESCRIPTION:Our Men’s Breakfast and Bible Study meets at the fellowship hall every other Saturday starting at 9:00am. Please RSVP to Mark Smith – mark.gateway2life@gmail.com or 719-245-8593
URL:https://www.csanglican.com/calendar/mens-bible-study/2029-07-07/
LOCATION:Holy Cross Fellowship Hall\, 2713 W Cucharras St.\, Colorado Springs\, CO\, 80904\, United States
ATTACH;FMTTYPE=image/webp:https://www.csanglican.com/wp-content/uploads/2026/02/mens-bible-study.webp
END:VEVENT
BEGIN:VEVENT
DTSTART;TZID=America/Denver:20290721T090000
DTEND;TZID=America/Denver:20290721T103000
DTSTAMP:20260419T155334
CREATED:20260216T213610Z
LAST-MODIFIED:20260407T230850Z
UID:10002810-1879318800-1879324200@www.csanglican.com
SUMMARY:Men's Bible Study
DESCRIPTION:Our Men’s Breakfast and Bible Study meets at the fellowship hall every other Saturday starting at 9:00am. Please RSVP to Mark Smith – mark.gateway2life@gmail.com or 719-245-8593
URL:https://www.csanglican.com/calendar/mens-bible-study/2029-07-21/
LOCATION:Holy Cross Fellowship Hall\, 2713 W Cucharras St.\, Colorado Springs\, CO\, 80904\, United States
ATTACH;FMTTYPE=image/webp:https://www.csanglican.com/wp-content/uploads/2026/02/mens-bible-study.webp
END:VEVENT
BEGIN:VEVENT
DTSTART;TZID=America/Denver:20290804T090000
DTEND;TZID=America/Denver:20290804T103000
DTSTAMP:20260419T155334
CREATED:20260216T213610Z
LAST-MODIFIED:20260407T230850Z
UID:10002811-1880528400-1880533800@www.csanglican.com
SUMMARY:Men's Bible Study
DESCRIPTION:Our Men’s Breakfast and Bible Study meets at the fellowship hall every other Saturday starting at 9:00am. Please RSVP to Mark Smith – mark.gateway2life@gmail.com or 719-245-8593
URL:https://www.csanglican.com/calendar/mens-bible-study/2029-08-04/
LOCATION:Holy Cross Fellowship Hall\, 2713 W Cucharras St.\, Colorado Springs\, CO\, 80904\, United States
ATTACH;FMTTYPE=image/webp:https://www.csanglican.com/wp-content/uploads/2026/02/mens-bible-study.webp
END:VEVENT
BEGIN:VEVENT
DTSTART;TZID=America/Denver:20290818T090000
DTEND;TZID=America/Denver:20290818T103000
DTSTAMP:20260419T155334
CREATED:20260216T213610Z
LAST-MODIFIED:20260407T230850Z
UID:10002812-1881738000-1881743400@www.csanglican.com
SUMMARY:Men's Bible Study
DESCRIPTION:Our Men’s Breakfast and Bible Study meets at the fellowship hall every other Saturday starting at 9:00am. Please RSVP to Mark Smith – mark.gateway2life@gmail.com or 719-245-8593
URL:https://www.csanglican.com/calendar/mens-bible-study/2029-08-18/
LOCATION:Holy Cross Fellowship Hall\, 2713 W Cucharras St.\, Colorado Springs\, CO\, 80904\, United States
ATTACH;FMTTYPE=image/webp:https://www.csanglican.com/wp-content/uploads/2026/02/mens-bible-study.webp
END:VEVENT
BEGIN:VEVENT
DTSTART;TZID=America/Denver:20290901T090000
DTEND;TZID=America/Denver:20290901T103000
DTSTAMP:20260419T155334
CREATED:20260216T213610Z
LAST-MODIFIED:20260407T230850Z
UID:10002813-1882947600-1882953000@www.csanglican.com
SUMMARY:Men's Bible Study
DESCRIPTION:Our Men’s Breakfast and Bible Study meets at the fellowship hall every other Saturday starting at 9:00am. Please RSVP to Mark Smith – mark.gateway2life@gmail.com or 719-245-8593
URL:https://www.csanglican.com/calendar/mens-bible-study/2029-09-01/
LOCATION:Holy Cross Fellowship Hall\, 2713 W Cucharras St.\, Colorado Springs\, CO\, 80904\, United States
ATTACH;FMTTYPE=image/webp:https://www.csanglican.com/wp-content/uploads/2026/02/mens-bible-study.webp
END:VEVENT
BEGIN:VEVENT
DTSTART;TZID=America/Denver:20290915T090000
DTEND;TZID=America/Denver:20290915T103000
DTSTAMP:20260419T155334
CREATED:20260216T213610Z
LAST-MODIFIED:20260407T230850Z
UID:10002814-1884157200-1884162600@www.csanglican.com
SUMMARY:Men's Bible Study
DESCRIPTION:Our Men’s Breakfast and Bible Study meets at the fellowship hall every other Saturday starting at 9:00am. Please RSVP to Mark Smith – mark.gateway2life@gmail.com or 719-245-8593
URL:https://www.csanglican.com/calendar/mens-bible-study/2029-09-15/
LOCATION:Holy Cross Fellowship Hall\, 2713 W Cucharras St.\, Colorado Springs\, CO\, 80904\, United States
ATTACH;FMTTYPE=image/webp:https://www.csanglican.com/wp-content/uploads/2026/02/mens-bible-study.webp
END:VEVENT
BEGIN:VEVENT
DTSTART;TZID=America/Denver:20290929T090000
DTEND;TZID=America/Denver:20290929T103000
DTSTAMP:20260419T155334
CREATED:20260216T213610Z
LAST-MODIFIED:20260407T230850Z
UID:10002815-1885366800-1885372200@www.csanglican.com
SUMMARY:Men's Bible Study
DESCRIPTION:Our Men’s Breakfast and Bible Study meets at the fellowship hall every other Saturday starting at 9:00am. Please RSVP to Mark Smith – mark.gateway2life@gmail.com or 719-245-8593
URL:https://www.csanglican.com/calendar/mens-bible-study/2029-09-29/
LOCATION:Holy Cross Fellowship Hall\, 2713 W Cucharras St.\, Colorado Springs\, CO\, 80904\, United States
ATTACH;FMTTYPE=image/webp:https://www.csanglican.com/wp-content/uploads/2026/02/mens-bible-study.webp
END:VEVENT
BEGIN:VEVENT
DTSTART;TZID=America/Denver:20291013T090000
DTEND;TZID=America/Denver:20291013T103000
DTSTAMP:20260419T155334
CREATED:20260216T213610Z
LAST-MODIFIED:20260407T230850Z
UID:10002816-1886576400-1886581800@www.csanglican.com
SUMMARY:Men's Bible Study
DESCRIPTION:Our Men’s Breakfast and Bible Study meets at the fellowship hall every other Saturday starting at 9:00am. Please RSVP to Mark Smith – mark.gateway2life@gmail.com or 719-245-8593
URL:https://www.csanglican.com/calendar/mens-bible-study/2029-10-13/
LOCATION:Holy Cross Fellowship Hall\, 2713 W Cucharras St.\, Colorado Springs\, CO\, 80904\, United States
ATTACH;FMTTYPE=image/webp:https://www.csanglican.com/wp-content/uploads/2026/02/mens-bible-study.webp
END:VEVENT
BEGIN:VEVENT
DTSTART;TZID=America/Denver:20291027T090000
DTEND;TZID=America/Denver:20291027T103000
DTSTAMP:20260419T155334
CREATED:20260216T213610Z
LAST-MODIFIED:20260407T230850Z
UID:10002817-1887786000-1887791400@www.csanglican.com
SUMMARY:Men's Bible Study
DESCRIPTION:Our Men’s Breakfast and Bible Study meets at the fellowship hall every other Saturday starting at 9:00am. Please RSVP to Mark Smith – mark.gateway2life@gmail.com or 719-245-8593
URL:https://www.csanglican.com/calendar/mens-bible-study/2029-10-27/
LOCATION:Holy Cross Fellowship Hall\, 2713 W Cucharras St.\, Colorado Springs\, CO\, 80904\, United States
ATTACH;FMTTYPE=image/webp:https://www.csanglican.com/wp-content/uploads/2026/02/mens-bible-study.webp
END:VEVENT
BEGIN:VEVENT
DTSTART;TZID=America/Denver:20291110T090000
DTEND;TZID=America/Denver:20291110T103000
DTSTAMP:20260419T155334
CREATED:20260216T213610Z
LAST-MODIFIED:20260407T230850Z
UID:10002818-1888995600-1889001000@www.csanglican.com
SUMMARY:Men's Bible Study
DESCRIPTION:Our Men’s Breakfast and Bible Study meets at the fellowship hall every other Saturday starting at 9:00am. Please RSVP to Mark Smith – mark.gateway2life@gmail.com or 719-245-8593
URL:https://www.csanglican.com/calendar/mens-bible-study/2029-11-10/
LOCATION:Holy Cross Fellowship Hall\, 2713 W Cucharras St.\, Colorado Springs\, CO\, 80904\, United States
ATTACH;FMTTYPE=image/webp:https://www.csanglican.com/wp-content/uploads/2026/02/mens-bible-study.webp
END:VEVENT
BEGIN:VEVENT
DTSTART;TZID=America/Denver:20291124T090000
DTEND;TZID=America/Denver:20291124T103000
DTSTAMP:20260419T155334
CREATED:20260216T213610Z
LAST-MODIFIED:20260407T230850Z
UID:10002819-1890205200-1890210600@www.csanglican.com
SUMMARY:Men's Bible Study
DESCRIPTION:Our Men’s Breakfast and Bible Study meets at the fellowship hall every other Saturday starting at 9:00am. Please RSVP to Mark Smith – mark.gateway2life@gmail.com or 719-245-8593
URL:https://www.csanglican.com/calendar/mens-bible-study/2029-11-24/
LOCATION:Holy Cross Fellowship Hall\, 2713 W Cucharras St.\, Colorado Springs\, CO\, 80904\, United States
ATTACH;FMTTYPE=image/webp:https://www.csanglican.com/wp-content/uploads/2026/02/mens-bible-study.webp
END:VEVENT
BEGIN:VEVENT
DTSTART;TZID=America/Denver:20291208T090000
DTEND;TZID=America/Denver:20291208T103000
DTSTAMP:20260419T155334
CREATED:20260216T213610Z
LAST-MODIFIED:20260407T230850Z
UID:10002820-1891414800-1891420200@www.csanglican.com
SUMMARY:Men's Bible Study
DESCRIPTION:Our Men’s Breakfast and Bible Study meets at the fellowship hall every other Saturday starting at 9:00am. Please RSVP to Mark Smith – mark.gateway2life@gmail.com or 719-245-8593
URL:https://www.csanglican.com/calendar/mens-bible-study/2029-12-08/
LOCATION:Holy Cross Fellowship Hall\, 2713 W Cucharras St.\, Colorado Springs\, CO\, 80904\, United States
ATTACH;FMTTYPE=image/webp:https://www.csanglican.com/wp-content/uploads/2026/02/mens-bible-study.webp
END:VEVENT
BEGIN:VEVENT
DTSTART;TZID=America/Denver:20291222T090000
DTEND;TZID=America/Denver:20291222T103000
DTSTAMP:20260419T155334
CREATED:20260216T213610Z
LAST-MODIFIED:20260407T230850Z
UID:10002821-1892624400-1892629800@www.csanglican.com
SUMMARY:Men's Bible Study
DESCRIPTION:Our Men’s Breakfast and Bible Study meets at the fellowship hall every other Saturday starting at 9:00am. Please RSVP to Mark Smith – mark.gateway2life@gmail.com or 719-245-8593
URL:https://www.csanglican.com/calendar/mens-bible-study/2029-12-22/
LOCATION:Holy Cross Fellowship Hall\, 2713 W Cucharras St.\, Colorado Springs\, CO\, 80904\, United States
ATTACH;FMTTYPE=image/webp:https://www.csanglican.com/wp-content/uploads/2026/02/mens-bible-study.webp
END:VEVENT
BEGIN:VEVENT
DTSTART;TZID=America/Denver:20300105T090000
DTEND;TZID=America/Denver:20300105T103000
DTSTAMP:20260419T155334
CREATED:20260216T213610Z
LAST-MODIFIED:20260407T230850Z
UID:10002822-1893834000-1893839400@www.csanglican.com
SUMMARY:Men's Bible Study
DESCRIPTION:Our Men’s Breakfast and Bible Study meets at the fellowship hall every other Saturday starting at 9:00am. Please RSVP to Mark Smith – mark.gateway2life@gmail.com or 719-245-8593
URL:https://www.csanglican.com/calendar/mens-bible-study/2030-01-05/
LOCATION:Holy Cross Fellowship Hall\, 2713 W Cucharras St.\, Colorado Springs\, CO\, 80904\, United States
ATTACH;FMTTYPE=image/webp:https://www.csanglican.com/wp-content/uploads/2026/02/mens-bible-study.webp
END:VEVENT
BEGIN:VEVENT
DTSTART;TZID=America/Denver:20300119T090000
DTEND;TZID=America/Denver:20300119T103000
DTSTAMP:20260419T155334
CREATED:20260216T213610Z
LAST-MODIFIED:20260407T230850Z
UID:10002823-1895043600-1895049000@www.csanglican.com
SUMMARY:Men's Bible Study
DESCRIPTION:Our Men’s Breakfast and Bible Study meets at the fellowship hall every other Saturday starting at 9:00am. Please RSVP to Mark Smith – mark.gateway2life@gmail.com or 719-245-8593
URL:https://www.csanglican.com/calendar/mens-bible-study/2030-01-19/
LOCATION:Holy Cross Fellowship Hall\, 2713 W Cucharras St.\, Colorado Springs\, CO\, 80904\, United States
ATTACH;FMTTYPE=image/webp:https://www.csanglican.com/wp-content/uploads/2026/02/mens-bible-study.webp
END:VEVENT
BEGIN:VEVENT
DTSTART;TZID=America/Denver:20300202T090000
DTEND;TZID=America/Denver:20300202T103000
DTSTAMP:20260419T155334
CREATED:20260216T213610Z
LAST-MODIFIED:20260407T230850Z
UID:10002824-1896253200-1896258600@www.csanglican.com
SUMMARY:Men's Bible Study
DESCRIPTION:Our Men’s Breakfast and Bible Study meets at the fellowship hall every other Saturday starting at 9:00am. Please RSVP to Mark Smith – mark.gateway2life@gmail.com or 719-245-8593
URL:https://www.csanglican.com/calendar/mens-bible-study/2030-02-02/
LOCATION:Holy Cross Fellowship Hall\, 2713 W Cucharras St.\, Colorado Springs\, CO\, 80904\, United States
ATTACH;FMTTYPE=image/webp:https://www.csanglican.com/wp-content/uploads/2026/02/mens-bible-study.webp
END:VEVENT
BEGIN:VEVENT
DTSTART;TZID=America/Denver:20300216T090000
DTEND;TZID=America/Denver:20300216T103000
DTSTAMP:20260419T155334
CREATED:20260216T213610Z
LAST-MODIFIED:20260407T230850Z
UID:10002825-1897462800-1897468200@www.csanglican.com
SUMMARY:Men's Bible Study
DESCRIPTION:Our Men’s Breakfast and Bible Study meets at the fellowship hall every other Saturday starting at 9:00am. Please RSVP to Mark Smith – mark.gateway2life@gmail.com or 719-245-8593
URL:https://www.csanglican.com/calendar/mens-bible-study/2030-02-16/
LOCATION:Holy Cross Fellowship Hall\, 2713 W Cucharras St.\, Colorado Springs\, CO\, 80904\, United States
ATTACH;FMTTYPE=image/webp:https://www.csanglican.com/wp-content/uploads/2026/02/mens-bible-study.webp
END:VEVENT
BEGIN:VEVENT
DTSTART;TZID=America/Denver:20300302T090000
DTEND;TZID=America/Denver:20300302T103000
DTSTAMP:20260419T155334
CREATED:20260216T213610Z
LAST-MODIFIED:20260407T230850Z
UID:10002826-1898672400-1898677800@www.csanglican.com
SUMMARY:Men's Bible Study
DESCRIPTION:Our Men’s Breakfast and Bible Study meets at the fellowship hall every other Saturday starting at 9:00am. Please RSVP to Mark Smith – mark.gateway2life@gmail.com or 719-245-8593
URL:https://www.csanglican.com/calendar/mens-bible-study/2030-03-02/
LOCATION:Holy Cross Fellowship Hall\, 2713 W Cucharras St.\, Colorado Springs\, CO\, 80904\, United States
ATTACH;FMTTYPE=image/webp:https://www.csanglican.com/wp-content/uploads/2026/02/mens-bible-study.webp
END:VEVENT
BEGIN:VEVENT
DTSTART;TZID=America/Denver:20300316T090000
DTEND;TZID=America/Denver:20300316T103000
DTSTAMP:20260419T155334
CREATED:20260216T213610Z
LAST-MODIFIED:20260407T230850Z
UID:10002827-1899882000-1899887400@www.csanglican.com
SUMMARY:Men's Bible Study
DESCRIPTION:Our Men’s Breakfast and Bible Study meets at the fellowship hall every other Saturday starting at 9:00am. Please RSVP to Mark Smith – mark.gateway2life@gmail.com or 719-245-8593
URL:https://www.csanglican.com/calendar/mens-bible-study/2030-03-16/
LOCATION:Holy Cross Fellowship Hall\, 2713 W Cucharras St.\, Colorado Springs\, CO\, 80904\, United States
ATTACH;FMTTYPE=image/webp:https://www.csanglican.com/wp-content/uploads/2026/02/mens-bible-study.webp
END:VEVENT
BEGIN:VEVENT
DTSTART;TZID=America/Denver:20300330T090000
DTEND;TZID=America/Denver:20300330T103000
DTSTAMP:20260419T155334
CREATED:20260216T213610Z
LAST-MODIFIED:20260407T230850Z
UID:10002828-1901091600-1901097000@www.csanglican.com
SUMMARY:Men's Bible Study
DESCRIPTION:Our Men’s Breakfast and Bible Study meets at the fellowship hall every other Saturday starting at 9:00am. Please RSVP to Mark Smith – mark.gateway2life@gmail.com or 719-245-8593
URL:https://www.csanglican.com/calendar/mens-bible-study/2030-03-30/
LOCATION:Holy Cross Fellowship Hall\, 2713 W Cucharras St.\, Colorado Springs\, CO\, 80904\, United States
ATTACH;FMTTYPE=image/webp:https://www.csanglican.com/wp-content/uploads/2026/02/mens-bible-study.webp
END:VEVENT
BEGIN:VEVENT
DTSTART;TZID=America/Denver:20300413T090000
DTEND;TZID=America/Denver:20300413T103000
DTSTAMP:20260419T155334
CREATED:20260216T213610Z
LAST-MODIFIED:20260407T230850Z
UID:10002829-1902301200-1902306600@www.csanglican.com
SUMMARY:Men's Bible Study
DESCRIPTION:Our Men’s Breakfast and Bible Study meets at the fellowship hall every other Saturday starting at 9:00am. Please RSVP to Mark Smith – mark.gateway2life@gmail.com or 719-245-8593
URL:https://www.csanglican.com/calendar/mens-bible-study/2030-04-13/
LOCATION:Holy Cross Fellowship Hall\, 2713 W Cucharras St.\, Colorado Springs\, CO\, 80904\, United States
ATTACH;FMTTYPE=image/webp:https://www.csanglican.com/wp-content/uploads/2026/02/mens-bible-study.webp
END:VEVENT
BEGIN:VEVENT
DTSTART;TZID=America/Denver:20300427T090000
DTEND;TZID=America/Denver:20300427T103000
DTSTAMP:20260419T155334
CREATED:20260216T213610Z
LAST-MODIFIED:20260407T230850Z
UID:10002830-1903510800-1903516200@www.csanglican.com
SUMMARY:Men's Bible Study
DESCRIPTION:Our Men’s Breakfast and Bible Study meets at the fellowship hall every other Saturday starting at 9:00am. Please RSVP to Mark Smith – mark.gateway2life@gmail.com or 719-245-8593
URL:https://www.csanglican.com/calendar/mens-bible-study/2030-04-27/
LOCATION:Holy Cross Fellowship Hall\, 2713 W Cucharras St.\, Colorado Springs\, CO\, 80904\, United States
ATTACH;FMTTYPE=image/webp:https://www.csanglican.com/wp-content/uploads/2026/02/mens-bible-study.webp
END:VEVENT
BEGIN:VEVENT
DTSTART;TZID=America/Denver:20300511T090000
DTEND;TZID=America/Denver:20300511T103000
DTSTAMP:20260419T155334
CREATED:20260216T213610Z
LAST-MODIFIED:20260407T230850Z
UID:10002831-1904720400-1904725800@www.csanglican.com
SUMMARY:Men's Bible Study
DESCRIPTION:Our Men’s Breakfast and Bible Study meets at the fellowship hall every other Saturday starting at 9:00am. Please RSVP to Mark Smith – mark.gateway2life@gmail.com or 719-245-8593
URL:https://www.csanglican.com/calendar/mens-bible-study/2030-05-11/
LOCATION:Holy Cross Fellowship Hall\, 2713 W Cucharras St.\, Colorado Springs\, CO\, 80904\, United States
ATTACH;FMTTYPE=image/webp:https://www.csanglican.com/wp-content/uploads/2026/02/mens-bible-study.webp
END:VEVENT
BEGIN:VEVENT
DTSTART;TZID=America/Denver:20300525T090000
DTEND;TZID=America/Denver:20300525T103000
DTSTAMP:20260419T155334
CREATED:20260216T213610Z
LAST-MODIFIED:20260407T230850Z
UID:10002832-1905930000-1905935400@www.csanglican.com
SUMMARY:Men's Bible Study
DESCRIPTION:Our Men’s Breakfast and Bible Study meets at the fellowship hall every other Saturday starting at 9:00am. Please RSVP to Mark Smith – mark.gateway2life@gmail.com or 719-245-8593
URL:https://www.csanglican.com/calendar/mens-bible-study/2030-05-25/
LOCATION:Holy Cross Fellowship Hall\, 2713 W Cucharras St.\, Colorado Springs\, CO\, 80904\, United States
ATTACH;FMTTYPE=image/webp:https://www.csanglican.com/wp-content/uploads/2026/02/mens-bible-study.webp
END:VEVENT
BEGIN:VEVENT
DTSTART;TZID=America/Denver:20300608T090000
DTEND;TZID=America/Denver:20300608T103000
DTSTAMP:20260419T155334
CREATED:20260216T213610Z
LAST-MODIFIED:20260407T230850Z
UID:10002833-1907139600-1907145000@www.csanglican.com
SUMMARY:Men's Bible Study
DESCRIPTION:Our Men’s Breakfast and Bible Study meets at the fellowship hall every other Saturday starting at 9:00am. Please RSVP to Mark Smith – mark.gateway2life@gmail.com or 719-245-8593
URL:https://www.csanglican.com/calendar/mens-bible-study/2030-06-08/
LOCATION:Holy Cross Fellowship Hall\, 2713 W Cucharras St.\, Colorado Springs\, CO\, 80904\, United States
ATTACH;FMTTYPE=image/webp:https://www.csanglican.com/wp-content/uploads/2026/02/mens-bible-study.webp
END:VEVENT
BEGIN:VEVENT
DTSTART;TZID=America/Denver:20300622T090000
DTEND;TZID=America/Denver:20300622T103000
DTSTAMP:20260419T155334
CREATED:20260216T213610Z
LAST-MODIFIED:20260407T230850Z
UID:10002834-1908349200-1908354600@www.csanglican.com
SUMMARY:Men's Bible Study
DESCRIPTION:Our Men’s Breakfast and Bible Study meets at the fellowship hall every other Saturday starting at 9:00am. Please RSVP to Mark Smith – mark.gateway2life@gmail.com or 719-245-8593
URL:https://www.csanglican.com/calendar/mens-bible-study/2030-06-22/
LOCATION:Holy Cross Fellowship Hall\, 2713 W Cucharras St.\, Colorado Springs\, CO\, 80904\, United States
ATTACH;FMTTYPE=image/webp:https://www.csanglican.com/wp-content/uploads/2026/02/mens-bible-study.webp
END:VEVENT
BEGIN:VEVENT
DTSTART;TZID=America/Denver:20300706T090000
DTEND;TZID=America/Denver:20300706T103000
DTSTAMP:20260419T155334
CREATED:20260216T213610Z
LAST-MODIFIED:20260407T230850Z
UID:10002835-1909558800-1909564200@www.csanglican.com
SUMMARY:Men's Bible Study
DESCRIPTION:Our Men’s Breakfast and Bible Study meets at the fellowship hall every other Saturday starting at 9:00am. Please RSVP to Mark Smith – mark.gateway2life@gmail.com or 719-245-8593
URL:https://www.csanglican.com/calendar/mens-bible-study/2030-07-06/
LOCATION:Holy Cross Fellowship Hall\, 2713 W Cucharras St.\, Colorado Springs\, CO\, 80904\, United States
ATTACH;FMTTYPE=image/webp:https://www.csanglican.com/wp-content/uploads/2026/02/mens-bible-study.webp
END:VEVENT
END:VCALENDAR