BEGIN:VCALENDAR
VERSION:2.0
PRODID:-//Holy Cross Anglican Church - ECPv6.15.20//NONSGML v1.0//EN
CALSCALE:GREGORIAN
METHOD:PUBLISH
X-WR-CALNAME:Holy Cross Anglican Church
X-ORIGINAL-URL:https://www.csanglican.com
X-WR-CALDESC:Events for Holy Cross Anglican Church
REFRESH-INTERVAL;VALUE=DURATION:PT1H
X-Robots-Tag:noindex
X-PUBLISHED-TTL:PT1H
BEGIN:VTIMEZONE
TZID:America/Denver
BEGIN:DAYLIGHT
TZOFFSETFROM:-0700
TZOFFSETTO:-0600
TZNAME:MDT
DTSTART:20270314T090000
END:DAYLIGHT
BEGIN:STANDARD
TZOFFSETFROM:-0600
TZOFFSETTO:-0700
TZNAME:MST
DTSTART:20271107T080000
END:STANDARD
BEGIN:DAYLIGHT
TZOFFSETFROM:-0700
TZOFFSETTO:-0600
TZNAME:MDT
DTSTART:20280312T090000
END:DAYLIGHT
BEGIN:STANDARD
TZOFFSETFROM:-0600
TZOFFSETTO:-0700
TZNAME:MST
DTSTART:20281105T080000
END:STANDARD
BEGIN:DAYLIGHT
TZOFFSETFROM:-0700
TZOFFSETTO:-0600
TZNAME:MDT
DTSTART:20290311T090000
END:DAYLIGHT
BEGIN:STANDARD
TZOFFSETFROM:-0600
TZOFFSETTO:-0700
TZNAME:MST
DTSTART:20291104T080000
END:STANDARD
BEGIN:DAYLIGHT
TZOFFSETFROM:-0700
TZOFFSETTO:-0600
TZNAME:MDT
DTSTART:20300310T090000
END:DAYLIGHT
BEGIN:STANDARD
TZOFFSETFROM:-0600
TZOFFSETTO:-0700
TZNAME:MST
DTSTART:20301103T080000
END:STANDARD
END:VTIMEZONE
BEGIN:VEVENT
DTSTART;TZID=America/Denver:20280624T090000
DTEND;TZID=America/Denver:20280624T103000
DTSTAMP:20260419T111204
CREATED:20260216T213610Z
LAST-MODIFIED:20260407T230850Z
UID:10002782-1845450000-1845455400@www.csanglican.com
SUMMARY:Men's Bible Study
DESCRIPTION:Our Men’s Breakfast and Bible Study meets at the fellowship hall every other Saturday starting at 9:00am. Please RSVP to Mark Smith – mark.gateway2life@gmail.com or 719-245-8593
URL:https://www.csanglican.com/calendar/mens-bible-study/2028-06-24/
LOCATION:Holy Cross Fellowship Hall\, 2713 W Cucharras St.\, Colorado Springs\, CO\, 80904\, United States
ATTACH;FMTTYPE=image/webp:https://www.csanglican.com/wp-content/uploads/2026/02/mens-bible-study.webp
END:VEVENT
BEGIN:VEVENT
DTSTART;TZID=America/Denver:20280708T090000
DTEND;TZID=America/Denver:20280708T103000
DTSTAMP:20260419T111204
CREATED:20260216T213610Z
LAST-MODIFIED:20260407T230850Z
UID:10002783-1846659600-1846665000@www.csanglican.com
SUMMARY:Men's Bible Study
DESCRIPTION:Our Men’s Breakfast and Bible Study meets at the fellowship hall every other Saturday starting at 9:00am. Please RSVP to Mark Smith – mark.gateway2life@gmail.com or 719-245-8593
URL:https://www.csanglican.com/calendar/mens-bible-study/2028-07-08/
LOCATION:Holy Cross Fellowship Hall\, 2713 W Cucharras St.\, Colorado Springs\, CO\, 80904\, United States
ATTACH;FMTTYPE=image/webp:https://www.csanglican.com/wp-content/uploads/2026/02/mens-bible-study.webp
END:VEVENT
BEGIN:VEVENT
DTSTART;TZID=America/Denver:20280722T090000
DTEND;TZID=America/Denver:20280722T103000
DTSTAMP:20260419T111204
CREATED:20260216T213610Z
LAST-MODIFIED:20260407T230850Z
UID:10002784-1847869200-1847874600@www.csanglican.com
SUMMARY:Men's Bible Study
DESCRIPTION:Our Men’s Breakfast and Bible Study meets at the fellowship hall every other Saturday starting at 9:00am. Please RSVP to Mark Smith – mark.gateway2life@gmail.com or 719-245-8593
URL:https://www.csanglican.com/calendar/mens-bible-study/2028-07-22/
LOCATION:Holy Cross Fellowship Hall\, 2713 W Cucharras St.\, Colorado Springs\, CO\, 80904\, United States
ATTACH;FMTTYPE=image/webp:https://www.csanglican.com/wp-content/uploads/2026/02/mens-bible-study.webp
END:VEVENT
BEGIN:VEVENT
DTSTART;TZID=America/Denver:20280805T090000
DTEND;TZID=America/Denver:20280805T103000
DTSTAMP:20260419T111204
CREATED:20260216T213610Z
LAST-MODIFIED:20260407T230850Z
UID:10002785-1849078800-1849084200@www.csanglican.com
SUMMARY:Men's Bible Study
DESCRIPTION:Our Men’s Breakfast and Bible Study meets at the fellowship hall every other Saturday starting at 9:00am. Please RSVP to Mark Smith – mark.gateway2life@gmail.com or 719-245-8593
URL:https://www.csanglican.com/calendar/mens-bible-study/2028-08-05/
LOCATION:Holy Cross Fellowship Hall\, 2713 W Cucharras St.\, Colorado Springs\, CO\, 80904\, United States
ATTACH;FMTTYPE=image/webp:https://www.csanglican.com/wp-content/uploads/2026/02/mens-bible-study.webp
END:VEVENT
BEGIN:VEVENT
DTSTART;TZID=America/Denver:20280819T090000
DTEND;TZID=America/Denver:20280819T103000
DTSTAMP:20260419T111204
CREATED:20260216T213610Z
LAST-MODIFIED:20260407T230850Z
UID:10002786-1850288400-1850293800@www.csanglican.com
SUMMARY:Men's Bible Study
DESCRIPTION:Our Men’s Breakfast and Bible Study meets at the fellowship hall every other Saturday starting at 9:00am. Please RSVP to Mark Smith – mark.gateway2life@gmail.com or 719-245-8593
URL:https://www.csanglican.com/calendar/mens-bible-study/2028-08-19/
LOCATION:Holy Cross Fellowship Hall\, 2713 W Cucharras St.\, Colorado Springs\, CO\, 80904\, United States
ATTACH;FMTTYPE=image/webp:https://www.csanglican.com/wp-content/uploads/2026/02/mens-bible-study.webp
END:VEVENT
BEGIN:VEVENT
DTSTART;TZID=America/Denver:20280902T090000
DTEND;TZID=America/Denver:20280902T103000
DTSTAMP:20260419T111204
CREATED:20260216T213610Z
LAST-MODIFIED:20260407T230850Z
UID:10002787-1851498000-1851503400@www.csanglican.com
SUMMARY:Men's Bible Study
DESCRIPTION:Our Men’s Breakfast and Bible Study meets at the fellowship hall every other Saturday starting at 9:00am. Please RSVP to Mark Smith – mark.gateway2life@gmail.com or 719-245-8593
URL:https://www.csanglican.com/calendar/mens-bible-study/2028-09-02/
LOCATION:Holy Cross Fellowship Hall\, 2713 W Cucharras St.\, Colorado Springs\, CO\, 80904\, United States
ATTACH;FMTTYPE=image/webp:https://www.csanglican.com/wp-content/uploads/2026/02/mens-bible-study.webp
END:VEVENT
BEGIN:VEVENT
DTSTART;TZID=America/Denver:20280916T090000
DTEND;TZID=America/Denver:20280916T103000
DTSTAMP:20260419T111204
CREATED:20260216T213610Z
LAST-MODIFIED:20260407T230850Z
UID:10002788-1852707600-1852713000@www.csanglican.com
SUMMARY:Men's Bible Study
DESCRIPTION:Our Men’s Breakfast and Bible Study meets at the fellowship hall every other Saturday starting at 9:00am. Please RSVP to Mark Smith – mark.gateway2life@gmail.com or 719-245-8593
URL:https://www.csanglican.com/calendar/mens-bible-study/2028-09-16/
LOCATION:Holy Cross Fellowship Hall\, 2713 W Cucharras St.\, Colorado Springs\, CO\, 80904\, United States
ATTACH;FMTTYPE=image/webp:https://www.csanglican.com/wp-content/uploads/2026/02/mens-bible-study.webp
END:VEVENT
BEGIN:VEVENT
DTSTART;TZID=America/Denver:20280930T090000
DTEND;TZID=America/Denver:20280930T103000
DTSTAMP:20260419T111204
CREATED:20260216T213610Z
LAST-MODIFIED:20260407T230850Z
UID:10002789-1853917200-1853922600@www.csanglican.com
SUMMARY:Men's Bible Study
DESCRIPTION:Our Men’s Breakfast and Bible Study meets at the fellowship hall every other Saturday starting at 9:00am. Please RSVP to Mark Smith – mark.gateway2life@gmail.com or 719-245-8593
URL:https://www.csanglican.com/calendar/mens-bible-study/2028-09-30/
LOCATION:Holy Cross Fellowship Hall\, 2713 W Cucharras St.\, Colorado Springs\, CO\, 80904\, United States
ATTACH;FMTTYPE=image/webp:https://www.csanglican.com/wp-content/uploads/2026/02/mens-bible-study.webp
END:VEVENT
BEGIN:VEVENT
DTSTART;TZID=America/Denver:20281014T090000
DTEND;TZID=America/Denver:20281014T103000
DTSTAMP:20260419T111204
CREATED:20260216T213610Z
LAST-MODIFIED:20260407T230850Z
UID:10002790-1855126800-1855132200@www.csanglican.com
SUMMARY:Men's Bible Study
DESCRIPTION:Our Men’s Breakfast and Bible Study meets at the fellowship hall every other Saturday starting at 9:00am. Please RSVP to Mark Smith – mark.gateway2life@gmail.com or 719-245-8593
URL:https://www.csanglican.com/calendar/mens-bible-study/2028-10-14/
LOCATION:Holy Cross Fellowship Hall\, 2713 W Cucharras St.\, Colorado Springs\, CO\, 80904\, United States
ATTACH;FMTTYPE=image/webp:https://www.csanglican.com/wp-content/uploads/2026/02/mens-bible-study.webp
END:VEVENT
BEGIN:VEVENT
DTSTART;TZID=America/Denver:20281028T090000
DTEND;TZID=America/Denver:20281028T103000
DTSTAMP:20260419T111204
CREATED:20260216T213610Z
LAST-MODIFIED:20260407T230850Z
UID:10002791-1856336400-1856341800@www.csanglican.com
SUMMARY:Men's Bible Study
DESCRIPTION:Our Men’s Breakfast and Bible Study meets at the fellowship hall every other Saturday starting at 9:00am. Please RSVP to Mark Smith – mark.gateway2life@gmail.com or 719-245-8593
URL:https://www.csanglican.com/calendar/mens-bible-study/2028-10-28/
LOCATION:Holy Cross Fellowship Hall\, 2713 W Cucharras St.\, Colorado Springs\, CO\, 80904\, United States
ATTACH;FMTTYPE=image/webp:https://www.csanglican.com/wp-content/uploads/2026/02/mens-bible-study.webp
END:VEVENT
BEGIN:VEVENT
DTSTART;TZID=America/Denver:20281111T090000
DTEND;TZID=America/Denver:20281111T103000
DTSTAMP:20260419T111204
CREATED:20260216T213610Z
LAST-MODIFIED:20260407T230850Z
UID:10002792-1857546000-1857551400@www.csanglican.com
SUMMARY:Men's Bible Study
DESCRIPTION:Our Men’s Breakfast and Bible Study meets at the fellowship hall every other Saturday starting at 9:00am. Please RSVP to Mark Smith – mark.gateway2life@gmail.com or 719-245-8593
URL:https://www.csanglican.com/calendar/mens-bible-study/2028-11-11/
LOCATION:Holy Cross Fellowship Hall\, 2713 W Cucharras St.\, Colorado Springs\, CO\, 80904\, United States
ATTACH;FMTTYPE=image/webp:https://www.csanglican.com/wp-content/uploads/2026/02/mens-bible-study.webp
END:VEVENT
BEGIN:VEVENT
DTSTART;TZID=America/Denver:20281125T090000
DTEND;TZID=America/Denver:20281125T103000
DTSTAMP:20260419T111204
CREATED:20260216T213610Z
LAST-MODIFIED:20260407T230850Z
UID:10002793-1858755600-1858761000@www.csanglican.com
SUMMARY:Men's Bible Study
DESCRIPTION:Our Men’s Breakfast and Bible Study meets at the fellowship hall every other Saturday starting at 9:00am. Please RSVP to Mark Smith – mark.gateway2life@gmail.com or 719-245-8593
URL:https://www.csanglican.com/calendar/mens-bible-study/2028-11-25/
LOCATION:Holy Cross Fellowship Hall\, 2713 W Cucharras St.\, Colorado Springs\, CO\, 80904\, United States
ATTACH;FMTTYPE=image/webp:https://www.csanglican.com/wp-content/uploads/2026/02/mens-bible-study.webp
END:VEVENT
BEGIN:VEVENT
DTSTART;TZID=America/Denver:20281209T090000
DTEND;TZID=America/Denver:20281209T103000
DTSTAMP:20260419T111204
CREATED:20260216T213610Z
LAST-MODIFIED:20260407T230850Z
UID:10002794-1859965200-1859970600@www.csanglican.com
SUMMARY:Men's Bible Study
DESCRIPTION:Our Men’s Breakfast and Bible Study meets at the fellowship hall every other Saturday starting at 9:00am. Please RSVP to Mark Smith – mark.gateway2life@gmail.com or 719-245-8593
URL:https://www.csanglican.com/calendar/mens-bible-study/2028-12-09/
LOCATION:Holy Cross Fellowship Hall\, 2713 W Cucharras St.\, Colorado Springs\, CO\, 80904\, United States
ATTACH;FMTTYPE=image/webp:https://www.csanglican.com/wp-content/uploads/2026/02/mens-bible-study.webp
END:VEVENT
BEGIN:VEVENT
DTSTART;TZID=America/Denver:20281223T090000
DTEND;TZID=America/Denver:20281223T103000
DTSTAMP:20260419T111204
CREATED:20260216T213610Z
LAST-MODIFIED:20260407T230850Z
UID:10002795-1861174800-1861180200@www.csanglican.com
SUMMARY:Men's Bible Study
DESCRIPTION:Our Men’s Breakfast and Bible Study meets at the fellowship hall every other Saturday starting at 9:00am. Please RSVP to Mark Smith – mark.gateway2life@gmail.com or 719-245-8593
URL:https://www.csanglican.com/calendar/mens-bible-study/2028-12-23/
LOCATION:Holy Cross Fellowship Hall\, 2713 W Cucharras St.\, Colorado Springs\, CO\, 80904\, United States
ATTACH;FMTTYPE=image/webp:https://www.csanglican.com/wp-content/uploads/2026/02/mens-bible-study.webp
END:VEVENT
BEGIN:VEVENT
DTSTART;TZID=America/Denver:20290106T090000
DTEND;TZID=America/Denver:20290106T103000
DTSTAMP:20260419T111204
CREATED:20260216T213610Z
LAST-MODIFIED:20260407T230850Z
UID:10002796-1862384400-1862389800@www.csanglican.com
SUMMARY:Men's Bible Study
DESCRIPTION:Our Men’s Breakfast and Bible Study meets at the fellowship hall every other Saturday starting at 9:00am. Please RSVP to Mark Smith – mark.gateway2life@gmail.com or 719-245-8593
URL:https://www.csanglican.com/calendar/mens-bible-study/2029-01-06/
LOCATION:Holy Cross Fellowship Hall\, 2713 W Cucharras St.\, Colorado Springs\, CO\, 80904\, United States
ATTACH;FMTTYPE=image/webp:https://www.csanglican.com/wp-content/uploads/2026/02/mens-bible-study.webp
END:VEVENT
BEGIN:VEVENT
DTSTART;TZID=America/Denver:20290120T090000
DTEND;TZID=America/Denver:20290120T103000
DTSTAMP:20260419T111204
CREATED:20260216T213610Z
LAST-MODIFIED:20260407T230850Z
UID:10002797-1863594000-1863599400@www.csanglican.com
SUMMARY:Men's Bible Study
DESCRIPTION:Our Men’s Breakfast and Bible Study meets at the fellowship hall every other Saturday starting at 9:00am. Please RSVP to Mark Smith – mark.gateway2life@gmail.com or 719-245-8593
URL:https://www.csanglican.com/calendar/mens-bible-study/2029-01-20/
LOCATION:Holy Cross Fellowship Hall\, 2713 W Cucharras St.\, Colorado Springs\, CO\, 80904\, United States
ATTACH;FMTTYPE=image/webp:https://www.csanglican.com/wp-content/uploads/2026/02/mens-bible-study.webp
END:VEVENT
BEGIN:VEVENT
DTSTART;TZID=America/Denver:20290203T090000
DTEND;TZID=America/Denver:20290203T103000
DTSTAMP:20260419T111204
CREATED:20260216T213610Z
LAST-MODIFIED:20260407T230850Z
UID:10002798-1864803600-1864809000@www.csanglican.com
SUMMARY:Men's Bible Study
DESCRIPTION:Our Men’s Breakfast and Bible Study meets at the fellowship hall every other Saturday starting at 9:00am. Please RSVP to Mark Smith – mark.gateway2life@gmail.com or 719-245-8593
URL:https://www.csanglican.com/calendar/mens-bible-study/2029-02-03/
LOCATION:Holy Cross Fellowship Hall\, 2713 W Cucharras St.\, Colorado Springs\, CO\, 80904\, United States
ATTACH;FMTTYPE=image/webp:https://www.csanglican.com/wp-content/uploads/2026/02/mens-bible-study.webp
END:VEVENT
BEGIN:VEVENT
DTSTART;TZID=America/Denver:20290217T090000
DTEND;TZID=America/Denver:20290217T103000
DTSTAMP:20260419T111204
CREATED:20260216T213610Z
LAST-MODIFIED:20260407T230850Z
UID:10002799-1866013200-1866018600@www.csanglican.com
SUMMARY:Men's Bible Study
DESCRIPTION:Our Men’s Breakfast and Bible Study meets at the fellowship hall every other Saturday starting at 9:00am. Please RSVP to Mark Smith – mark.gateway2life@gmail.com or 719-245-8593
URL:https://www.csanglican.com/calendar/mens-bible-study/2029-02-17/
LOCATION:Holy Cross Fellowship Hall\, 2713 W Cucharras St.\, Colorado Springs\, CO\, 80904\, United States
ATTACH;FMTTYPE=image/webp:https://www.csanglican.com/wp-content/uploads/2026/02/mens-bible-study.webp
END:VEVENT
BEGIN:VEVENT
DTSTART;TZID=America/Denver:20290303T090000
DTEND;TZID=America/Denver:20290303T103000
DTSTAMP:20260419T111204
CREATED:20260216T213610Z
LAST-MODIFIED:20260407T230850Z
UID:10002800-1867222800-1867228200@www.csanglican.com
SUMMARY:Men's Bible Study
DESCRIPTION:Our Men’s Breakfast and Bible Study meets at the fellowship hall every other Saturday starting at 9:00am. Please RSVP to Mark Smith – mark.gateway2life@gmail.com or 719-245-8593
URL:https://www.csanglican.com/calendar/mens-bible-study/2029-03-03/
LOCATION:Holy Cross Fellowship Hall\, 2713 W Cucharras St.\, Colorado Springs\, CO\, 80904\, United States
ATTACH;FMTTYPE=image/webp:https://www.csanglican.com/wp-content/uploads/2026/02/mens-bible-study.webp
END:VEVENT
BEGIN:VEVENT
DTSTART;TZID=America/Denver:20290317T090000
DTEND;TZID=America/Denver:20290317T103000
DTSTAMP:20260419T111204
CREATED:20260216T213610Z
LAST-MODIFIED:20260407T230850Z
UID:10002801-1868432400-1868437800@www.csanglican.com
SUMMARY:Men's Bible Study
DESCRIPTION:Our Men’s Breakfast and Bible Study meets at the fellowship hall every other Saturday starting at 9:00am. Please RSVP to Mark Smith – mark.gateway2life@gmail.com or 719-245-8593
URL:https://www.csanglican.com/calendar/mens-bible-study/2029-03-17/
LOCATION:Holy Cross Fellowship Hall\, 2713 W Cucharras St.\, Colorado Springs\, CO\, 80904\, United States
ATTACH;FMTTYPE=image/webp:https://www.csanglican.com/wp-content/uploads/2026/02/mens-bible-study.webp
END:VEVENT
BEGIN:VEVENT
DTSTART;TZID=America/Denver:20290331T090000
DTEND;TZID=America/Denver:20290331T103000
DTSTAMP:20260419T111204
CREATED:20260216T213610Z
LAST-MODIFIED:20260407T230850Z
UID:10002802-1869642000-1869647400@www.csanglican.com
SUMMARY:Men's Bible Study
DESCRIPTION:Our Men’s Breakfast and Bible Study meets at the fellowship hall every other Saturday starting at 9:00am. Please RSVP to Mark Smith – mark.gateway2life@gmail.com or 719-245-8593
URL:https://www.csanglican.com/calendar/mens-bible-study/2029-03-31/
LOCATION:Holy Cross Fellowship Hall\, 2713 W Cucharras St.\, Colorado Springs\, CO\, 80904\, United States
ATTACH;FMTTYPE=image/webp:https://www.csanglican.com/wp-content/uploads/2026/02/mens-bible-study.webp
END:VEVENT
BEGIN:VEVENT
DTSTART;TZID=America/Denver:20290414T090000
DTEND;TZID=America/Denver:20290414T103000
DTSTAMP:20260419T111204
CREATED:20260216T213610Z
LAST-MODIFIED:20260407T230850Z
UID:10002803-1870851600-1870857000@www.csanglican.com
SUMMARY:Men's Bible Study
DESCRIPTION:Our Men’s Breakfast and Bible Study meets at the fellowship hall every other Saturday starting at 9:00am. Please RSVP to Mark Smith – mark.gateway2life@gmail.com or 719-245-8593
URL:https://www.csanglican.com/calendar/mens-bible-study/2029-04-14/
LOCATION:Holy Cross Fellowship Hall\, 2713 W Cucharras St.\, Colorado Springs\, CO\, 80904\, United States
ATTACH;FMTTYPE=image/webp:https://www.csanglican.com/wp-content/uploads/2026/02/mens-bible-study.webp
END:VEVENT
BEGIN:VEVENT
DTSTART;TZID=America/Denver:20290428T090000
DTEND;TZID=America/Denver:20290428T103000
DTSTAMP:20260419T111204
CREATED:20260216T213610Z
LAST-MODIFIED:20260407T230850Z
UID:10002804-1872061200-1872066600@www.csanglican.com
SUMMARY:Men's Bible Study
DESCRIPTION:Our Men’s Breakfast and Bible Study meets at the fellowship hall every other Saturday starting at 9:00am. Please RSVP to Mark Smith – mark.gateway2life@gmail.com or 719-245-8593
URL:https://www.csanglican.com/calendar/mens-bible-study/2029-04-28/
LOCATION:Holy Cross Fellowship Hall\, 2713 W Cucharras St.\, Colorado Springs\, CO\, 80904\, United States
ATTACH;FMTTYPE=image/webp:https://www.csanglican.com/wp-content/uploads/2026/02/mens-bible-study.webp
END:VEVENT
BEGIN:VEVENT
DTSTART;TZID=America/Denver:20290512T090000
DTEND;TZID=America/Denver:20290512T103000
DTSTAMP:20260419T111204
CREATED:20260216T213610Z
LAST-MODIFIED:20260407T230850Z
UID:10002805-1873270800-1873276200@www.csanglican.com
SUMMARY:Men's Bible Study
DESCRIPTION:Our Men’s Breakfast and Bible Study meets at the fellowship hall every other Saturday starting at 9:00am. Please RSVP to Mark Smith – mark.gateway2life@gmail.com or 719-245-8593
URL:https://www.csanglican.com/calendar/mens-bible-study/2029-05-12/
LOCATION:Holy Cross Fellowship Hall\, 2713 W Cucharras St.\, Colorado Springs\, CO\, 80904\, United States
ATTACH;FMTTYPE=image/webp:https://www.csanglican.com/wp-content/uploads/2026/02/mens-bible-study.webp
END:VEVENT
BEGIN:VEVENT
DTSTART;TZID=America/Denver:20290526T090000
DTEND;TZID=America/Denver:20290526T103000
DTSTAMP:20260419T111204
CREATED:20260216T213610Z
LAST-MODIFIED:20260407T230850Z
UID:10002806-1874480400-1874485800@www.csanglican.com
SUMMARY:Men's Bible Study
DESCRIPTION:Our Men’s Breakfast and Bible Study meets at the fellowship hall every other Saturday starting at 9:00am. Please RSVP to Mark Smith – mark.gateway2life@gmail.com or 719-245-8593
URL:https://www.csanglican.com/calendar/mens-bible-study/2029-05-26/
LOCATION:Holy Cross Fellowship Hall\, 2713 W Cucharras St.\, Colorado Springs\, CO\, 80904\, United States
ATTACH;FMTTYPE=image/webp:https://www.csanglican.com/wp-content/uploads/2026/02/mens-bible-study.webp
END:VEVENT
BEGIN:VEVENT
DTSTART;TZID=America/Denver:20290609T090000
DTEND;TZID=America/Denver:20290609T103000
DTSTAMP:20260419T111204
CREATED:20260216T213610Z
LAST-MODIFIED:20260407T230850Z
UID:10002807-1875690000-1875695400@www.csanglican.com
SUMMARY:Men's Bible Study
DESCRIPTION:Our Men’s Breakfast and Bible Study meets at the fellowship hall every other Saturday starting at 9:00am. Please RSVP to Mark Smith – mark.gateway2life@gmail.com or 719-245-8593
URL:https://www.csanglican.com/calendar/mens-bible-study/2029-06-09/
LOCATION:Holy Cross Fellowship Hall\, 2713 W Cucharras St.\, Colorado Springs\, CO\, 80904\, United States
ATTACH;FMTTYPE=image/webp:https://www.csanglican.com/wp-content/uploads/2026/02/mens-bible-study.webp
END:VEVENT
BEGIN:VEVENT
DTSTART;TZID=America/Denver:20290623T090000
DTEND;TZID=America/Denver:20290623T103000
DTSTAMP:20260419T111204
CREATED:20260216T213610Z
LAST-MODIFIED:20260407T230850Z
UID:10002808-1876899600-1876905000@www.csanglican.com
SUMMARY:Men's Bible Study
DESCRIPTION:Our Men’s Breakfast and Bible Study meets at the fellowship hall every other Saturday starting at 9:00am. Please RSVP to Mark Smith – mark.gateway2life@gmail.com or 719-245-8593
URL:https://www.csanglican.com/calendar/mens-bible-study/2029-06-23/
LOCATION:Holy Cross Fellowship Hall\, 2713 W Cucharras St.\, Colorado Springs\, CO\, 80904\, United States
ATTACH;FMTTYPE=image/webp:https://www.csanglican.com/wp-content/uploads/2026/02/mens-bible-study.webp
END:VEVENT
BEGIN:VEVENT
DTSTART;TZID=America/Denver:20290707T090000
DTEND;TZID=America/Denver:20290707T103000
DTSTAMP:20260419T111204
CREATED:20260216T213610Z
LAST-MODIFIED:20260407T230850Z
UID:10002809-1878109200-1878114600@www.csanglican.com
SUMMARY:Men's Bible Study
DESCRIPTION:Our Men’s Breakfast and Bible Study meets at the fellowship hall every other Saturday starting at 9:00am. Please RSVP to Mark Smith – mark.gateway2life@gmail.com or 719-245-8593
URL:https://www.csanglican.com/calendar/mens-bible-study/2029-07-07/
LOCATION:Holy Cross Fellowship Hall\, 2713 W Cucharras St.\, Colorado Springs\, CO\, 80904\, United States
ATTACH;FMTTYPE=image/webp:https://www.csanglican.com/wp-content/uploads/2026/02/mens-bible-study.webp
END:VEVENT
BEGIN:VEVENT
DTSTART;TZID=America/Denver:20290721T090000
DTEND;TZID=America/Denver:20290721T103000
DTSTAMP:20260419T111204
CREATED:20260216T213610Z
LAST-MODIFIED:20260407T230850Z
UID:10002810-1879318800-1879324200@www.csanglican.com
SUMMARY:Men's Bible Study
DESCRIPTION:Our Men’s Breakfast and Bible Study meets at the fellowship hall every other Saturday starting at 9:00am. Please RSVP to Mark Smith – mark.gateway2life@gmail.com or 719-245-8593
URL:https://www.csanglican.com/calendar/mens-bible-study/2029-07-21/
LOCATION:Holy Cross Fellowship Hall\, 2713 W Cucharras St.\, Colorado Springs\, CO\, 80904\, United States
ATTACH;FMTTYPE=image/webp:https://www.csanglican.com/wp-content/uploads/2026/02/mens-bible-study.webp
END:VEVENT
BEGIN:VEVENT
DTSTART;TZID=America/Denver:20290804T090000
DTEND;TZID=America/Denver:20290804T103000
DTSTAMP:20260419T111204
CREATED:20260216T213610Z
LAST-MODIFIED:20260407T230850Z
UID:10002811-1880528400-1880533800@www.csanglican.com
SUMMARY:Men's Bible Study
DESCRIPTION:Our Men’s Breakfast and Bible Study meets at the fellowship hall every other Saturday starting at 9:00am. Please RSVP to Mark Smith – mark.gateway2life@gmail.com or 719-245-8593
URL:https://www.csanglican.com/calendar/mens-bible-study/2029-08-04/
LOCATION:Holy Cross Fellowship Hall\, 2713 W Cucharras St.\, Colorado Springs\, CO\, 80904\, United States
ATTACH;FMTTYPE=image/webp:https://www.csanglican.com/wp-content/uploads/2026/02/mens-bible-study.webp
END:VEVENT
END:VCALENDAR